BEGIN:VCALENDAR
VERSION:2.0
PRODID:-//Aish St. Louis - ECPv6.15.18//NONSGML v1.0//EN
CALSCALE:GREGORIAN
METHOD:PUBLISH
X-ORIGINAL-URL:https://aishstl.com
X-WR-CALDESC:Events for Aish St. Louis
REFRESH-INTERVAL;VALUE=DURATION:PT1H
X-Robots-Tag:noindex
X-PUBLISHED-TTL:PT1H
BEGIN:VTIMEZONE
TZID:America/Chicago
BEGIN:DAYLIGHT
TZOFFSETFROM:-0600
TZOFFSETTO:-0500
TZNAME:CDT
DTSTART:20250309T080000
END:DAYLIGHT
BEGIN:STANDARD
TZOFFSETFROM:-0500
TZOFFSETTO:-0600
TZNAME:CST
DTSTART:20251102T070000
END:STANDARD
BEGIN:DAYLIGHT
TZOFFSETFROM:-0600
TZOFFSETTO:-0500
TZNAME:CDT
DTSTART:20260308T080000
END:DAYLIGHT
BEGIN:STANDARD
TZOFFSETFROM:-0500
TZOFFSETTO:-0600
TZNAME:CST
DTSTART:20261101T070000
END:STANDARD
BEGIN:DAYLIGHT
TZOFFSETFROM:-0600
TZOFFSETTO:-0500
TZNAME:CDT
DTSTART:20270314T080000
END:DAYLIGHT
BEGIN:STANDARD
TZOFFSETFROM:-0500
TZOFFSETTO:-0600
TZNAME:CST
DTSTART:20271107T070000
END:STANDARD
END:VTIMEZONE
BEGIN:VEVENT
DTSTART;TZID=America/Chicago:20260428T203000
DTEND;TZID=America/Chicago:20260428T213000
DTSTAMP:20260420T125204
CREATED:20260407T034813Z
LAST-MODIFIED:20260417T044321Z
UID:10004865-1777408200-1777411800@aishstl.com
SUMMARY:Jewish Women's Society  --  Mamas in Pajamas with Mimi David Live on Zoom
DESCRIPTION:Join me from the comfort of your own home for another session of inspiration to discover Lessons for Ladies from the weekly Torah portion.  For more information or to RSVP\, call 314-862-2474 or email me at mdavid@aishstl.com.  zoom.us/j/9699246316  dial 1-312-626-6799\nmeeting ID 9699246316\nLooking forward\,\nMimi
URL:https://aishstl.com/event/jewish-womens-society-mamas-in-pajamas-with-mimi-david-live-zoom-conference-call-2026-4-28/
LOCATION:Zoom Webinar\, 457 N. Woods Mill Road\, Chesterfield\, MO\, 63017\, United States
ATTACH;FMTTYPE=image/jpeg:https://aishstl.com/wordpress/wp-content/uploads/2025/08/Mamas-in-Pajamas-Instagram-Post-1.jpg
ORGANIZER;CN="Jewish Women's Society":MAILTO:cwolff@aish.com
GEO:38.6653419;-90.5017726
X-APPLE-STRUCTURED-LOCATION;VALUE=URI;X-ADDRESS=Zoom Webinar 457 N. Woods Mill Road Chesterfield MO 63017 United States;X-APPLE-RADIUS=500;X-TITLE=457 N. Woods Mill Road:geo:-90.5017726,38.6653419
END:VEVENT
END:VCALENDAR