BEGIN:VCALENDAR
VERSION:2.0
PRODID:-//Aish St. Louis - ECPv6.15.18//NONSGML v1.0//EN
CALSCALE:GREGORIAN
METHOD:PUBLISH
X-ORIGINAL-URL:https://aishstl.com
X-WR-CALDESC:Events for Aish St. Louis
REFRESH-INTERVAL;VALUE=DURATION:PT1H
X-Robots-Tag:noindex
X-PUBLISHED-TTL:PT1H
BEGIN:VTIMEZONE
TZID:America/Chicago
BEGIN:DAYLIGHT
TZOFFSETFROM:-0600
TZOFFSETTO:-0500
TZNAME:CDT
DTSTART:20190310T080000
END:DAYLIGHT
BEGIN:STANDARD
TZOFFSETFROM:-0500
TZOFFSETTO:-0600
TZNAME:CST
DTSTART:20191103T070000
END:STANDARD
BEGIN:DAYLIGHT
TZOFFSETFROM:-0600
TZOFFSETTO:-0500
TZNAME:CDT
DTSTART:20200308T080000
END:DAYLIGHT
BEGIN:STANDARD
TZOFFSETFROM:-0500
TZOFFSETTO:-0600
TZNAME:CST
DTSTART:20201101T070000
END:STANDARD
BEGIN:DAYLIGHT
TZOFFSETFROM:-0600
TZOFFSETTO:-0500
TZNAME:CDT
DTSTART:20210314T080000
END:DAYLIGHT
BEGIN:STANDARD
TZOFFSETFROM:-0500
TZOFFSETTO:-0600
TZNAME:CST
DTSTART:20211107T070000
END:STANDARD
BEGIN:DAYLIGHT
TZOFFSETFROM:-0600
TZOFFSETTO:-0500
TZNAME:CDT
DTSTART:20220313T080000
END:DAYLIGHT
BEGIN:STANDARD
TZOFFSETFROM:-0500
TZOFFSETTO:-0600
TZNAME:CST
DTSTART:20221106T070000
END:STANDARD
BEGIN:DAYLIGHT
TZOFFSETFROM:-0600
TZOFFSETTO:-0500
TZNAME:CDT
DTSTART:20230312T080000
END:DAYLIGHT
BEGIN:STANDARD
TZOFFSETFROM:-0500
TZOFFSETTO:-0600
TZNAME:CST
DTSTART:20231105T070000
END:STANDARD
BEGIN:DAYLIGHT
TZOFFSETFROM:-0600
TZOFFSETTO:-0500
TZNAME:CDT
DTSTART:20240310T080000
END:DAYLIGHT
BEGIN:STANDARD
TZOFFSETFROM:-0500
TZOFFSETTO:-0600
TZNAME:CST
DTSTART:20241103T070000
END:STANDARD
END:VTIMEZONE
BEGIN:VEVENT
DTSTART;TZID=America/Chicago:20230915T185200
DTEND;TZID=America/Chicago:20230915T233000
DTSTAMP:20260421T185148
CREATED:20230728T161729Z
LAST-MODIFIED:20230827T192049Z
UID:10003424-1694803920-1694820600@aishstl.com
SUMMARY:Erev Rosh Hashana
DESCRIPTION:
URL:https://aishstl.com/event/erev-rosh-hashanah-3/
LOCATION:Your home
ATTACH;FMTTYPE=image/jpeg:https://aishstl.com/wordpress/wp-content/uploads/2019/08/flat-rosh-hashanah-element-vector-e1567105771990.jpg
ORGANIZER;CN="Aish Hatorah of St. Louis":MAILTO:cgoldstein@aishstl.com
END:VEVENT
BEGIN:VEVENT
DTSTART;VALUE=DATE:20230407
DTEND;VALUE=DATE:20230408
DTSTAMP:20260421T185148
CREATED:20230404T192955Z
LAST-MODIFIED:20230409T151233Z
UID:10003243-1680825600-1680911999@aishstl.com
SUMMARY:2nd Day Pesach -- Count Omer 2
DESCRIPTION:
URL:https://aishstl.com/event/2nd-day-pesach-count-omer-2/
LOCATION:Your home
END:VEVENT
BEGIN:VEVENT
DTSTART;TZID=America/Chicago:20230122T100000
DTEND;TZID=America/Chicago:20230122T120000
DTSTAMP:20260421T185148
CREATED:20230106T054138Z
LAST-MODIFIED:20230111T220534Z
UID:10003105-1674381600-1674388800@aishstl.com
SUMMARY:Zoom only -- Adult Sunday School with Rabbi Shmuel Greenwald\, Sunday\, January 22nd
DESCRIPTION:Join me from Israel this Sunday morning on zoom only to continue discovering how the lessons of the Torah help us manage the week ahead. I look forward to being together again at TICK next Sunday\, January 29th\, at 10 am.  Login:  zoom.us./j/3740953378    Meeting ID  3740953378   Dial in:  1-312-626-6799\nLooking forward\, \nShmuel Greenwald
URL:https://aishstl.com/event/no-aish-adult-sunday-school-with-rabbi-shmuel-greenwald-sunday-january-22nd/
LOCATION:Your home
ATTACH;FMTTYPE=image/jpeg:https://aishstl.com/wordpress/wp-content/uploads/2018/09/Rabbi-Greenwald3-1.jpg
ORGANIZER;CN="Aish Hatorah of St. Louis":MAILTO:cgoldstein@aishstl.com
END:VEVENT
BEGIN:VEVENT
DTSTART;VALUE=DATE:20221226
DTEND;VALUE=DATE:20221227
DTSTAMP:20260421T185148
CREATED:20221127T201930Z
LAST-MODIFIED:20221127T201930Z
UID:10003049-1672012800-1672099199@aishstl.com
SUMMARY:Chanukah -- 8th day
DESCRIPTION:
URL:https://aishstl.com/event/chanukah-8th-day-2/
LOCATION:Your home
ATTACH;FMTTYPE=image/jpeg:https://aishstl.com/wordpress/wp-content/uploads/2022/11/menorah6614f0f9041722ed72281f0a38d91c7a596431-e1669579411560.jpg
ORGANIZER;CN="Aish Hatorah of St. Louis":MAILTO:cgoldstein@aishstl.com
END:VEVENT
BEGIN:VEVENT
DTSTART;VALUE=DATE:20221225
DTEND;VALUE=DATE:20221226
DTSTAMP:20260421T185148
CREATED:20221127T200402Z
LAST-MODIFIED:20221127T201619Z
UID:10003041-1671926400-1672012799@aishstl.com
SUMMARY:Chanukah -- 8th candle
DESCRIPTION:
URL:https://aishstl.com/event/chanukah-1st-candle/
LOCATION:Your home
ATTACH;FMTTYPE=image/jpeg:https://aishstl.com/wordpress/wp-content/uploads/2022/11/menorah6614f0f9041722ed72281f0a38d91c7a596431-e1669579411560.jpg
ORGANIZER;CN="Aish Hatorah of St. Louis":MAILTO:cgoldstein@aishstl.com
END:VEVENT
BEGIN:VEVENT
DTSTART;TZID=America/Chicago:20221224T173000
DTEND;TZID=America/Chicago:20221224T233000
DTSTAMP:20260421T185148
CREATED:20221127T201436Z
LAST-MODIFIED:20221127T201436Z
UID:10003048-1671903000-1671924600@aishstl.com
SUMMARY:Chanukah -- 7th candle
DESCRIPTION:
URL:https://aishstl.com/event/chanukah-7th-candle-2/
LOCATION:Your home
ATTACH;FMTTYPE=image/jpeg:https://aishstl.com/wordpress/wp-content/uploads/2022/11/menorah6614f0f9041722ed72281f0a38d91c7a596431-e1669579411560.jpg
ORGANIZER;CN="Aish Hatorah of St. Louis":MAILTO:cgoldstein@aishstl.com
END:VEVENT
BEGIN:VEVENT
DTSTART;VALUE=DATE:20221223
DTEND;VALUE=DATE:20221224
DTSTAMP:20260421T185148
CREATED:20221127T201302Z
LAST-MODIFIED:20221127T201322Z
UID:10003042-1671753600-1671839999@aishstl.com
SUMMARY:Chanukah -- 6th candle
DESCRIPTION:
URL:https://aishstl.com/event/chanukah-6th-candle/
LOCATION:Your home
ATTACH;FMTTYPE=image/jpeg:https://aishstl.com/wordpress/wp-content/uploads/2022/11/menorah6614f0f9041722ed72281f0a38d91c7a596431-e1669579411560.jpg
ORGANIZER;CN="Aish Hatorah of St. Louis":MAILTO:cgoldstein@aishstl.com
END:VEVENT
BEGIN:VEVENT
DTSTART;VALUE=DATE:20221222
DTEND;VALUE=DATE:20221223
DTSTAMP:20260421T185148
CREATED:20221127T201123Z
LAST-MODIFIED:20221127T201123Z
UID:10003047-1671667200-1671753599@aishstl.com
SUMMARY:Chanukah -- 5th candle
DESCRIPTION:
URL:https://aishstl.com/event/chanukah-5th-candle-2/
LOCATION:Your home
ATTACH;FMTTYPE=image/jpeg:https://aishstl.com/wordpress/wp-content/uploads/2022/11/menorah6614f0f9041722ed72281f0a38d91c7a596431-e1669579411560.jpg
ORGANIZER;CN="Aish Hatorah of St. Louis":MAILTO:cgoldstein@aishstl.com
END:VEVENT
BEGIN:VEVENT
DTSTART;TZID=America/Chicago:20221221T180000
DTEND;TZID=America/Chicago:20221221T233000
DTSTAMP:20260421T185148
CREATED:20221127T201013Z
LAST-MODIFIED:20221127T201043Z
UID:10003044-1671645600-1671665400@aishstl.com
SUMMARY:Chanukah -- 4th candle
DESCRIPTION:
URL:https://aishstl.com/event/chanukah-4thcandle/
LOCATION:Your home
ATTACH;FMTTYPE=image/jpeg:https://aishstl.com/wordpress/wp-content/uploads/2022/11/menorah6614f0f9041722ed72281f0a38d91c7a596431-e1669579411560.jpg
ORGANIZER;CN="Aish Hatorah of St. Louis":MAILTO:cgoldstein@aishstl.com
END:VEVENT
BEGIN:VEVENT
DTSTART;VALUE=DATE:20221220
DTEND;VALUE=DATE:20221221
DTSTAMP:20260421T185148
CREATED:20221127T200621Z
LAST-MODIFIED:20221127T200936Z
UID:10003045-1671494400-1671580799@aishstl.com
SUMMARY:Chanukah -- 3rd candle
DESCRIPTION:
URL:https://aishstl.com/event/chanukah-1st-candle-2/
LOCATION:Your home
ATTACH;FMTTYPE=image/jpeg:https://aishstl.com/wordpress/wp-content/uploads/2022/11/menorah6614f0f9041722ed72281f0a38d91c7a596431-e1669579411560.jpg
ORGANIZER;CN="Aish Hatorah of St. Louis":MAILTO:cgoldstein@aishstl.com
END:VEVENT
BEGIN:VEVENT
DTSTART;VALUE=DATE:20221219
DTEND;VALUE=DATE:20221220
DTSTAMP:20260421T185148
CREATED:20221127T200851Z
LAST-MODIFIED:20221127T200851Z
UID:10003046-1671408000-1671494399@aishstl.com
SUMMARY:Chanukah -- 2nd candle
DESCRIPTION:
URL:https://aishstl.com/event/chanukah-2nd-candle-2/
LOCATION:Your home
ATTACH;FMTTYPE=image/jpeg:https://aishstl.com/wordpress/wp-content/uploads/2022/11/menorah6614f0f9041722ed72281f0a38d91c7a596431-e1669579411560.jpg
ORGANIZER;CN="Aish Hatorah of St. Louis":MAILTO:cgoldstein@aishstl.com
END:VEVENT
BEGIN:VEVENT
DTSTART;TZID=America/Chicago:20221218T180000
DTEND;TZID=America/Chicago:20221218T233000
DTSTAMP:20260421T185148
CREATED:20221127T201158Z
LAST-MODIFIED:20221127T201224Z
UID:10003043-1671386400-1671406200@aishstl.com
SUMMARY:Chanukah -- 1st candle
DESCRIPTION:
URL:https://aishstl.com/event/chanukah-1st-candle-3/
LOCATION:Your home
ATTACH;FMTTYPE=image/jpeg:https://aishstl.com/wordpress/wp-content/uploads/2022/11/menorah6614f0f9041722ed72281f0a38d91c7a596431-e1669579411560.jpg
ORGANIZER;CN="Aish Hatorah of St. Louis":MAILTO:cgoldstein@aishstl.com
END:VEVENT
BEGIN:VEVENT
DTSTART;TZID=America/Chicago:20210512T200000
DTEND;TZID=America/Chicago:20210512T210000
DTSTAMP:20260421T185148
CREATED:20210412T161259Z
LAST-MODIFIED:20210412T161259Z
UID:10002290-1620849600-1620853200@aishstl.com
SUMMARY:Jewish Women's Society -- Virtual Pre-Shavuos Class with Mimi David
DESCRIPTION:Join me for another enlightening and thought-provoking Pre-Shavuos class.\nzoom.us/j/9699246316\, dial in 1-312-626-6799\, meeting ID 9699246316.\nLooking forward\,\nMimi
URL:https://aishstl.com/event/jewish-womens-society-virtual-pre-shavuos-class-with-mimi-david/
LOCATION:Your home
ATTACH;FMTTYPE=image/jpeg:https://aishstl.com/wordpress/wp-content/uploads/2018/04/Cheesecake.jpg
ORGANIZER;CN="Aish Hatorah of St. Louis":MAILTO:cgoldstein@aishstl.com
END:VEVENT
BEGIN:VEVENT
DTSTART;TZID=America/Chicago:20200527T190000
DTEND;TZID=America/Chicago:20200527T200000
DTSTAMP:20260421T185148
CREATED:20200523T224821Z
LAST-MODIFIED:20200523T225134Z
UID:10001868-1590606000-1590609600@aishstl.com
SUMMARY:Preparing for Shavuos: The Importance of the Process with Mimi David on Aish.com/Live
DESCRIPTION:Join me for Part 3 of my series on Shavuos on Aish.com/Live. See the flyer below for the schedule of all the amazing online learning opportunities available this week. (Please note that the times listed on the flier are EDT (Eastern time) which is one hour ahead of St. Louis.)\nLooking forward\,\nMimi\nP.S. Please consider partnering with Aish during these challenging times as we continue to promote Jewish learning\, inspiration and education through programs\, lectures\, classes and individual attention. Please click here to donate. We appreciate any amount.
URL:https://aishstl.com/event/preparing-for-shavuos-the-importance-of-the-process-with-mimi-david-on-aish-com-live-2/
LOCATION:Your home
ATTACH;FMTTYPE=image/jpeg:https://aishstl.com/wordpress/wp-content/uploads/2020/03/Mimi-David4ec179ecb3d6323fc26931e600faf4e0738452.jpg
ORGANIZER;CN="Aish Hatorah of St. Louis":MAILTO:cgoldstein@aishstl.com
END:VEVENT
BEGIN:VEVENT
DTSTART;TZID=America/Chicago:20200518T193000
DTEND;TZID=America/Chicago:20200518T200000
DTSTAMP:20260421T185148
CREATED:20200523T223319Z
LAST-MODIFIED:20200523T223319Z
UID:10001867-1589830200-1589832000@aishstl.com
SUMMARY:Preparing for Shavuos: The Importance of the Process with Mimi David on Aish.com/Live
DESCRIPTION:I am excited to again be part of the great line up of speakers on Aish.com/Live at 7:00 pm (CDT) tonight for a discussion on Preparing for Shavuos: The Importance of the Process.  \nSee the flyer below for all the other amazing online learning opportunities available this week. \nAll the best\,\nMimi\n\nP.S. Please note that the times listed on the flier are EDT (Eastern time) which is one hour ahead of St. Louis.
URL:https://aishstl.com/event/preparing-for-shavuos-the-importance-of-the-process-with-mimi-david-on-aish-com-live/
LOCATION:Your home
ATTACH;FMTTYPE=image/jpeg:https://aishstl.com/wordpress/wp-content/uploads/2020/03/Mimi-David4ec179ecb3d6323fc26931e600faf4e0738452.jpg
ORGANIZER;CN="Aish Hatorah of St. Louis":MAILTO:cgoldstein@aishstl.com
END:VEVENT
BEGIN:VEVENT
DTSTART;TZID=America/Chicago:20200518T193000
DTEND;TZID=America/Chicago:20200518T200000
DTSTAMP:20260421T185148
CREATED:20200518T204900Z
LAST-MODIFIED:20200518T204900Z
UID:10001865-1589830200-1589832000@aishstl.com
SUMMARY:Preparing for Shavuos: The Little Mountain that Could with Mimi David on Aish.com/Live
DESCRIPTION:I am excited to again be part of the great line up of speakers on Aish.com/Live at 7:30 pm (CDT) tonight for a discussion on Preparing for Shavuos: The Little Mountain That Could.  \nSee the flyer below for all the other amazing online learning opportunities available this week. \nAll the best\,\nMimi\n\nP.S. Please note that the times listed on the flier are EDT (Eastern time) which is one hour ahead of St. Louis.
URL:https://aishstl.com/event/preparing-for-shavuos-the-little-mountain-that-could-with-mimi-david-on-aish-com-live/
LOCATION:Your home
ATTACH;FMTTYPE=image/jpeg:https://aishstl.com/wordpress/wp-content/uploads/2020/03/Mimi-David4ec179ecb3d6323fc26931e600faf4e0738452.jpg
ORGANIZER;CN="Aish Hatorah of St. Louis":MAILTO:cgoldstein@aishstl.com
END:VEVENT
END:VCALENDAR