BEGIN:VCALENDAR
VERSION:2.0
PRODID:-//Aish St. Louis - ECPv6.15.18//NONSGML v1.0//EN
CALSCALE:GREGORIAN
METHOD:PUBLISH
X-ORIGINAL-URL:https://aishstl.com
X-WR-CALDESC:Events for Aish St. Louis
REFRESH-INTERVAL;VALUE=DURATION:PT1H
X-Robots-Tag:noindex
X-PUBLISHED-TTL:PT1H
BEGIN:VTIMEZONE
TZID:America/Chicago
BEGIN:DAYLIGHT
TZOFFSETFROM:-0600
TZOFFSETTO:-0500
TZNAME:CDT
DTSTART:20200308T080000
END:DAYLIGHT
BEGIN:STANDARD
TZOFFSETFROM:-0500
TZOFFSETTO:-0600
TZNAME:CST
DTSTART:20201101T070000
END:STANDARD
BEGIN:DAYLIGHT
TZOFFSETFROM:-0600
TZOFFSETTO:-0500
TZNAME:CDT
DTSTART:20210314T080000
END:DAYLIGHT
BEGIN:STANDARD
TZOFFSETFROM:-0500
TZOFFSETTO:-0600
TZNAME:CST
DTSTART:20211107T070000
END:STANDARD
BEGIN:DAYLIGHT
TZOFFSETFROM:-0600
TZOFFSETTO:-0500
TZNAME:CDT
DTSTART:20220313T080000
END:DAYLIGHT
BEGIN:STANDARD
TZOFFSETFROM:-0500
TZOFFSETTO:-0600
TZNAME:CST
DTSTART:20221106T070000
END:STANDARD
BEGIN:DAYLIGHT
TZOFFSETFROM:-0600
TZOFFSETTO:-0500
TZNAME:CDT
DTSTART:20230312T080000
END:DAYLIGHT
BEGIN:STANDARD
TZOFFSETFROM:-0500
TZOFFSETTO:-0600
TZNAME:CST
DTSTART:20231105T070000
END:STANDARD
BEGIN:DAYLIGHT
TZOFFSETFROM:-0600
TZOFFSETTO:-0500
TZNAME:CDT
DTSTART:20240310T080000
END:DAYLIGHT
BEGIN:STANDARD
TZOFFSETFROM:-0500
TZOFFSETTO:-0600
TZNAME:CST
DTSTART:20241103T070000
END:STANDARD
BEGIN:DAYLIGHT
TZOFFSETFROM:-0600
TZOFFSETTO:-0500
TZNAME:CDT
DTSTART:20250309T080000
END:DAYLIGHT
BEGIN:STANDARD
TZOFFSETFROM:-0500
TZOFFSETTO:-0600
TZNAME:CST
DTSTART:20251102T070000
END:STANDARD
END:VTIMEZONE
BEGIN:VEVENT
DTSTART;VALUE=DATE:20240327
DTEND;VALUE=DATE:20240328
DTSTAMP:20260424T111120
CREATED:20240326T194630Z
LAST-MODIFIED:20240326T194630Z
UID:10003791-1711497600-1711583999@aishstl.com
SUMMARY:Day 27 -- "How to Be Super"
DESCRIPTION:
URL:https://aishstl.com/event/day-27-how-to-be-super/
LOCATION:Your home\, MO\, United States
ORGANIZER;CN="Aish Hatorah of St. Louis":MAILTO:cgoldstein@aishstl.com
GEO:37.9642529;-91.8318334
END:VEVENT
BEGIN:VEVENT
DTSTART;VALUE=DATE:20240303
DTEND;VALUE=DATE:20240304
DTSTAMP:20260424T111120
CREATED:20240307T201516Z
LAST-MODIFIED:20240307T211110Z
UID:10003760-1709424000-1709510399@aishstl.com
SUMMARY:Day 3 -- "You Got This"  Clean Speech STL Volume 3
DESCRIPTION:
URL:https://aishstl.com/event/clean-speech-stl-volume-3-day-3-you-got-this/
LOCATION:Your home\, MO\, United States
ORGANIZER;CN="Aish Hatorah of St. Louis":MAILTO:cgoldstein@aishstl.com
GEO:37.9642529;-91.8318334
END:VEVENT
BEGIN:VEVENT
DTSTART;VALUE=DATE:20240302
DTEND;VALUE=DATE:20240303
DTSTAMP:20260424T111120
CREATED:20240307T201303Z
LAST-MODIFIED:20240307T211048Z
UID:10003759-1709337600-1709423999@aishstl.com
SUMMARY:Day 2 -- "Defining Shalom"  Clean Speech STL Volume 3
DESCRIPTION:
URL:https://aishstl.com/event/clean-speech-stl-volume-3-day-2-defining-shalom/
LOCATION:Your home\, MO\, United States
ORGANIZER;CN="Aish Hatorah of St. Louis":MAILTO:cgoldstein@aishstl.com
GEO:37.9642529;-91.8318334
END:VEVENT
BEGIN:VEVENT
DTSTART;TZID=America/Chicago:20231006T181500
DTEND;TZID=America/Chicago:20231006T233000
DTSTAMP:20260424T111120
CREATED:20230917T204336Z
LAST-MODIFIED:20230917T205149Z
UID:10003478-1696616100-1696635000@aishstl.com
SUMMARY:Sukkot -- Hashanah Rabah  -- Erev Shemini Atzeret
DESCRIPTION:
URL:https://aishstl.com/event/sukkot-hashanah-rabah-erev-shmini-atzeret/
LOCATION:Your home\, MO\, United States
ORGANIZER;CN="Aish Hatorah of St. Louis":MAILTO:cgoldstein@aishstl.com
GEO:37.9642529;-91.8318334
END:VEVENT
BEGIN:VEVENT
DTSTART;VALUE=DATE:20230917
DTEND;VALUE=DATE:20230918
DTSTAMP:20260424T111120
CREATED:20230728T162029Z
LAST-MODIFIED:20230728T165132Z
UID:10003426-1694908800-1694995199@aishstl.com
SUMMARY:Rosh Hashanah -- Day 2
DESCRIPTION:
URL:https://aishstl.com/event/rosh-hashanah-day-2-2/
LOCATION:Your home\, MO\, United States
ATTACH;FMTTYPE=image/jpeg:https://aishstl.com/wordpress/wp-content/uploads/2019/08/flat-rosh-hashanah-element-vector-e1567105771990.jpg
ORGANIZER;CN="Aish Hatorah of St. Louis":MAILTO:cgoldstein@aishstl.com
GEO:37.9642529;-91.8318334
END:VEVENT
BEGIN:VEVENT
DTSTART;VALUE=DATE:20230408
DTEND;VALUE=DATE:20230409
DTSTAMP:20260424T111120
CREATED:20230404T193227Z
LAST-MODIFIED:20230409T150536Z
UID:10003244-1680912000-1680998399@aishstl.com
SUMMARY:Chol Hamoed -- Count Omer 3
DESCRIPTION:
URL:https://aishstl.com/event/chol-hamoed-count-omer-3/
LOCATION:Your home\, MO\, United States
ORGANIZER;CN="Aish Hatorah of St. Louis":MAILTO:cgoldstein@aishstl.com
GEO:37.9642529;-91.8318334
END:VEVENT
BEGIN:VEVENT
DTSTART;TZID=America/Chicago:20230406T201500
DTEND;TZID=America/Chicago:20230406T233000
DTSTAMP:20260424T111120
CREATED:20230404T192807Z
LAST-MODIFIED:20230404T193104Z
UID:10003242-1680812100-1680823800@aishstl.com
SUMMARY:1st Day Pesach -- 2nd Seder -- Count Omer 1
DESCRIPTION:
URL:https://aishstl.com/event/1st-day-pesach-2nd-seder/
LOCATION:Your home\, MO\, United States
ATTACH;FMTTYPE=image/jpeg:https://aishstl.com/wordpress/wp-content/uploads/2022/04/pesachb8513a805dfb38a11dd60c205cc92329306752.jpg
ORGANIZER;CN="Aish Hatorah of St. Louis":MAILTO:cgoldstein@aishstl.com
GEO:37.9642529;-91.8318334
END:VEVENT
BEGIN:VEVENT
DTSTART;TZID=America/Chicago:20210216T193000
DTEND;TZID=America/Chicago:20210216T203000
DTSTAMP:20260424T111120
CREATED:20210113T173905Z
LAST-MODIFIED:20210131T164440Z
UID:10002263-1613503800-1613507400@aishstl.com
SUMMARY:Dealing with Life's Mistakes -- Virtual 2-Part Series with Rabbi Shmuel Greenwald
DESCRIPTION:Join Rabbi Greenwald for this hands-on series to help us deal with our mistakes.  Are our guilty feelings positive or  negative?  What does Judaism say about how we can productively deal with our mistakes and learn from them?\nzoom.us/j/3740953378  Dial in:  1-312-626-6679\, meeting ID 3740953378
URL:https://aishstl.com/event/dealing-with-lifes-mistakes-virtual-2-part-series-with-rabbi-shmuel-greenwald/2021-02-16/
LOCATION:Your home\, MO\, United States
ORGANIZER;CN="Aish Hatorah of St. Louis":MAILTO:cgoldstein@aishstl.com
GEO:37.9642529;-91.8318334
END:VEVENT
BEGIN:VEVENT
DTSTART;TZID=America/Chicago:20210209T193000
DTEND;TZID=America/Chicago:20210209T203000
DTSTAMP:20260424T111120
CREATED:20210113T173905Z
LAST-MODIFIED:20210131T164440Z
UID:10002262-1612899000-1612902600@aishstl.com
SUMMARY:Dealing with Life's Mistakes -- Virtual 2-Part Series with Rabbi Shmuel Greenwald
DESCRIPTION:Join Rabbi Greenwald for this hands-on series to help us deal with our mistakes.  Are our guilty feelings positive or  negative?  What does Judaism say about how we can productively deal with our mistakes and learn from them?\nzoom.us/j/3740953378  Dial in:  1-312-626-6679\, meeting ID 3740953378
URL:https://aishstl.com/event/dealing-with-lifes-mistakes-virtual-2-part-series-with-rabbi-shmuel-greenwald/2021-02-09/
LOCATION:Your home\, MO\, United States
ORGANIZER;CN="Aish Hatorah of St. Louis":MAILTO:cgoldstein@aishstl.com
GEO:37.9642529;-91.8318334
END:VEVENT
END:VCALENDAR