BEGIN:VCALENDAR
VERSION:2.0
PRODID:-//Aish St. Louis - ECPv6.15.18//NONSGML v1.0//EN
CALSCALE:GREGORIAN
METHOD:PUBLISH
X-ORIGINAL-URL:https://aishstl.com
X-WR-CALDESC:Events for Aish St. Louis
REFRESH-INTERVAL;VALUE=DURATION:PT1H
X-Robots-Tag:noindex
X-PUBLISHED-TTL:PT1H
BEGIN:VTIMEZONE
TZID:America/Chicago
BEGIN:DAYLIGHT
TZOFFSETFROM:-0600
TZOFFSETTO:-0500
TZNAME:CDT
DTSTART:20210314T080000
END:DAYLIGHT
BEGIN:STANDARD
TZOFFSETFROM:-0500
TZOFFSETTO:-0600
TZNAME:CST
DTSTART:20211107T070000
END:STANDARD
BEGIN:DAYLIGHT
TZOFFSETFROM:-0600
TZOFFSETTO:-0500
TZNAME:CDT
DTSTART:20220313T080000
END:DAYLIGHT
BEGIN:STANDARD
TZOFFSETFROM:-0500
TZOFFSETTO:-0600
TZNAME:CST
DTSTART:20221106T070000
END:STANDARD
BEGIN:DAYLIGHT
TZOFFSETFROM:-0600
TZOFFSETTO:-0500
TZNAME:CDT
DTSTART:20230312T080000
END:DAYLIGHT
BEGIN:STANDARD
TZOFFSETFROM:-0500
TZOFFSETTO:-0600
TZNAME:CST
DTSTART:20231105T070000
END:STANDARD
BEGIN:DAYLIGHT
TZOFFSETFROM:-0600
TZOFFSETTO:-0500
TZNAME:CDT
DTSTART:20240310T080000
END:DAYLIGHT
BEGIN:STANDARD
TZOFFSETFROM:-0500
TZOFFSETTO:-0600
TZNAME:CST
DTSTART:20241103T070000
END:STANDARD
BEGIN:DAYLIGHT
TZOFFSETFROM:-0600
TZOFFSETTO:-0500
TZNAME:CDT
DTSTART:20250309T080000
END:DAYLIGHT
BEGIN:STANDARD
TZOFFSETFROM:-0500
TZOFFSETTO:-0600
TZNAME:CST
DTSTART:20251102T070000
END:STANDARD
BEGIN:DAYLIGHT
TZOFFSETFROM:-0600
TZOFFSETTO:-0500
TZNAME:CDT
DTSTART:20260308T080000
END:DAYLIGHT
BEGIN:STANDARD
TZOFFSETFROM:-0500
TZOFFSETTO:-0600
TZNAME:CST
DTSTART:20261101T070000
END:STANDARD
BEGIN:DAYLIGHT
TZOFFSETFROM:-0600
TZOFFSETTO:-0500
TZNAME:CDT
DTSTART:20270314T080000
END:DAYLIGHT
BEGIN:STANDARD
TZOFFSETFROM:-0500
TZOFFSETTO:-0600
TZNAME:CST
DTSTART:20271107T070000
END:STANDARD
END:VTIMEZONE
BEGIN:VEVENT
DTSTART;TZID=America/Chicago:20260320T173000
DTEND;TZID=America/Chicago:20260320T213000
DTSTAMP:20260420T193232
CREATED:20260313T195246Z
LAST-MODIFIED:20260317T135450Z
UID:10004788-1774027800-1774042200@aishstl.com
SUMMARY:Aish Shabbat Dinner Friday\, March 20 at Torah Prep Girls School
DESCRIPTION:You are warmly invited to join us with your family\, friends for a meaningful and enjoyable Shabbat Dinner  filled with delicious homemade challah\, loads of l’chaim’s\, an inviting atmosphere and community. \nSchedule March 20\, 2026 \n• Kabbalat Shabbat: 5:40 PM \n• Educational Service with Rabbi Shmuel Greenwald: 5:45 PM \n• Dinner & Candle Lighting: 6:30 PM \n• Location: Torah Prep Girls School\, 8136 Groby Road\, 63130 \n• RSVP by March 18: cgoldstein@aishstl.com | 314-862-2474 \n• Reserve here: • $36 per adult • $25 ages 12–18 • $18 ages 6–11 • Under 5\, free    Please note children’s ages in reservations \n• For sponsorship opportunities\, email me at ydavid@aishstl.com \nWe look forward to celebrating Shabbat together. \nAll the best\, \nYosef David
URL:https://aishstl.com/event/shabbat-dinner-israeli-wine-tasting-friday-february-20-at-u-city-shul-2/
LOCATION:Torah Prep Schools for Girls\, 8136 Groby Road\, St. Louis\, MO\, 63130\, United States
ATTACH;FMTTYPE=image/jpeg:https://aishstl.com/wordpress/wp-content/uploads/2019/09/Shabbat513527-e1584117002542.jpg
ORGANIZER;CN="Aish Hatorah of St. Louis":MAILTO:cgoldstein@aishstl.com
GEO:38.6674612;-90.3471117
X-APPLE-STRUCTURED-LOCATION;VALUE=URI;X-ADDRESS=Torah Prep Schools for Girls 8136 Groby Road St. Louis MO 63130 United States;X-APPLE-RADIUS=500;X-TITLE=8136 Groby Road:geo:-90.3471117,38.6674612
END:VEVENT
BEGIN:VEVENT
DTSTART;TZID=America/Chicago:20250602T110000
DTEND;TZID=America/Chicago:20250602T143000
DTSTAMP:20260420T193232
CREATED:20250516T171112Z
LAST-MODIFIED:20250523T163200Z
UID:10004429-1748862000-1748874600@aishstl.com
SUMMARY:Aish Shavuot Day of Learning
DESCRIPTION:Come with your family to our Shavuot celebration of our receiving the Torah as we spend the morning and afternoon learning with three amazing teachers — Rabbi Shmuel Greenwald and Dr. Dov & Mrs. Tziona Zeffren.  Children’s programming available for ages 5 – 12.  Babysitting available for children from birth to 4 years old.  Enjoy a kosher dairy lunch with cheesecake/ice cream dessert bar with all the toppings!\nDate:  Monday\, June 2\, 2025\nTime:  11 am – 2:30 pm\nLunch Cost:  $18/adult\, $12/child (5-12; under 4\, free) Family limit $50\n Location:  Torah Prep Girls School\, 8136 Groby Road\, University City\, 63130\nRSVP by May 29th to 314-862-2474\, cgoldstein@aishstl.com or click on the QR code on the flyer\n 
URL:https://aishstl.com/event/aish-shavuot-day-of-learning/
LOCATION:Torah Prep Schools for Girls\, 8136 Groby Road\, St. Louis\, MO\, 63130\, United States
ATTACH;FMTTYPE=image/jpeg:https://aishstl.com/wordpress/wp-content/uploads/2025/05/Updated-SHAVUOT-DAY-OF-LEARNING_20250515_152540_0000.jpg
ORGANIZER;CN="Aish Hatorah of St. Louis":MAILTO:cgoldstein@aishstl.com
GEO:38.6674612;-90.3471117
X-APPLE-STRUCTURED-LOCATION;VALUE=URI;X-ADDRESS=Torah Prep Schools for Girls 8136 Groby Road St. Louis MO 63130 United States;X-APPLE-RADIUS=500;X-TITLE=8136 Groby Road:geo:-90.3471117,38.6674612
END:VEVENT
BEGIN:VEVENT
DTSTART;TZID=America/Chicago:20241213T162000
DTEND;TZID=America/Chicago:20241213T210000
DTSTAMP:20260420T193232
CREATED:20241101T044722Z
LAST-MODIFIED:20250117T191946Z
UID:10004085-1734106800-1734123600@aishstl.com
SUMMARY:Aish's Family Shabbat Dinner hosted by Rabbi Yosef & Mimi David and Rabbi Shmuel & Chana Greenwald
DESCRIPTION:Bring your family and friends and share with us in the joy of Shabbat. Together\, we’ll enjoy homemade challah\, a delicious dinner\, plenty of l’chaim’s\, and much more in a cozy\, inviting atmosphere as we connect\, celebrate\, and create lasting memories.\nDate:  Friday\, December 13\, 2024\nCandle Lighting:  4:20 pm\nInteractive Learners’ Service with Rabbi Greenwald  5:00 pm\nDinner:  6:00 pm\nLocation:  Torah Prep School for Girls\, 8136 Groby Road\, St. Louis\, MO 63130\nCost:  $25/adult   $12/child(ren) ages 5 – 11 (under 5\, free)\nRSVP by Dec. 10 to 314-862-2474\, cgoldstein@aishstl.com or register here (please indicate Shabbat Dinner\, 2/7/25)\nSponsorships are available by emailing me at ydavid@aishstl.com\nWe look forward to celebrating with you!\nYosef
URL:https://aishstl.com/event/aishs-family-shabbat-dinner-hosted-by-rabbi-yosef-mimi-david-and-rabbi-shmuel-chana-greenwald/
LOCATION:Torah Prep Schools for Girls\, 8136 Groby Road\, St. Louis\, MO\, 63130\, United States
ATTACH;FMTTYPE=image/jpeg:https://aishstl.com/wordpress/wp-content/uploads/2024/10/Shabbos-Candels_vertical.jpg
ORGANIZER;CN="Aish Hatorah of St. Louis":MAILTO:cgoldstein@aishstl.com
GEO:38.6674612;-90.3471117
X-APPLE-STRUCTURED-LOCATION;VALUE=URI;X-ADDRESS=Torah Prep Schools for Girls 8136 Groby Road St. Louis MO 63130 United States;X-APPLE-RADIUS=500;X-TITLE=8136 Groby Road:geo:-90.3471117,38.6674612
END:VEVENT
BEGIN:VEVENT
DTSTART;TZID=America/Chicago:20240612T170000
DTEND;TZID=America/Chicago:20240612T190000
DTSTAMP:20260420T193232
CREATED:20240606T203404Z
LAST-MODIFIED:20240610T191656Z
UID:10003952-1718211600-1718218800@aishstl.com
SUMMARY:Aish's Shavuos Classes with Rabbi Yosef & Mimi David followed by an Ice Cream & Cheesecake Party! RSVP by noon tomorrow\, 6/11
DESCRIPTION:Celebrate the giving of the Torah together with your family and Aish as you attend two inspiring classes with Rabbi Yosef David and Mimi David\, followed by an Ice Cream & Cheesecake Party.  Babysitting available for children under 5.  If you have children over the age of 5\, let us know so we can have a program for them\, too.  Suggested donation $18     RSVP HERE or email cgoldstein@aishstl.com indicating the number of children and adults attending.   Torah Prep Girls School\, 8136 Groby Road\, 63130.  See more details below. \n \n  \n 
URL:https://aishstl.com/event/celebrate-with-aish-at-a-shavous-seminar-ice-cream-cheesecake-desserts-party/
LOCATION:Torah Prep Schools for Girls\, 8136 Groby Road\, St. Louis\, MO\, 63130\, United States
ATTACH;FMTTYPE=image/jpeg:https://aishstl.com/wordpress/wp-content/uploads/2020/04/Shavuot1902937d6d00da0-e1652199163941.jpg
ORGANIZER;CN="Aish Hatorah of St. Louis":MAILTO:cgoldstein@aishstl.com
GEO:38.6674612;-90.3471117
X-APPLE-STRUCTURED-LOCATION;VALUE=URI;X-ADDRESS=Torah Prep Schools for Girls 8136 Groby Road St. Louis MO 63130 United States;X-APPLE-RADIUS=500;X-TITLE=8136 Groby Road:geo:-90.3471117,38.6674612
END:VEVENT
BEGIN:VEVENT
DTSTART;TZID=America/Chicago:20240609T100000
DTEND;TZID=America/Chicago:20240609T120000
DTSTAMP:20260420T193232
CREATED:20240531T182311Z
LAST-MODIFIED:20240607T125638Z
UID:10003951-1717927200-1717934400@aishstl.com
SUMMARY:Revised Schedule:  Celebrate Shavuos with Aish at a Pre-Shavuos Seminar
DESCRIPTION:Celebrate the giving of the Torah with your family and Aish at this inspiring and educational program.  Adults choose classes from 3 amazing teachers.  Babysitting available for children under 5.  If you have children over the age of 5\, let us know so we can have a program for them\, too.  Suggested donation  $18  RSVP HERE by June 7th for one or both programs or email cgoldstein@aishstl.com indicating number of children and adults attending.  Location:  Torah Prep Girls School\, 8136 Groby Road\, 63130.  See more details below. \n \n 
URL:https://aishstl.com/event/celebrate-shavuos-with-aish-at-a-pre-shavuos-seminar-childrens-program/
LOCATION:Torah Prep Schools for Girls\, 8136 Groby Road\, St. Louis\, MO\, 63130\, United States
ATTACH;FMTTYPE=image/jpeg:https://aishstl.com/wordpress/wp-content/uploads/2020/04/Shavuot1902937d6d00da0-e1652199163941.jpg
ORGANIZER;CN="Aish Hatorah of St. Louis":MAILTO:cgoldstein@aishstl.com
GEO:38.6674612;-90.3471117
X-APPLE-STRUCTURED-LOCATION;VALUE=URI;X-ADDRESS=Torah Prep Schools for Girls 8136 Groby Road St. Louis MO 63130 United States;X-APPLE-RADIUS=500;X-TITLE=8136 Groby Road:geo:-90.3471117,38.6674612
END:VEVENT
BEGIN:VEVENT
DTSTART;TZID=America/Chicago:20230527T100000
DTEND;TZID=America/Chicago:20230527T143000
DTSTAMP:20260420T193232
CREATED:20230427T211404Z
LAST-MODIFIED:20230517T154746Z
UID:10003308-1685181600-1685197800@aishstl.com
SUMMARY:2nd Day Shavuos Seminars & Exciting Children's Program\, Saturday\, May 27th\, Torah Prep Girls' School
DESCRIPTION:Celebrate the giving of the Torah with the whole family!  Adults choose classes from five amazing teachers.  Children’s Program (ages 5 – 12) plus babysitting for children under 5.  Delicious Shabbat lunch.  Cost $18/adult\, $12/child ages 5-12 (under 5 free) – Family limit $50.  Torah Prep Girls’ School\, 8136 Groby Road\, University City\, MO 63130. RSVP required by Wednesday\, May 24th by clicking here\, calling 314-862-2474 or emailing cwolff@aish.com.  See flier below for more details.
URL:https://aishstl.com/event/shavuot-seminars-exciting-childrens-program-saturday-may-27th-torah-prep-girls-school/
LOCATION:Torah Prep Schools for Girls\, 8136 Groby Road\, St. Louis\, MO\, 63130\, United States
ATTACH;FMTTYPE=image/jpeg:https://aishstl.com/wordpress/wp-content/uploads/2020/04/Shavuot1902937d6d00da0-e1652199163941.jpg
ORGANIZER;CN="Aish Hatorah of St. Louis":MAILTO:cgoldstein@aishstl.com
GEO:38.6674612;-90.3471117
X-APPLE-STRUCTURED-LOCATION;VALUE=URI;X-ADDRESS=Torah Prep Schools for Girls 8136 Groby Road St. Louis MO 63130 United States;X-APPLE-RADIUS=500;X-TITLE=8136 Groby Road:geo:-90.3471117,38.6674612
END:VEVENT
BEGIN:VEVENT
DTSTART;TZID=America/Chicago:20221226T100000
DTEND;TZID=America/Chicago:20221226T150000
DTSTAMP:20260420T193232
CREATED:20221204T200554Z
LAST-MODIFIED:20221220T040507Z
UID:10003056-1672048800-1672066800@aishstl.com
SUMMARY:Two-Day Seminar for the whole family -- Sun.\, Dec. 25th & Mon.\, Dec. 26th at Torah Prep Girls' School
DESCRIPTION:Aish Seminar on Jewish Wisdom for the Living 10 am – 3 pm featuring Rabbi Leiby Burnham and Rabbi Cary A. Friedman at Torah Prep School for Girls\, 8136 Groby Road\, UCity\, MO 63130\nRegister here\nCost:  $36 for both days (seminars)   $20 for one day  (seminars)\nLunch:  Sunday: Kosher Chinese:  $20/adult   $10/child (5-11; under 5 free)\nMonday: Deli & salad bar: $15/adult  $7.50/child (5-11; under 5 free)\nFor more information or to RSVP\, call 314-862-2474 or cwolff@aish.com.  Rabbi Friedman’s books will also be available for purchase.   \nSCHEDULE  — ADULTS \nSunday\, December 15th \n10:00       Check-in\n10:15 – 11:00   7 Wonders of the Jewish People – Part 1   Rabbi Leiby Burnham\nJoin us on a fascinating exploration of who we are\, how we got here and what we should do about it.\n11:15 – 12:15   7 Wonders of the Jewish People – Part 2   Rabbi Leiby Burnham\n12:15 – 1:00   Kosher Chinese Lunch\n1:15 – 2:00   A Rabbi’s Journey to Quantico: Bringing Spirituality to the FBI  Rabbi Cary Friedman\nRabbi Friedman describes the challenges that officers face and the powerful tools he has designed from Torah insights to provide fortification and nourishment for law enforcement officers all around the world\n2:15 – 3:00   Wisdom from the Batcave:  Torah Lessons from the Batman   Rabbi Cary Friedman\nWisdom from the Batcave analyzes the life philosophy that emerges from Batman comic books.  The Batman’s example is used to teach profound truths and how to live a better life\n2:15 – 3:00   A Happier Day in 30 Seconds:  The Billion Dollar Guarantee   Rabbi Leiby Burnham\nYes\, do learn this one 30-second exercise\, do it daily and if you’re not happier\, come back to me for a billion dollars. \n  \nMonday\, December 26th  \n10:00 am     Check-in\n10:15 – 11:00   Parenting:  Education versus control   Rabbi Leiby Burnham\nWhat is education in Jewish thought?  How do we determine if we are educating or controlling our children\, and what are the outcomes of each system?\n11:15 – 12:15   Parenting:  3 Pillars of Discipline   Rabbi Leiby Burnham\nOur children need discipline\, but only in a disciplined way!  Why do our children crave discipline\, and how do we deliver it most effectively?\n12:15 – 1:00   “Make Your Own Sandwich & Salad” Lunch\n1:00 – 1:45    The Rising Cost of Happiness  Rabbi Leiby Burnham\nHappiness is the most sought after commodity today\, but also the most elusive.  Why do we have such trouble achieving happiness?  Join us for an interactive experience where you work with a team to engineer happiness and uncover its roots.\n1:00 – 2:00  Enhancing Relationships: Achieving Intimacy  Rabbi Cary Friedman\nExplore issues of Jewish marriage\, relationships\, pleasure and intimacy\n2:15 – 3:00   Eating:  Thought for Food      Rabbi Cary Friedman\nEating is a complex process!  Many people reenact powerful emotional dramas when they eat:  they look to food to satisfy many needs beyond its obvious purpose of providing physical sustenance.  The Torah literature teaches us how to use food in healthy ways that nourish both our bodies and our souls. \nSCHEDULE — KIDS WILL HAVE A BLAST!  \nSunday\, December 25th\n10:15 – 11:15    Chanukah crafts and learning\n11:15 –  12:15    Games in the gym\n12:15 – 1:00      Kosher Chinese Lunch with family\n1:00   –  2:00     Chanukah Donut Decorating\n2:00  –   3:00     Games in the gym  \nMonday\, December 26th\n10:15 – 12:15     Arcade Truck  (ages 8+)   Inflatable Slide (ages 7 and under)\n12:15 – 1:00      Deli Lunch with family\n1:00   –  2:00     Mad Science “Fire and Ice”\n2:00   –  3:00     Games in the gym\n**Kids will be separated by age:  0 – 4     5 – 7     8 – 12** 
URL:https://aishstl.com/event/two-day-seminar-for-the-whole-family-sun-dec-25th-mon-dec-26th-at-torah-prep-girls-school/
LOCATION:Torah Prep Schools for Girls\, 8136 Groby Road\, St. Louis\, MO\, 63130\, United States
ATTACH;FMTTYPE=image/jpeg:https://aishstl.com/wordpress/wp-content/uploads/2022/11/Sunrise-over-the-Earth-for-Aish-website-event.jpg
ORGANIZER;CN="Aish Hatorah of St. Louis":MAILTO:cgoldstein@aishstl.com
GEO:38.6674612;-90.3471117
X-APPLE-STRUCTURED-LOCATION;VALUE=URI;X-ADDRESS=Torah Prep Schools for Girls 8136 Groby Road St. Louis MO 63130 United States;X-APPLE-RADIUS=500;X-TITLE=8136 Groby Road:geo:-90.3471117,38.6674612
END:VEVENT
BEGIN:VEVENT
DTSTART;TZID=America/Chicago:20221225T100000
DTEND;TZID=America/Chicago:20221225T150000
DTSTAMP:20260420T193232
CREATED:20221204T201004Z
LAST-MODIFIED:20221220T040355Z
UID:10003050-1671962400-1671980400@aishstl.com
SUMMARY:Two-Day Seminar for the whole family -- Sun.\, Dec. 25th & Mon.\, Dec. 26th at Torah Prep
DESCRIPTION:Aish Seminar on Jewish Wisdom for the Living 10 am – 3 pm  featuring Rabbi Leiby Burnham and Rabbi Cary A. Friedman at Torah Prep School for Girls\, 8136 Groby Road\, UCity\, MO 63130\nRegister here\nCost:  $36 for both days (seminars)   $20 for one day  (seminars)\nLunch:  Sunday: Kosher Chinese:  $20/adult   $10/child (5-11; under 5 free)\nMonday: Deli & salad bar: $15/adult  $7.50/child (5-11; under 5 free)\nFor more information or to RSVP\, call 314-862-2474 or cwolff@aish.com.  Rabbi Friedman’s books will also be available for purchase.   \nSCHEDULE  — ADULTS \nSunday\, December 15th \n10:00       Check-in\n10:15 – 11:00   7 Wonders of the Jewish People – Part 1   Rabbi Leiby Burnham\nJoin us on a fascinating exploration of who we are\, how we got here and what we should do about it.\n11:15 – 12:15   7 Wonders of the Jewish People – Part 2   Rabbi Leiby Burnham\n12:15 – 1:00   Kosher Chinese Lunch\n1:15 – 2:00   A Rabbi’s Journey to Quantico: Bringing Spirituality to the FBI  Rabbi Cary Friedman\nRabbi Friedman describes the challenges that officers face and the powerful tools he has designed from Torah insights to provide fortification and nourishment for law enforcement officers all around the world\n2:15 – 3:00   Wisdom from the Batcave:  Torah Lessons from the Batman   Rabbi Cary Friedman\nWisdom from the Batcave analyzes the life philosophy that emerges from Batman comic books.  The Batman’s example is used to teach profound truths and how to live a better life\n2:15 – 3:00   A Happier Day in 30 Seconds:  The Billion Dollar Guarantee   Rabbi Leiby Burnham\nYes\, do learn this one 30-second exercise\, do it daily and if you’re not happier\, come back to me for a billion dollars. \n  \nMonday\, December 26th  \n10:00 am     Check-in\n10:15 – 11:00   Parenting:  Education versus control   Rabbi Leiby Burnham\nWhat is education in Jewish thought?  How do we determine if we are educating or controlling our children\, and what are the outcomes of each system?\n11:15 – 12:15   Parenting:  3 Pillars of Discipline   Rabbi Leiby Burnham\nOur children need discipline\, but only in a disciplined way!  Why do our children crave discipline\, and how do we deliver it most effectively?\n12:15 – 1:00   “Make Your Own Sandwich & Salad” Lunch\n1:00 – 1:45    The Rising Cost of Happiness  Rabbi Leiby Burnham\nHappiness is the most sought after commodity today\, but also the most elusive.  Why do we have such trouble achieving happiness?  Join us for an interactive experience where you work with a team to engineer happiness and uncover its roots.\n1:00 – 2:00  Enhancing Relationships: Achieving Intimacy  Rabbi Cary Friedman\nExplore issues of Jewish marriage\, relationships\, pleasure and intimacy\n2:15 – 3:00   Eating:  Thought for Food      Rabbi Cary Friedman\nEating is a complex process!  Many people reenact powerful emotional dramas when they eat:  they look to food to satisfy many needs beyond its obvious purpose of providing physical sustenance.  The Torah literature teaches us how to use food in healthy ways that nourish both our bodies and our souls. \nSCHEDULE — KIDS WILL HAVE A BLAST!  \nSunday\, December 25th\n10:15 – 11:15    Chanukah crafts and learning\n11:15 –  12:15    Games in the gym\n12:15 – 1:00      Kosher Chinese Lunch with family\n1:00   –  2:00     Chanukah Donut Decorating\n2:00  –   3:00     Games in the gym  \nMonday\, December 26th\n10:15 – 12:15     Arcade Truck  (ages 8+)   Inflatable Slide (ages 7 and under)\n12:15 – 1:00      Deli Lunch with family\n1:00   –  2:00     Mad Science “Fire and Ice”\n2:00   –  3:00     Games in the gym\n**Kids will be separated by age:  0 – 4     5 – 7     8 – 12** 
URL:https://aishstl.com/event/two-day-seminar-for-the-whole-family-sun-dec-25th-mon-dec-26th-at-torah-prep-2/
LOCATION:Torah Prep Schools for Girls\, 8136 Groby Road\, St. Louis\, MO\, 63130\, United States
ATTACH;FMTTYPE=image/jpeg:https://aishstl.com/wordpress/wp-content/uploads/2022/11/Sunrise-over-the-Earth-for-Aish-website-event.jpg
ORGANIZER;CN="Aish Hatorah of St. Louis":MAILTO:cgoldstein@aishstl.com
GEO:38.6674612;-90.3471117
X-APPLE-STRUCTURED-LOCATION;VALUE=URI;X-ADDRESS=Torah Prep Schools for Girls 8136 Groby Road St. Louis MO 63130 United States;X-APPLE-RADIUS=500;X-TITLE=8136 Groby Road:geo:-90.3471117,38.6674612
END:VEVENT
BEGIN:VEVENT
DTSTART;TZID=America/Chicago:20221104T173000
DTEND;TZID=America/Chicago:20221104T210000
DTSTAMP:20260420T193232
CREATED:20221014T162518Z
LAST-MODIFIED:20221104T150447Z
UID:10002913-1667583000-1667595600@aishstl.com
SUMMARY:Aish's Family Chinese Shabbat Dinner at Torah Prep Girls' School
DESCRIPTION:We invite you\, your family and friends to come together for a Chinese Shabbat dinner with delicious homemade challah\, lively discussions and plenty of l’chaims! \nCandlelighting at 5:30 pm  followed by a Learners’ Service  at 5:45 pm and dinner at 6:30 pm  Cost:  $20/adult  $12/child (ages 5 – 12; under 5\, Free)  To RSVP and pay by November 2nd\, click here. For questions\, call the Aish office at 314-862-2474 or email cwolff@aish.com.\nLocation:  Torah Prep Girls’ School\, 8136 Groby Road\, St. Louis\, MO 63130\nI look forward to seeing you there. \nYosef\n\nNo masks required.  However\, please do not attend if you are not feeling well or have been exposed to anyone who has or has exhibited symptoms for Covid-19.
URL:https://aishstl.com/event/aishs-family-shabbat-dinner-at-torah-prep-girls-school/
LOCATION:Torah Prep Schools for Girls\, 8136 Groby Road\, St. Louis\, MO\, 63130\, United States
ATTACH;FMTTYPE=image/jpeg:https://aishstl.com/wordpress/wp-content/uploads/2018/04/stock-vector-vector-illustration-for-two-burning-shabbat-candles-and-shabbat-shalom-words-shabbat-candlesticks-1363284329-e1584117881117.jpg
ORGANIZER;CN="Aish Hatorah of St. Louis":MAILTO:cgoldstein@aishstl.com
GEO:38.6674612;-90.3471117
X-APPLE-STRUCTURED-LOCATION;VALUE=URI;X-ADDRESS=Torah Prep Schools for Girls 8136 Groby Road St. Louis MO 63130 United States;X-APPLE-RADIUS=500;X-TITLE=8136 Groby Road:geo:-90.3471117,38.6674612
END:VEVENT
BEGIN:VEVENT
DTSTART;TZID=America/Chicago:20220925T183000
DTEND;TZID=America/Chicago:20220925T213000
DTSTAMP:20260420T193232
CREATED:20220829T193543Z
LAST-MODIFIED:20220916T163522Z
UID:10002863-1664130600-1664141400@aishstl.com
SUMMARY:Reserve by Sept. 22nd -- Rosh Hashana Dinner with Aish
DESCRIPTION:Let’s bring in the Jewish New Year 5783 together!  Join us for an inspiring and meaningful Rosh HaShana Dinner at Torah Prep Girls’ School\, 8136 Groby Road\, St. Louis\, MO 63130.\n6:30 Candle lighting followed by Education Learners’ Service lead by Rabbi Shmuel Greenwald and dinner with delicious homemade challah at 7:30 pm\nCost:  $25/adult\, $15/child ages 5 – 11 (4 and under\, free)  RSVP by September 22nd to 314-862-2474 or by email to cwolff@aish.com
URL:https://aishstl.com/event/rosh-hashana-dinner-hosted-by-rabbi-yosef-mimi-david-and-rabbi-shmuel-chana-greenwald/
LOCATION:Torah Prep Schools for Girls\, 8136 Groby Road\, St. Louis\, MO\, 63130\, United States
ATTACH;FMTTYPE=image/jpeg:https://aishstl.com/wordpress/wp-content/uploads/2019/08/flat-rosh-hashanah-element-vector-e1567105771990.jpg
ORGANIZER;CN="Aish Hatorah of St. Louis":MAILTO:cgoldstein@aishstl.com
GEO:38.6674612;-90.3471117
X-APPLE-STRUCTURED-LOCATION;VALUE=URI;X-ADDRESS=Torah Prep Schools for Girls 8136 Groby Road St. Louis MO 63130 United States;X-APPLE-RADIUS=500;X-TITLE=8136 Groby Road:geo:-90.3471117,38.6674612
END:VEVENT
BEGIN:VEVENT
DTSTART;TZID=America/Chicago:20220909T181500
DTEND;TZID=America/Chicago:20220909T213000
DTSTAMP:20260420T193232
CREATED:20220826T142718Z
LAST-MODIFIED:20220826T142718Z
UID:10002858-1662747300-1662759000@aishstl.com
SUMMARY:Aish Shabbat Dinner at Torah Prep\, Friday\, September 9\, 2022 hosted by Rabbi Yosef & Mimi David and Rabbi Shmuel & Chana Greenwald
DESCRIPTION:We invite you\, your family and friends to come together for a beautiful Shabbat dinner with delicious homemade challah\, lively discussions and plenty of l’chaims!  Candle lighting: 6:15 pm   Rabbi Greenwald’s Interactive Learners’ Service  6:30 pm      Dinner at 7:oo pm   Location:  Torah Prep Girl’s School\, 8136 Groby Road\, St. Louis\, MO 63130\nCost:  $20/adult  $12/child ages 5 – 12 (under 5\, Free)  RSVP by September 6th to 314-862-2474 or by email to cwolff@gmail.com.  I look forward to seeing you there. \nYosef
URL:https://aishstl.com/event/aish-shabbat-dinner-at-torah-prep-friday-september-9-2022-hosted-by-rabbi-yosef-mimi-david-and-rabbi-shmuel-chana-greenwald/
LOCATION:Torah Prep Schools for Girls\, 8136 Groby Road\, St. Louis\, MO\, 63130\, United States
ATTACH;FMTTYPE=image/jpeg:https://aishstl.com/wordpress/wp-content/uploads/2018/04/stock-vector-vector-illustration-for-two-burning-shabbat-candles-and-shabbat-shalom-words-shabbat-candlesticks-1363284329-e1584117881117.jpg
ORGANIZER;CN="Aish Hatorah of St. Louis":MAILTO:cgoldstein@aishstl.com
GEO:38.6674612;-90.3471117
X-APPLE-STRUCTURED-LOCATION;VALUE=URI;X-ADDRESS=Torah Prep Schools for Girls 8136 Groby Road St. Louis MO 63130 United States;X-APPLE-RADIUS=500;X-TITLE=8136 Groby Road:geo:-90.3471117,38.6674612
END:VEVENT
BEGIN:VEVENT
DTSTART;TZID=America/Chicago:20220605T111500
DTEND;TZID=America/Chicago:20220605T150000
DTSTAMP:20260420T193232
CREATED:20220520T143648Z
LAST-MODIFIED:20220602T181641Z
UID:10002824-1654427700-1654441200@aishstl.com
SUMMARY:Shavuos Day Seminar with Rabbi Yosef & Mimi David\, Rabbi Shmuel Greenwald & Rabbi Shmuel & Dvorah Miller
DESCRIPTION:Join Aish’s Shavuot Seminar and exciting Children’s Program at Torah Prep Girl’s School with Rabbi Yosef & Mrs. Mimi David\, Rabbi Shmuel Greenwald and Special Guest Lecturers Rabbi Shmuel & Mrs. Dvorah Miller of Epstein Hebrew Academy.  Choose a class in the morning from 11:30 am – 12:15 pm and in the afternoon from 2:00 pm – 2:45 pm.  Enjoy a delicious dairy lunch from 12:30 pm – 1:45 pm with cheesecake & ice cream bar for dessert.  Children’s Program (5 -12 years old) in both the morning and afternoon; babysitting available for children 4 and under (free).  Cost: $18/adult\, $12/child (4 and under\, free).  For more information and to RSVP\, call 314-862-2474 or email cwolff@aish.com.
URL:https://aishstl.com/event/shavuos-day-seminar-with-rabbi-yosef-mimi-david-rabbi-shmuel-greenwald-rabbi-shmuel-dvorah-miller/
LOCATION:Torah Prep Schools for Girls\, 8136 Groby Road\, St. Louis\, MO\, 63130\, United States
ATTACH;FMTTYPE=image/jpeg:https://aishstl.com/wordpress/wp-content/uploads/2020/04/Shavuot1902937d6d00da0-e1652199163941.jpg
ORGANIZER;CN="Aish Hatorah of St. Louis":MAILTO:cgoldstein@aishstl.com
GEO:38.6674612;-90.3471117
X-APPLE-STRUCTURED-LOCATION;VALUE=URI;X-ADDRESS=Torah Prep Schools for Girls 8136 Groby Road St. Louis MO 63130 United States;X-APPLE-RADIUS=500;X-TITLE=8136 Groby Road:geo:-90.3471117,38.6674612
END:VEVENT
END:VCALENDAR