BEGIN:VCALENDAR
VERSION:2.0
PRODID:-//Aish St. Louis - ECPv6.15.18//NONSGML v1.0//EN
CALSCALE:GREGORIAN
METHOD:PUBLISH
X-ORIGINAL-URL:https://aishstl.com
X-WR-CALDESC:Events for Aish St. Louis
REFRESH-INTERVAL;VALUE=DURATION:PT1H
X-Robots-Tag:noindex
X-PUBLISHED-TTL:PT1H
BEGIN:VTIMEZONE
TZID:America/Chicago
BEGIN:DAYLIGHT
TZOFFSETFROM:-0600
TZOFFSETTO:-0500
TZNAME:CDT
DTSTART:20200308T080000
END:DAYLIGHT
BEGIN:STANDARD
TZOFFSETFROM:-0500
TZOFFSETTO:-0600
TZNAME:CST
DTSTART:20201101T070000
END:STANDARD
BEGIN:DAYLIGHT
TZOFFSETFROM:-0600
TZOFFSETTO:-0500
TZNAME:CDT
DTSTART:20210314T080000
END:DAYLIGHT
BEGIN:STANDARD
TZOFFSETFROM:-0500
TZOFFSETTO:-0600
TZNAME:CST
DTSTART:20211107T070000
END:STANDARD
BEGIN:DAYLIGHT
TZOFFSETFROM:-0600
TZOFFSETTO:-0500
TZNAME:CDT
DTSTART:20220313T080000
END:DAYLIGHT
BEGIN:STANDARD
TZOFFSETFROM:-0500
TZOFFSETTO:-0600
TZNAME:CST
DTSTART:20221106T070000
END:STANDARD
BEGIN:DAYLIGHT
TZOFFSETFROM:-0600
TZOFFSETTO:-0500
TZNAME:CDT
DTSTART:20230312T080000
END:DAYLIGHT
BEGIN:STANDARD
TZOFFSETFROM:-0500
TZOFFSETTO:-0600
TZNAME:CST
DTSTART:20231105T070000
END:STANDARD
BEGIN:DAYLIGHT
TZOFFSETFROM:-0600
TZOFFSETTO:-0500
TZNAME:CDT
DTSTART:20240310T080000
END:DAYLIGHT
BEGIN:STANDARD
TZOFFSETFROM:-0500
TZOFFSETTO:-0600
TZNAME:CST
DTSTART:20241103T070000
END:STANDARD
BEGIN:DAYLIGHT
TZOFFSETFROM:-0600
TZOFFSETTO:-0500
TZNAME:CDT
DTSTART:20250309T080000
END:DAYLIGHT
BEGIN:STANDARD
TZOFFSETFROM:-0500
TZOFFSETTO:-0600
TZNAME:CST
DTSTART:20251102T070000
END:STANDARD
BEGIN:DAYLIGHT
TZOFFSETFROM:-0600
TZOFFSETTO:-0500
TZNAME:CDT
DTSTART:20260308T080000
END:DAYLIGHT
BEGIN:STANDARD
TZOFFSETFROM:-0500
TZOFFSETTO:-0600
TZNAME:CST
DTSTART:20261101T070000
END:STANDARD
END:VTIMEZONE
BEGIN:VTIMEZONE
TZID:UTC
BEGIN:STANDARD
TZOFFSETFROM:+0000
TZOFFSETTO:+0000
TZNAME:UTC
DTSTART:20180101T000000
END:STANDARD
END:VTIMEZONE
BEGIN:VEVENT
DTSTART;VALUE=DATE:20250803
DTEND;VALUE=DATE:20250804
DTSTAMP:20260424T105445
CREATED:20250804T001415Z
LAST-MODIFIED:20250804T023644Z
UID:10004523-1754179200-1754265599@aishstl.com
SUMMARY:No Rhythm'N'Ruach Session August 3rd
DESCRIPTION:We won’t have a session for the next two Sundays; join me again as we continue Rhythm’N’Ruach’s interactive joyful music experience through music and movement for parents and children from birth to 6 years old.  \nDates:  Sunday\, August 17th.   New End Date:  August 31st\nRSVP:  314-862-2474 or email sdean@aishstl.com for address as next week’s class will be in a private home\nLooking forward\,\nMorah Shelley
URL:https://aishstl.com/event/no-rhythmnruach-session-august-10th/
LOCATION:To be announced\, MO\, United States
ATTACH;FMTTYPE=image/jpeg:https://aishstl.com/wordpress/wp-content/uploads/2025/06/new-flyer-RNR-summer-518000936_10163866550914524_7249518688387097752_n.jpg
ORGANIZER;CN="Aish Hatorah of St. Louis":MAILTO:cgoldstein@aishstl.com
GEO:37.9642529;-91.8318334
END:VEVENT
BEGIN:VEVENT
DTSTART;VALUE=DATE:20220313
DTEND;VALUE=DATE:20220314
DTSTAMP:20260424T105445
CREATED:20220303T051805Z
LAST-MODIFIED:20220311T161523Z
UID:10002691-1647129600-1647215999@aishstl.com
SUMMARY:No Meeting Adult Sunday class with Rabbi Shmuel Greenwald
DESCRIPTION:My Adult class won’t be meeting this Sunday.  I invite you to join me again next Sunday to continue learning the lessons of the Torah that help us prepare for the new week ahead. For more information\, call Aish at 314-862-2474 or email me at sgreenwald@aish.com.  Masks required at TICK. Tpheris Israel Chevra Kadisha\, 14550 Ladue Road\, Chesterfield\, MO 63017\nzoom.us/j/3740953378    Dial in:  1-312-626-6799\, 3740953378\nLooking forward\,\nShmuel
URL:https://aishstl.com/event/aish-adult-sunday-class-with-rabbi-shmuel-greenwald/
LOCATION:To be announced\, MO\, United States
ATTACH;FMTTYPE=image/jpeg:https://aishstl.com/wordpress/wp-content/uploads/2018/09/Rabbi-Greenwald3-1.jpg
ORGANIZER;CN="Aish Hatorah of St. Louis":MAILTO:cgoldstein@aishstl.com
GEO:37.9642529;-91.8318334
END:VEVENT
BEGIN:VEVENT
DTSTART;TZID=America/Chicago:20220306T100000
DTEND;TZID=America/Chicago:20220306T120000
DTSTAMP:20260424T105445
CREATED:20210921T145833Z
LAST-MODIFIED:20220303T051356Z
UID:10002621-1646560800-1646568000@aishstl.com
SUMMARY:Aish Adult Sunday class with Rabbi Greenwald
DESCRIPTION:Join me this Sunday morning in person at TICK or on zoom when I present a special class “Purim — A 2\,500-year-old story completely relevant today!”  For more information\, call Aish at 314-862-2474 or email me at sgreenwald@aish.com.  Masks required at TICK. Tpheris Israel Chevra Kadisha\, 14550 Ladue Road\, Chesterfield\, MO 63017\nzoom.us/j/3740953378    Dial in:  1-312-626-6799\, 3740953378\nLooking forward\,\nShmuel
URL:https://aishstl.com/event/aish-adult-sunday-school-with-rabbi-greenwald-in-person-at-tick-and-virtual-2021-10-10-2022-02-27/
LOCATION:To be announced\, MO\, United States
ATTACH;FMTTYPE=image/jpeg:https://aishstl.com/wordpress/wp-content/uploads/2022/02/Purim-Class-with-R-Greenwald-3-6-22-min-e1645681557747.jpg
ORGANIZER;CN="Aish Hatorah of St. Louis":MAILTO:cgoldstein@aishstl.com
GEO:37.9642529;-91.8318334
END:VEVENT
BEGIN:VEVENT
DTSTART;TZID=America/Chicago:20211027T193000
DTEND;TZID=America/Chicago:20211027T210000
DTSTAMP:20260424T105445
CREATED:20210921T165223Z
LAST-MODIFIED:20211001T154035Z
UID:10002643-1635363000-1635368400@aishstl.com
SUMMARY:Love Your Neighbor Series with Rabbi Shmuel Greenwald -- In Person and Virtually
DESCRIPTION:Join Rabbi Greenwald for his new Love Your Neighbor Series:\nWednesday\, October 13th   —  Chesed — Acts of Loving Kindness\nWednesday\, October 20th —  Tzedakah — It’s way more than charity\nWednesday\, October 27th —  Judging your fellow and speaking kindly \nIn Person: United Hebrew Congregation\, Messing Auditorium\, 13788 Conway Road\, St. Louis\, 63141\nMasks are required to be in the building.\nZoom:  zoom.us/j/3740953378      Dial in:  1-312-626-6799\, enter meeting ID  3740953378\nTo RSVP or for more information\, please call 314-862-AISH (2474) or email sgreenwald@aish.com \nCo-sponsored by Aish Hatorah and United Hebrew Congregation
URL:https://aishstl.com/event/love-your-neighbor-series-with-rabbi-shmuel-greenwald-in-person-at-aish-and-virtually/2021-10-27/
LOCATION:To be announced\, MO\, United States
ORGANIZER;CN="Aish Hatorah of St. Louis":MAILTO:cgoldstein@aishstl.com
GEO:37.9642529;-91.8318334
END:VEVENT
BEGIN:VEVENT
DTSTART;TZID=America/Chicago:20211020T193000
DTEND;TZID=America/Chicago:20211020T210000
DTSTAMP:20260424T105445
CREATED:20210921T165223Z
LAST-MODIFIED:20211001T154035Z
UID:10002642-1634758200-1634763600@aishstl.com
SUMMARY:Love Your Neighbor Series with Rabbi Shmuel Greenwald -- In Person and Virtually
DESCRIPTION:Join Rabbi Greenwald for his new Love Your Neighbor Series:\nWednesday\, October 13th   —  Chesed — Acts of Loving Kindness\nWednesday\, October 20th —  Tzedakah — It’s way more than charity\nWednesday\, October 27th —  Judging your fellow and speaking kindly \nIn Person: United Hebrew Congregation\, Messing Auditorium\, 13788 Conway Road\, St. Louis\, 63141\nMasks are required to be in the building.\nZoom:  zoom.us/j/3740953378      Dial in:  1-312-626-6799\, enter meeting ID  3740953378\nTo RSVP or for more information\, please call 314-862-AISH (2474) or email sgreenwald@aish.com \nCo-sponsored by Aish Hatorah and United Hebrew Congregation
URL:https://aishstl.com/event/love-your-neighbor-series-with-rabbi-shmuel-greenwald-in-person-at-aish-and-virtually/2021-10-20/
LOCATION:To be announced\, MO\, United States
ORGANIZER;CN="Aish Hatorah of St. Louis":MAILTO:cgoldstein@aishstl.com
GEO:37.9642529;-91.8318334
END:VEVENT
BEGIN:VEVENT
DTSTART;TZID=America/Chicago:20211013T193000
DTEND;TZID=America/Chicago:20211013T210000
DTSTAMP:20260424T105445
CREATED:20210921T165223Z
LAST-MODIFIED:20211001T154035Z
UID:10002641-1634153400-1634158800@aishstl.com
SUMMARY:Love Your Neighbor Series with Rabbi Shmuel Greenwald -- In Person and Virtually
DESCRIPTION:Join Rabbi Greenwald for his new Love Your Neighbor Series:\nWednesday\, October 13th   —  Chesed — Acts of Loving Kindness\nWednesday\, October 20th —  Tzedakah — It’s way more than charity\nWednesday\, October 27th —  Judging your fellow and speaking kindly \nIn Person: United Hebrew Congregation\, Messing Auditorium\, 13788 Conway Road\, St. Louis\, 63141\nMasks are required to be in the building.\nZoom:  zoom.us/j/3740953378      Dial in:  1-312-626-6799\, enter meeting ID  3740953378\nTo RSVP or for more information\, please call 314-862-AISH (2474) or email sgreenwald@aish.com \nCo-sponsored by Aish Hatorah and United Hebrew Congregation
URL:https://aishstl.com/event/love-your-neighbor-series-with-rabbi-shmuel-greenwald-in-person-at-aish-and-virtually/2021-10-13/
LOCATION:To be announced\, MO\, United States
ORGANIZER;CN="Aish Hatorah of St. Louis":MAILTO:cgoldstein@aishstl.com
GEO:37.9642529;-91.8318334
END:VEVENT
BEGIN:VEVENT
DTSTART;TZID=America/Chicago:20210829T100000
DTEND;TZID=America/Chicago:20210829T120000
DTSTAMP:20260424T105445
CREATED:20210730T141904Z
LAST-MODIFIED:20210825T195445Z
UID:10002457-1630231200-1630238400@aishstl.com
SUMMARY:Aish Adult Sunday School Virtually with Rabbi Greenwald -- "Days of Awe"
DESCRIPTION:Have you ever learned about the depth of the High Holidays and how they can enrich your life?  I’ll bet you haven’t.  Join me virtually for the next 4 Sundays as we discuss ways you can become more connected to this awesome time of growth and reflection: \nSunday\, August 29th               Days of Awe\nSunday\, September 5th          Rosh Hashana — A Time for Reflection\nSunday\, September 12th        Yom Kippur — A Time for Change\nSunday\, September 19th        Succot — A Time for Joy!!!\n\nzoom.us/j/3740953378      dial in 1-312-626-6799  3740953378 \n\nFor more information\, you can call Aish at 314-862-2474 or email me at sgreenwald@aish.com.\nLooking forward\,\nShmuel
URL:https://aishstl.com/event/aish-adult-sunday-school-begins-august-29-2021/
LOCATION:To be announced\, MO\, United States
ATTACH;FMTTYPE=image/jpeg:https://aishstl.com/wordpress/wp-content/uploads/2019/08/44763989-vector-illustration-happy-new-year-hebrew-rosh-hashana-greeting-card-with-apple-and-honey-e1693150416835.jpg
ORGANIZER;CN="Aish Hatorah of St. Louis":MAILTO:cgoldstein@aishstl.com
GEO:37.9642529;-91.8318334
END:VEVENT
BEGIN:VEVENT
DTSTART;TZID=America/Chicago:20210504T113000
DTEND;TZID=America/Chicago:20210504T123000
DTSTAMP:20260424T105445
CREATED:20191220T142915Z
LAST-MODIFIED:20210412T155854Z
UID:10001817-1620127800-1620131400@aishstl.com
SUMMARY:Jewish Women's Society -- In-Person Lunch & Learn Resumes with Mimi David
DESCRIPTION:Join me as we resume our in-person Lunch & Learn sessions if the group feels comfortable doing so.  More details to follow about location\, socially distancing\, masks and getting vaccinated. Please email me your thoughts at mimidavid@aish.com\nLooking forward\,\nMimi \n  \n 
URL:https://aishstl.com/event/jewish-womens-society-11/
LOCATION:To be announced\, MO\, United States
ATTACH;FMTTYPE=image/jpeg:https://aishstl.com/wordpress/wp-content/uploads/2019/10/Full-house-L-L-at-the-Crown-7-9-19-e1674839505959.jpeg
ORGANIZER;CN="Jewish Women's Society":MAILTO:cwolff@aish.com
GEO:37.9642529;-91.8318334
END:VEVENT
BEGIN:VEVENT
DTSTART;TZID=UTC:20190513T190000
DTEND;TZID=UTC:20190513T200000
DTSTAMP:20260424T105445
CREATED:20190405T154804Z
LAST-MODIFIED:20190501T185908Z
UID:10001753-1557774000-1557777600@aishstl.com
SUMMARY:Jewish Women's Society -- Tehillim/Psalms from Moses to David
DESCRIPTION:Salon Series:  Tehillim/Psalms from Moses to David with Mimi David.  Hosted by Alana Minoff. \nFor address or more information\, please call 314-862-2474 or email mimidavid@aish.com
URL:https://aishstl.com/event/jewish-womens-society-4-2-2-2/
LOCATION:To be announced\, MO\, United States
CATEGORIES:Jewish Women's Society (JWS),Women Only
ORGANIZER;CN="Aish Hatorah of St. Louis":MAILTO:cgoldstein@aishstl.com
GEO:37.9642529;-91.8318334
END:VEVENT
BEGIN:VEVENT
DTSTART;TZID=UTC:20190325T190000
DTEND;TZID=UTC:20190325T200000
DTSTAMP:20260424T105445
CREATED:20190128T171426Z
LAST-MODIFIED:20190314T154027Z
UID:10001697-1553540400-1553544000@aishstl.com
SUMMARY:Jewish Women's Society -- Tehillim/Psalms from Moses to David
DESCRIPTION:Salon Series:  Tehillim/Psalms from Moses to David with Mimi David.  Hosted by Lisa Weiss. \nFor more information and Lisa’s address\, please call 314-862-2474 or email mimidavid@aish.com
URL:https://aishstl.com/event/jewish-womens-society-4-2-2/
LOCATION:To be announced\, MO\, United States
CATEGORIES:Jewish Women's Society (JWS),Women Only
ORGANIZER;CN="Aish Hatorah of St. Louis":MAILTO:cgoldstein@aishstl.com
GEO:37.9642529;-91.8318334
END:VEVENT
END:VCALENDAR