BEGIN:VCALENDAR
VERSION:2.0
PRODID:-//Aish St. Louis - ECPv6.15.18//NONSGML v1.0//EN
CALSCALE:GREGORIAN
METHOD:PUBLISH
X-ORIGINAL-URL:https://aishstl.com
X-WR-CALDESC:Events for Aish St. Louis
REFRESH-INTERVAL;VALUE=DURATION:PT1H
X-Robots-Tag:noindex
X-PUBLISHED-TTL:PT1H
BEGIN:VTIMEZONE
TZID:America/Chicago
BEGIN:DAYLIGHT
TZOFFSETFROM:-0600
TZOFFSETTO:-0500
TZNAME:CDT
DTSTART:20240310T080000
END:DAYLIGHT
BEGIN:STANDARD
TZOFFSETFROM:-0500
TZOFFSETTO:-0600
TZNAME:CST
DTSTART:20241103T070000
END:STANDARD
BEGIN:DAYLIGHT
TZOFFSETFROM:-0600
TZOFFSETTO:-0500
TZNAME:CDT
DTSTART:20250309T080000
END:DAYLIGHT
BEGIN:STANDARD
TZOFFSETFROM:-0500
TZOFFSETTO:-0600
TZNAME:CST
DTSTART:20251102T070000
END:STANDARD
BEGIN:DAYLIGHT
TZOFFSETFROM:-0600
TZOFFSETTO:-0500
TZNAME:CDT
DTSTART:20260308T080000
END:DAYLIGHT
BEGIN:STANDARD
TZOFFSETFROM:-0500
TZOFFSETTO:-0600
TZNAME:CST
DTSTART:20261101T070000
END:STANDARD
END:VTIMEZONE
BEGIN:VEVENT
DTSTART;TZID=America/Chicago:20251209T193000
DTEND;TZID=America/Chicago:20251209T210000
DTSTAMP:20260421T070310
CREATED:20251103T214928Z
LAST-MODIFIED:20251103T215126Z
UID:10004659-1765308600-1765314000@aishstl.com
SUMMARY:"When the World Feels Dark -- Be the Light! -- Lessons from Chanukah with Rabbi Shmuel Greenwald
DESCRIPTION:Join my new Chanukah class on finding light\, meaning\, and strength in dark times as we prepare to celebrate the joyous holiday of Chanukah. Light refreshments will be served. \nDATE:  Tuesday\, December 9\, 2025 \nTIME:   7:30 PM \nLOCATION:  Rhythm’N’Ruach\, 333 South Mason Road\, St. Louis\, MO 63141 \nRSVP:  cgoldstein@aishstl.com or 314-862-2474 \nLooking forward\, \nShmuel
URL:https://aishstl.com/event/when-the-world-feels-dark-be-the-light-lessons-from-chanukah-with-rabbi-shmuel-greenwald/
LOCATION:Rhythm’N’Ruach HQ\, 333 South Mason Road\, Creve Coeur\, MO\, 63141\, United States
ATTACH;FMTTYPE=image/jpeg:https://aishstl.com/wordpress/wp-content/uploads/2025/11/Channukah-Class-2025-Instagram-Post.jpg
ORGANIZER;CN="Aish Hatorah of St. Louis":MAILTO:cgoldstein@aishstl.com
END:VEVENT
BEGIN:VEVENT
DTSTART;TZID=America/Chicago:20250916T193000
DTEND;TZID=America/Chicago:20250916T210000
DTSTAMP:20260421T070310
CREATED:20250831T012949Z
LAST-MODIFIED:20250831T012949Z
UID:10004587-1758051000-1758056400@aishstl.com
SUMMARY:Pre-Rosh Hashanah Class with Rabbi Greenwald
DESCRIPTION:You’re invited to join me for my Pre-Rosh Hashanah class\, “The Power of a New Beginning — New Year 5786 Just Ahead!” as we prepare our hearts and minds with wisdom\, inspiration\, and practical ideas we can use for the New Year.  \nDATE:  Tuesday\, September 16\, 2025 \nTIME:  7:30 pm \nLOCATION: Rhythm’N’Ruach HQ\, 333 South Mason Road\, Creve Coeur\, MO 63141 \nRSVP:  314-862-2474 or cgoldstein@aishstl.com \nLooking forward\, \nShmuel
URL:https://aishstl.com/event/pre-rosh-hashanah-class-with-rabbi-greenwald/
LOCATION:Rhythm’N’Ruach HQ\, 333 South Mason Road\, Creve Coeur\, MO\, 63141\, United States
ATTACH;FMTTYPE=image/jpeg:https://aishstl.com/wordpress/wp-content/uploads/2025/08/QP-Power-of-New-beginning-scaled.jpg
ORGANIZER;CN="Aish Hatorah of St. Louis":MAILTO:cgoldstein@aishstl.com
END:VEVENT
END:VCALENDAR