BEGIN:VCALENDAR
VERSION:2.0
PRODID:-//Aish St. Louis - ECPv6.15.18//NONSGML v1.0//EN
CALSCALE:GREGORIAN
METHOD:PUBLISH
X-ORIGINAL-URL:https://aishstl.com
X-WR-CALDESC:Events for Aish St. Louis
REFRESH-INTERVAL;VALUE=DURATION:PT1H
X-Robots-Tag:noindex
X-PUBLISHED-TTL:PT1H
BEGIN:VTIMEZONE
TZID:America/Chicago
BEGIN:DAYLIGHT
TZOFFSETFROM:-0600
TZOFFSETTO:-0500
TZNAME:CDT
DTSTART:20240310T080000
END:DAYLIGHT
BEGIN:STANDARD
TZOFFSETFROM:-0500
TZOFFSETTO:-0600
TZNAME:CST
DTSTART:20241103T070000
END:STANDARD
BEGIN:DAYLIGHT
TZOFFSETFROM:-0600
TZOFFSETTO:-0500
TZNAME:CDT
DTSTART:20250309T080000
END:DAYLIGHT
BEGIN:STANDARD
TZOFFSETFROM:-0500
TZOFFSETTO:-0600
TZNAME:CST
DTSTART:20251102T070000
END:STANDARD
BEGIN:DAYLIGHT
TZOFFSETFROM:-0600
TZOFFSETTO:-0500
TZNAME:CDT
DTSTART:20260308T080000
END:DAYLIGHT
BEGIN:STANDARD
TZOFFSETFROM:-0500
TZOFFSETTO:-0600
TZNAME:CST
DTSTART:20261101T070000
END:STANDARD
END:VTIMEZONE
BEGIN:VEVENT
DTSTART;TZID=America/Chicago:20250326T190000
DTEND;TZID=America/Chicago:20250326T203000
DTSTAMP:20260424T072244
CREATED:20250319T044233Z
LAST-MODIFIED:20250321T161426Z
UID:10004341-1743015600-1743021000@aishstl.com
SUMMARY:Pre-Passover Class with Rabbi Shmuel Greenwald: Unlock the Secrets of the Passover to have a Meaningful and Memorable Seder
DESCRIPTION:Passover begins Saturday evening\, April 12th!  Join me for an inspiring and interactive workshop for practical tips and inspiration on how to Get Ready for a Meaningful and Memorable Seder.\nDate:    Wednesday\, March 26\nTime:    7:00 pm\nLocation:  333 South Mason Road\, Creve Coeur 63141\nRSVP to cgoldstein@aishstl.com or to 314-862-2474\nLight refreshments will be served\nLooking forward\,\nShmuel
URL:https://aishstl.com/event/unlock-the-secrets-of-the-haggadah-pre-passover-class-with-rabbi-shmuel-greenwald/
LOCATION:Private Home\, 333 South Mason Road\, Creve Coeur\, 63141\, United States
ATTACH;FMTTYPE=image/jpeg:https://aishstl.com/wordpress/wp-content/uploads/2024/09/91008183b53a85be083944f668e38d5c106389.jpg
ORGANIZER;CN="Aish Hatorah of St. Louis":MAILTO:cgoldstein@aishstl.com
END:VEVENT
END:VCALENDAR