BEGIN:VCALENDAR
VERSION:2.0
PRODID:-//Aish St. Louis - ECPv6.15.18//NONSGML v1.0//EN
CALSCALE:GREGORIAN
METHOD:PUBLISH
X-ORIGINAL-URL:https://aishstl.com
X-WR-CALDESC:Events for Aish St. Louis
REFRESH-INTERVAL;VALUE=DURATION:PT1H
X-Robots-Tag:noindex
X-PUBLISHED-TTL:PT1H
BEGIN:VTIMEZONE
TZID:America/Chicago
BEGIN:DAYLIGHT
TZOFFSETFROM:-0600
TZOFFSETTO:-0500
TZNAME:CDT
DTSTART:20250309T080000
END:DAYLIGHT
BEGIN:STANDARD
TZOFFSETFROM:-0500
TZOFFSETTO:-0600
TZNAME:CST
DTSTART:20251102T070000
END:STANDARD
BEGIN:DAYLIGHT
TZOFFSETFROM:-0600
TZOFFSETTO:-0500
TZNAME:CDT
DTSTART:20260308T080000
END:DAYLIGHT
BEGIN:STANDARD
TZOFFSETFROM:-0500
TZOFFSETTO:-0600
TZNAME:CST
DTSTART:20261101T070000
END:STANDARD
BEGIN:DAYLIGHT
TZOFFSETFROM:-0600
TZOFFSETTO:-0500
TZNAME:CDT
DTSTART:20270314T080000
END:DAYLIGHT
BEGIN:STANDARD
TZOFFSETFROM:-0500
TZOFFSETTO:-0600
TZNAME:CST
DTSTART:20271107T070000
END:STANDARD
END:VTIMEZONE
BEGIN:VEVENT
DTSTART;TZID=America/Chicago:20260425T100000
DTEND;TZID=America/Chicago:20260425T120000
DTSTAMP:20260423T125834
CREATED:20260407T024327Z
LAST-MODIFIED:20260407T024327Z
UID:10004854-1777111200-1777118400@aishstl.com
SUMMARY:Soul Building Series at NHBZ
DESCRIPTION:Our Soul Building resumes this Shabbat as we’re together again to continue to engage in lively discussions on how the Torah relates to and guides us in everyday life. \nLooking forward\,\nYosef\n 
URL:https://aishstl.com/event/no-soul-building-series-passover-break-resumes-april-18-10-am-2-2/2026-04-25/
LOCATION:Nusach Hari Bnai Zion\, 650 North Price Road\, Olivette\, MO\, 63132\, United States
ATTACH;FMTTYPE=image/jpeg:https://aishstl.com/wordpress/wp-content/uploads/2025/08/Soul-Instagram-Post.jpg
ORGANIZER;CN="Aish Hatorah of St. Louis":MAILTO:cgoldstein@aishstl.com
GEO:38.6601647;-90.3372244
X-APPLE-STRUCTURED-LOCATION;VALUE=URI;X-ADDRESS=Nusach Hari Bnai Zion 650 North Price Road Olivette MO 63132 United States;X-APPLE-RADIUS=500;X-TITLE=650 North Price Road:geo:-90.3372244,38.6601647
END:VEVENT
BEGIN:VEVENT
DTSTART;TZID=America/Chicago:20260427T200000
DTEND;TZID=America/Chicago:20260427T210000
DTSTAMP:20260423T125834
CREATED:20260407T034432Z
LAST-MODIFIED:20260407T034432Z
UID:10004864-1777320000-1777323600@aishstl.com
SUMMARY:Partners In Torah
DESCRIPTION:Partners in Torah will meet tonight for another evening of exciting Torah learning. \nSpread the word to those who might be interested in joining us as a student or as a mentor. Email Rabbi Shmuel Greenwald at sgreenwald@aishstl.com for more information. \nAll the best\, \nYosef David & Shmuel Greenwald \nAish HaTorah of St. Louis \nPIT is a collaboration between Aish\, Nusach Hari Bnai Zion\, OLAMI St. Louis\, and the St. Louis Community Kollel
URL:https://aishstl.com/event/partners-in-torah-2026-04-13/2026-04-27/
LOCATION:Nusach Hari Bnai Zion\, 650 North Price Road\, Olivette\, MO\, 63132\, United States
ATTACH;FMTTYPE=image/png:https://aishstl.com/wordpress/wp-content/uploads/2024/09/PIT-1080x1080-copy@2x-1.png
ORGANIZER;CN="Aish Hatorah of St. Louis":MAILTO:cgoldstein@aishstl.com
GEO:38.6601647;-90.3372244
X-APPLE-STRUCTURED-LOCATION;VALUE=URI;X-ADDRESS=Nusach Hari Bnai Zion 650 North Price Road Olivette MO 63132 United States;X-APPLE-RADIUS=500;X-TITLE=650 North Price Road:geo:-90.3372244,38.6601647
END:VEVENT
BEGIN:VEVENT
DTSTART;TZID=America/Chicago:20260502T100000
DTEND;TZID=America/Chicago:20260502T120000
DTSTAMP:20260423T125834
CREATED:20260421T151502Z
LAST-MODIFIED:20260421T151502Z
UID:10004872-1777716000-1777723200@aishstl.com
SUMMARY:Soul Building Series at NHBZ (copy)
DESCRIPTION:Our Soul Building meets this Shabbat as we’re together again to continue to engage in lively discussions on how the Torah relates to and guides us in everyday life.\nLooking forward\, \nYosef\n 
URL:https://aishstl.com/event/no-soul-building-series-passover-break-resumes-april-18-10-am-2-2-2/2026-05-02/
LOCATION:Nusach Hari Bnai Zion\, 650 North Price Road\, Olivette\, MO\, 63132\, United States
ATTACH;FMTTYPE=image/jpeg:https://aishstl.com/wordpress/wp-content/uploads/2025/08/Soul-Instagram-Post.jpg
ORGANIZER;CN="Aish Hatorah of St. Louis":MAILTO:cgoldstein@aishstl.com
GEO:38.6601647;-90.3372244
X-APPLE-STRUCTURED-LOCATION;VALUE=URI;X-ADDRESS=Nusach Hari Bnai Zion 650 North Price Road Olivette MO 63132 United States;X-APPLE-RADIUS=500;X-TITLE=650 North Price Road:geo:-90.3372244,38.6601647
END:VEVENT
BEGIN:VEVENT
DTSTART;TZID=America/Chicago:20260509T100000
DTEND;TZID=America/Chicago:20260509T120000
DTSTAMP:20260423T125834
CREATED:20260421T151502Z
LAST-MODIFIED:20260421T151502Z
UID:10004873-1778320800-1778328000@aishstl.com
SUMMARY:Soul Building Series at NHBZ (copy)
DESCRIPTION:Our Soul Building meets this Shabbat as we’re together again to continue to engage in lively discussions on how the Torah relates to and guides us in everyday life.\nLooking forward\, \nYosef\n 
URL:https://aishstl.com/event/no-soul-building-series-passover-break-resumes-april-18-10-am-2-2-2/2026-05-09/
LOCATION:Nusach Hari Bnai Zion\, 650 North Price Road\, Olivette\, MO\, 63132\, United States
ATTACH;FMTTYPE=image/jpeg:https://aishstl.com/wordpress/wp-content/uploads/2025/08/Soul-Instagram-Post.jpg
ORGANIZER;CN="Aish Hatorah of St. Louis":MAILTO:cgoldstein@aishstl.com
GEO:38.6601647;-90.3372244
X-APPLE-STRUCTURED-LOCATION;VALUE=URI;X-ADDRESS=Nusach Hari Bnai Zion 650 North Price Road Olivette MO 63132 United States;X-APPLE-RADIUS=500;X-TITLE=650 North Price Road:geo:-90.3372244,38.6601647
END:VEVENT
END:VCALENDAR