BEGIN:VCALENDAR
VERSION:2.0
PRODID:-//Aish St. Louis - ECPv6.15.18//NONSGML v1.0//EN
CALSCALE:GREGORIAN
METHOD:PUBLISH
X-ORIGINAL-URL:https://aishstl.com
X-WR-CALDESC:Events for Aish St. Louis
REFRESH-INTERVAL;VALUE=DURATION:PT1H
X-Robots-Tag:noindex
X-PUBLISHED-TTL:PT1H
BEGIN:VTIMEZONE
TZID:America/Chicago
BEGIN:DAYLIGHT
TZOFFSETFROM:-0600
TZOFFSETTO:-0500
TZNAME:CDT
DTSTART:20200308T080000
END:DAYLIGHT
BEGIN:STANDARD
TZOFFSETFROM:-0500
TZOFFSETTO:-0600
TZNAME:CST
DTSTART:20201101T070000
END:STANDARD
BEGIN:DAYLIGHT
TZOFFSETFROM:-0600
TZOFFSETTO:-0500
TZNAME:CDT
DTSTART:20210314T080000
END:DAYLIGHT
BEGIN:STANDARD
TZOFFSETFROM:-0500
TZOFFSETTO:-0600
TZNAME:CST
DTSTART:20211107T070000
END:STANDARD
BEGIN:DAYLIGHT
TZOFFSETFROM:-0600
TZOFFSETTO:-0500
TZNAME:CDT
DTSTART:20220313T080000
END:DAYLIGHT
BEGIN:STANDARD
TZOFFSETFROM:-0500
TZOFFSETTO:-0600
TZNAME:CST
DTSTART:20221106T070000
END:STANDARD
END:VTIMEZONE
BEGIN:VEVENT
DTSTART;TZID=America/Chicago:20210926T103000
DTEND;TZID=America/Chicago:20210926T120000
DTSTAMP:20260423T101529
CREATED:20210825T190304Z
LAST-MODIFIED:20210924T145252Z
UID:10002495-1632652200-1632657600@aishstl.com
SUMMARY:Aish Hebrew School In Person Sukkah Party\, Sunday\, Sept. 26th
DESCRIPTION:Join us for Aish Hebrew School’s fun Sukkah Party at the Yari’s — check your email for location and other details.\nPlease contact me at 314-862-2474 or at rbk7320@yahoo.com for more information and registration materials.\nLooking forward\, \nRachel Kornblum\nAish Hebrew School Director
URL:https://aishstl.com/event/aish-hebrew-school-in-person-10-am-at-tpheris-israel-chevra-kadisha-tick-2021-09-26/
LOCATION:Location to be announced\, 63130\, United States
ATTACH;FMTTYPE=image/jpeg:https://aishstl.com/wordpress/wp-content/uploads/2021/07/Succot-e1662399229501.jpg
ORGANIZER;CN="Aish Hatorah of St. Louis":MAILTO:cgoldstein@aishstl.com
GEO:38.6682669;-90.3230807
END:VEVENT
END:VCALENDAR