BEGIN:VCALENDAR
VERSION:2.0
PRODID:-//Aish St. Louis - ECPv6.15.18//NONSGML v1.0//EN
CALSCALE:GREGORIAN
METHOD:PUBLISH
X-ORIGINAL-URL:https://aishstl.com
X-WR-CALDESC:Events for Aish St. Louis
REFRESH-INTERVAL;VALUE=DURATION:PT1H
X-Robots-Tag:noindex
X-PUBLISHED-TTL:PT1H
BEGIN:VTIMEZONE
TZID:America/Chicago
BEGIN:DAYLIGHT
TZOFFSETFROM:-0600
TZOFFSETTO:-0500
TZNAME:CDT
DTSTART:20200308T080000
END:DAYLIGHT
BEGIN:STANDARD
TZOFFSETFROM:-0500
TZOFFSETTO:-0600
TZNAME:CST
DTSTART:20201101T070000
END:STANDARD
BEGIN:DAYLIGHT
TZOFFSETFROM:-0600
TZOFFSETTO:-0500
TZNAME:CDT
DTSTART:20210314T080000
END:DAYLIGHT
BEGIN:STANDARD
TZOFFSETFROM:-0500
TZOFFSETTO:-0600
TZNAME:CST
DTSTART:20211107T070000
END:STANDARD
BEGIN:DAYLIGHT
TZOFFSETFROM:-0600
TZOFFSETTO:-0500
TZNAME:CDT
DTSTART:20220313T080000
END:DAYLIGHT
BEGIN:STANDARD
TZOFFSETFROM:-0500
TZOFFSETTO:-0600
TZNAME:CST
DTSTART:20221106T070000
END:STANDARD
BEGIN:DAYLIGHT
TZOFFSETFROM:-0600
TZOFFSETTO:-0500
TZNAME:CDT
DTSTART:20230312T080000
END:DAYLIGHT
BEGIN:STANDARD
TZOFFSETFROM:-0500
TZOFFSETTO:-0600
TZNAME:CST
DTSTART:20231105T070000
END:STANDARD
BEGIN:DAYLIGHT
TZOFFSETFROM:-0600
TZOFFSETTO:-0500
TZNAME:CDT
DTSTART:20240310T080000
END:DAYLIGHT
BEGIN:STANDARD
TZOFFSETFROM:-0500
TZOFFSETTO:-0600
TZNAME:CST
DTSTART:20241103T070000
END:STANDARD
BEGIN:DAYLIGHT
TZOFFSETFROM:-0600
TZOFFSETTO:-0500
TZNAME:CDT
DTSTART:20250309T080000
END:DAYLIGHT
BEGIN:STANDARD
TZOFFSETFROM:-0500
TZOFFSETTO:-0600
TZNAME:CST
DTSTART:20251102T070000
END:STANDARD
END:VTIMEZONE
BEGIN:VEVENT
DTSTART;TZID=America/Chicago:20240227T190000
DTEND;TZID=America/Chicago:20240227T203000
DTSTAMP:20260423T075309
CREATED:20240202T180218Z
LAST-MODIFIED:20240202T180218Z
UID:10003681-1709060400-1709065800@aishstl.com
SUMMARY:Jewish Women's Society's Book Club with Mimi David -- Read Chapters 9 - 12
DESCRIPTION:Let’s continue reading Chapters 9 -12 in Shabbat– A Day to Create Yourself  to learn more ways to live with more happiness and fulfillment in an increasingly complex world.  Location:  Private home in Chesterfield.  For the address and to RSVP\, contact me at mimidavid@aishstl.com  or 314-862-2474\nLooking forward\,\nMimi
URL:https://aishstl.com/event/jewish-womens-societys-book-club-with-mimi-david-read-chapters-9-12/
LOCATION:Location to be announced\, 63130\, United States
ATTACH;FMTTYPE=image/png:https://aishstl.com/wordpress/wp-content/uploads/2023/09/9.11updatedprofile110774590b5967cae4fb3ef4df97a9613c589602.png
ORGANIZER;CN="Jewish Women's Society":MAILTO:cwolff@aish.com
GEO:38.6682669;-90.3230807
END:VEVENT
BEGIN:VEVENT
DTSTART;TZID=America/Chicago:20240123T190000
DTEND;TZID=America/Chicago:20240123T203000
DTSTAMP:20260423T075309
CREATED:20231230T003640Z
LAST-MODIFIED:20231230T003640Z
UID:10003651-1706036400-1706041800@aishstl.com
SUMMARY:Jewish Women's Society's Book Club with Mimi David -- Read Chapters 5 - 8
DESCRIPTION:Learn new ways to live with more happiness and fulfillment in an increasingly complex world by delving into an inspirational book\, Shabbat– A Day to Create Yourself \, by Rabbi Dr. Warren Goldstein who is the founder of The Shabbat Project and The Great Big Challah Bake.  Location:  Private home in Chesterfield.  To RSVP and get the address\, contact Mimi David at 314-862-2474 or at mimidavid@aishstl.com.  The first 40 ladies to sign up and attend a Book Club meeting will receive a free copy of the book.
URL:https://aishstl.com/event/jewish-womens-societys-book-club-with-mimi-david-read-chapters-5-8/
LOCATION:Location to be announced\, 63130\, United States
ATTACH;FMTTYPE=image/png:https://aishstl.com/wordpress/wp-content/uploads/2023/09/9.11updatedprofile110774590b5967cae4fb3ef4df97a9613c589602.png
ORGANIZER;CN="Jewish Women's Society":MAILTO:cwolff@aish.com
GEO:38.6682669;-90.3230807
END:VEVENT
BEGIN:VEVENT
DTSTART;TZID=America/Chicago:20231220T190000
DTEND;TZID=America/Chicago:20231220T203000
DTSTAMP:20260423T075309
CREATED:20231215T143714Z
LAST-MODIFIED:20231215T153351Z
UID:10003616-1703098800-1703104200@aishstl.com
SUMMARY:Jewish Women's Society presents a New Book Club with Mimi David
DESCRIPTION:Learn new ways to live with more happiness and fulfillment in an increasingly complex world by delving into an inspirational book\, Shabbat– A Day to Create Yourself \, by Rabbi Dr. Warren Goldstein who is the founder of The Shabbat Project and The Great Big Challah Bake.  Location:  Private home in Chesterfield.  To RSVP and get the address\, contact Mimi David at 314-862-2474 or at mimidavid@aishstl.com.  The first 40 ladies to sign up and attend a Book Club meeting will receive a free copy of the book.
URL:https://aishstl.com/event/jewish-womens-society-presents-a-new-book-club-with-mimi-david/
LOCATION:Location to be announced\, 63130\, United States
ATTACH;FMTTYPE=image/png:https://aishstl.com/wordpress/wp-content/uploads/2023/09/9.11updatedprofile110774590b5967cae4fb3ef4df97a9613c589602.png
ORGANIZER;CN="Jewish Women's Society":MAILTO:cwolff@aish.com
GEO:38.6682669;-90.3230807
END:VEVENT
BEGIN:VEVENT
DTSTART;TZID=America/Chicago:20230723T160000
DTEND;TZID=America/Chicago:20230723T180000
DTSTAMP:20260423T075309
CREATED:20230706T151406Z
LAST-MODIFIED:20230721T153736Z
UID:10003402-1690128000-1690135200@aishstl.com
SUMMARY:Open House for Aish's Couples' Israel Trip 2024 with Rabbi Yosef & Mimi David (tentative dates May 19 - 29\, 2024)
DESCRIPTION:My wife\, Mimi\, and I will be leading another amazing Aish Couples’ trip to Israel next spring. The tentative dates are May 19 – 29\, 2024. Please join us at an Open House on Sunday\, July 23rd\, at 4 pm at a private home. We’ll be going over the new itinerary of touring\, learning\, recreation\, fine dining\, entertainment and so much more. Some of the trip’s highlights are included on the flyer below. Please contact me at 314-920-9270 or at ydavid@aish.com to rsvp and for the address.\nAll the best\,\nYosef
URL:https://aishstl.com/event/open-house-for-aishs-couples-israel-trip-2024-with-rabbi-yosef-mimi-david-tentative-dates-may-19-29-2024/
LOCATION:Location to be announced\, 63130\, United States
ATTACH;FMTTYPE=image/jpeg:https://aishstl.com/wordpress/wp-content/uploads/2018/04/Israel_Trip_Illo-e1654874620111.jpg
ORGANIZER;CN="Aish Hatorah of St. Louis":MAILTO:cgoldstein@aishstl.com
GEO:38.6682669;-90.3230807
END:VEVENT
BEGIN:VEVENT
DTSTART;TZID=America/Chicago:20230625T200000
DTEND;TZID=America/Chicago:20230625T213000
DTSTAMP:20260423T075309
CREATED:20230621T183019Z
LAST-MODIFIED:20230621T184039Z
UID:10003361-1687723200-1687728600@aishstl.com
SUMMARY:Informational Meeting for Highly Subsidized MoMENtum's Men's Israel Trip with Rabbi David at a private home
DESCRIPTION:Join me for an Informational Meeting at a private home to discuss my leading another amazing MoMENtum Men’s trip to Israel from Sunday\, Oct 29\, 2023 – Monday\, Nov 6\, 2023 (these dates include travel days). As many of you know\, this is a once-in-a-lifetime opportunity.  To be eligible for the trip\, you need to either:  1) have a child age 18 or younger  or  2) have a wife who’s been on a recent Momentum Women’s trip.  Men who are interested can contact me at ydavid@aish.com or at  314-920-9270 to RSVP and get the address.   View the flier below for more details!
URL:https://aishstl.com/event/informational-meeting-for-highly-subsidized-momentums-mens-israel-trip-with-rabbi-david-sun-june-25th-8-pm-at-a-private-home/
LOCATION:Location to be announced\, 63130\, United States
ATTACH;FMTTYPE=image/jpeg:https://aishstl.com/wordpress/wp-content/uploads/2018/04/Israel_Trip_Illo-e1654874620111.jpg
ORGANIZER;CN="Aish Hatorah of St. Louis":MAILTO:cgoldstein@aishstl.com
GEO:38.6682669;-90.3230807
END:VEVENT
BEGIN:VEVENT
DTSTART;TZID=America/Chicago:20220911T100000
DTEND;TZID=America/Chicago:20220911T120000
DTSTAMP:20260423T075309
CREATED:20220417T160322Z
LAST-MODIFIED:20220909T061625Z
UID:10002770-1662890400-1662897600@aishstl.com
SUMMARY:Aish Hebrew School Open House -- In Person at TICK
DESCRIPTION:Join us for a fun and informative Open House for the Aish Hebrew School your children love to attend!  TICK (Tpheris Israel Chevra Kadisha\, 14550 Ladue Road\, Chesterfield\, MO 63017.  For information\, call 314-862-2474 or email me at rbk7320@yahoo.com\nLooking forward\,\nRachael Kornblum\nDirector\, Aish Hebrew School
URL:https://aishstl.com/event/aish-hebrew-school-in-person-at-tick-tpheris-israel-chevra-kadisha/
LOCATION:Location to be announced\, 63130\, United States
ATTACH;FMTTYPE=image/jpeg:https://aishstl.com/wordpress/wp-content/uploads/2022/09/Aish-Hebrew-School-logo-2022-color-e1662134763255.jpg
ORGANIZER;CN="Aish Hatorah of St. Louis":MAILTO:cgoldstein@aishstl.com
GEO:38.6682669;-90.3230807
END:VEVENT
BEGIN:VEVENT
DTSTART;TZID=America/Chicago:20210926T103000
DTEND;TZID=America/Chicago:20210926T120000
DTSTAMP:20260423T075309
CREATED:20210825T190304Z
LAST-MODIFIED:20210924T145252Z
UID:10002495-1632652200-1632657600@aishstl.com
SUMMARY:Aish Hebrew School In Person Sukkah Party\, Sunday\, Sept. 26th
DESCRIPTION:Join us for Aish Hebrew School’s fun Sukkah Party at the Yari’s — check your email for location and other details.\nPlease contact me at 314-862-2474 or at rbk7320@yahoo.com for more information and registration materials.\nLooking forward\, \nRachel Kornblum\nAish Hebrew School Director
URL:https://aishstl.com/event/aish-hebrew-school-in-person-10-am-at-tpheris-israel-chevra-kadisha-tick-2021-09-26/
LOCATION:Location to be announced\, 63130\, United States
ATTACH;FMTTYPE=image/jpeg:https://aishstl.com/wordpress/wp-content/uploads/2021/07/Succot-e1662399229501.jpg
ORGANIZER;CN="Aish Hatorah of St. Louis":MAILTO:cgoldstein@aishstl.com
GEO:38.6682669;-90.3230807
END:VEVENT
END:VCALENDAR