BEGIN:VCALENDAR
VERSION:2.0
PRODID:-//Aish St. Louis - ECPv6.15.18//NONSGML v1.0//EN
CALSCALE:GREGORIAN
METHOD:PUBLISH
X-ORIGINAL-URL:https://aishstl.com
X-WR-CALDESC:Events for Aish St. Louis
REFRESH-INTERVAL;VALUE=DURATION:PT1H
X-Robots-Tag:noindex
X-PUBLISHED-TTL:PT1H
BEGIN:VTIMEZONE
TZID:America/Chicago
BEGIN:DAYLIGHT
TZOFFSETFROM:-0600
TZOFFSETTO:-0500
TZNAME:CDT
DTSTART:20190310T080000
END:DAYLIGHT
BEGIN:STANDARD
TZOFFSETFROM:-0500
TZOFFSETTO:-0600
TZNAME:CST
DTSTART:20191103T070000
END:STANDARD
BEGIN:DAYLIGHT
TZOFFSETFROM:-0600
TZOFFSETTO:-0500
TZNAME:CDT
DTSTART:20200308T080000
END:DAYLIGHT
BEGIN:STANDARD
TZOFFSETFROM:-0500
TZOFFSETTO:-0600
TZNAME:CST
DTSTART:20201101T070000
END:STANDARD
BEGIN:DAYLIGHT
TZOFFSETFROM:-0600
TZOFFSETTO:-0500
TZNAME:CDT
DTSTART:20210314T080000
END:DAYLIGHT
BEGIN:STANDARD
TZOFFSETFROM:-0500
TZOFFSETTO:-0600
TZNAME:CST
DTSTART:20211107T070000
END:STANDARD
END:VTIMEZONE
BEGIN:VEVENT
DTSTART;TZID=America/Chicago:20201101T120000
DTEND;TZID=America/Chicago:20201101T160000
DTSTAMP:20260422T015026
CREATED:20201023T144200Z
LAST-MODIFIED:20201023T152752Z
UID:10002220-1604232000-1604246400@aishstl.com
SUMMARY:Picnic at Klondike Park for Aish Families & Friends
DESCRIPTION:We invite you to join us for a get-together in the beautiful outdoors. Klondike Park is located along the Missouri River between Defiance and Augusta. \nEnjoy hiking\, biking\, friends and food. We’ve reserved a pavilion and we’ll have a couple of outdoor space heaters in case it’s chilly. Masks and social distancing will be encouraged in the pavilion (except while eating & drinking). Visit the park’s website here. \nWe’ll be serving boxed lunches from Kohn’s with either egg salad or tuna salad for $10 each.  \nPlease RSVP to 314-862-2474 or to cwolff@aish.com to let us know you’re attending and which lunch box to order for you. \n 
URL:https://aishstl.com/event/picnic-at-klondike-park-sunday-nov-1st-12-pm-4-pm-for-aish-families-friends/
LOCATION:Klondike Park\, 4600 Highway 94S\, Augusta\, MO\, 63302\, United States
ATTACH;FMTTYPE=image/jpeg:https://aishstl.com/wordpress/wp-content/uploads/2020/10/KlondikePark.jpg
ORGANIZER;CN="Aish Hatorah of St. Louis":MAILTO:cgoldstein@aishstl.com
GEO:38.5841233;-90.8517775
X-APPLE-STRUCTURED-LOCATION;VALUE=URI;X-ADDRESS=Klondike Park 4600 Highway 94S Augusta MO 63302 United States;X-APPLE-RADIUS=500;X-TITLE=4600 Highway 94S:geo:-90.8517775,38.5841233
END:VEVENT
END:VCALENDAR