BEGIN:VCALENDAR
VERSION:2.0
PRODID:-//Aish St. Louis - ECPv6.15.18//NONSGML v1.0//EN
CALSCALE:GREGORIAN
METHOD:PUBLISH
X-ORIGINAL-URL:https://aishstl.com
X-WR-CALDESC:Events for Aish St. Louis
REFRESH-INTERVAL;VALUE=DURATION:PT1H
X-Robots-Tag:noindex
X-PUBLISHED-TTL:PT1H
BEGIN:VTIMEZONE
TZID:America/Chicago
BEGIN:DAYLIGHT
TZOFFSETFROM:-0600
TZOFFSETTO:-0500
TZNAME:CDT
DTSTART:20240310T080000
END:DAYLIGHT
BEGIN:STANDARD
TZOFFSETFROM:-0500
TZOFFSETTO:-0600
TZNAME:CST
DTSTART:20241103T070000
END:STANDARD
BEGIN:DAYLIGHT
TZOFFSETFROM:-0600
TZOFFSETTO:-0500
TZNAME:CDT
DTSTART:20250309T080000
END:DAYLIGHT
BEGIN:STANDARD
TZOFFSETFROM:-0500
TZOFFSETTO:-0600
TZNAME:CST
DTSTART:20251102T070000
END:STANDARD
BEGIN:DAYLIGHT
TZOFFSETFROM:-0600
TZOFFSETTO:-0500
TZNAME:CDT
DTSTART:20260308T080000
END:DAYLIGHT
BEGIN:STANDARD
TZOFFSETFROM:-0500
TZOFFSETTO:-0600
TZNAME:CST
DTSTART:20261101T070000
END:STANDARD
END:VTIMEZONE
BEGIN:VEVENT
DTSTART;TZID=America/Chicago:20250428T190000
DTEND;TZID=America/Chicago:20250428T203000
DTSTAMP:20260422T160008
CREATED:20250406T172905Z
LAST-MODIFIED:20250406T173417Z
UID:10004390-1745866800-1745872200@aishstl.com
SUMMARY:Special evening to support Team St. Louis for the Children of October 7th
DESCRIPTION:Please join us for a special evening to hear Deborah Ben-Aderet’s first hand account of life in a kibbutz on the Gaza border. Learn about her family’s harrowing survival story of 10/7\,  what it is it like raising a family under terror attack\, and how the children of the community were affected\, including her own. \nArielle Turover Cohen will then present The I Am Brave and Unafraid Book Project: Israel\, which seeks to deliver the Hebrew edition of her children’s picture book\, I Am Brave and Unafraid\, about facing fears and boosting one’s emotional intelligence\, to the affecteted children of Kibbutz Zikim. Together with all of our local supporters of this project\, we will be Team St. Louis! Together we can help affected children in the region be BRAVE and UNAFRAID!  **Due to the nature of this presentation\, it it NOT appropriate for ages under 15.** \nWhile this event is free of charge\, registration is required\, and donations to The I Am Brave and Unafraid Book  can be made to https://www. baisabe.com/event/KibbutzZikimSupport \nLIVE and on zoom–login will be sent when registration is complete  \nRSVP:  https://www. baisabe.com/event/KibbutzZikimSupport \n  \n 
URL:https://aishstl.com/event/special-evening-to-support-team-st-louis-for-the-children-of-october-7th-april-28-7-pm-jfed-st-louis-2/
LOCATION:Jewish Federation of St. Louis\, 12 Millstone Campus Drive\, St. Louis\, MO\, 63146\, United States
ATTACH;FMTTYPE=image/png:https://aishstl.com/wordpress/wp-content/uploads/2019/05/Aish-logo-vertical-e1703790594494.png
ORGANIZER;CN="Aish Hatorah of St. Louis":MAILTO:cgoldstein@aishstl.com
END:VEVENT
BEGIN:VEVENT
DTSTART;TZID=America/Chicago:20250227T190000
DTEND;TZID=America/Chicago:20250227T210000
DTSTAMP:20260422T160008
CREATED:20250209T042456Z
LAST-MODIFIED:20250213T042942Z
UID:10004264-1740682800-1740690000@aishstl.com
SUMMARY:Clean Speech STL Volume 4 "Words of Kindness/Ahavas Chesed" Kick-Off Event welcomes Dr. Yehuda Pryce
DESCRIPTION:Join us for an exciting and fascinating evening as our Clean Speech STL Volume 4 Words of Kindness — Ahavas Chesed Kick-Off welcomes Dr. Yehuda Pryce\, whose topic is From the Streets to the Soul:  A Journey from Gangs and Prison to Faith and Purpose.\nDate:  Thursday\, February 27\, 2025\nTime:  7:00 pm\nLocation: Jewish Federation of St. Louis\, 12 Millstone Campus Drive\, St. Louis\, MO 63146.      Reserve early as there is limited seating available.\nRSVP to 314-862-2474 or email cgoldstein@aishstl.com
URL:https://aishstl.com/event/clean-speech-stl-volume-4-words-of-kindness-ahavas-chesed-kick-off-event-welcomes-dr-yehuda-pryce/
LOCATION:Jewish Federation of St. Louis\, 12 Millstone Campus Drive\, St. Louis\, MO\, 63146\, United States
ATTACH;FMTTYPE=image/jpeg:https://aishstl.com/wordpress/wp-content/uploads/2025/02/y-price-event-post-2.27-event.jpg
ORGANIZER;CN="Aish Hatorah of St. Louis":MAILTO:cgoldstein@aishstl.com
END:VEVENT
END:VCALENDAR