BEGIN:VCALENDAR
VERSION:2.0
PRODID:-//Aish St. Louis - ECPv6.15.18//NONSGML v1.0//EN
CALSCALE:GREGORIAN
METHOD:PUBLISH
X-ORIGINAL-URL:https://aishstl.com
X-WR-CALDESC:Events for Aish St. Louis
REFRESH-INTERVAL;VALUE=DURATION:PT1H
X-Robots-Tag:noindex
X-PUBLISHED-TTL:PT1H
BEGIN:VTIMEZONE
TZID:America/Chicago
BEGIN:DAYLIGHT
TZOFFSETFROM:-0600
TZOFFSETTO:-0500
TZNAME:CDT
DTSTART:20210314T080000
END:DAYLIGHT
BEGIN:STANDARD
TZOFFSETFROM:-0500
TZOFFSETTO:-0600
TZNAME:CST
DTSTART:20211107T070000
END:STANDARD
BEGIN:DAYLIGHT
TZOFFSETFROM:-0600
TZOFFSETTO:-0500
TZNAME:CDT
DTSTART:20220313T080000
END:DAYLIGHT
BEGIN:STANDARD
TZOFFSETFROM:-0500
TZOFFSETTO:-0600
TZNAME:CST
DTSTART:20221106T070000
END:STANDARD
BEGIN:DAYLIGHT
TZOFFSETFROM:-0600
TZOFFSETTO:-0500
TZNAME:CDT
DTSTART:20230312T080000
END:DAYLIGHT
BEGIN:STANDARD
TZOFFSETFROM:-0500
TZOFFSETTO:-0600
TZNAME:CST
DTSTART:20231105T070000
END:STANDARD
BEGIN:DAYLIGHT
TZOFFSETFROM:-0600
TZOFFSETTO:-0500
TZNAME:CDT
DTSTART:20240310T080000
END:DAYLIGHT
BEGIN:STANDARD
TZOFFSETFROM:-0500
TZOFFSETTO:-0600
TZNAME:CST
DTSTART:20241103T070000
END:STANDARD
END:VTIMEZONE
BEGIN:VEVENT
DTSTART;TZID=America/Chicago:20230326T190000
DTEND;TZID=America/Chicago:20230326T213000
DTSTAMP:20260420T131128
CREATED:20230208T202038Z
LAST-MODIFIED:20230214T165604Z
UID:10003133-1679857200-1679866200@aishstl.com
SUMMARY:Clean Speech St. Louis Volume 2 Celebration -- Interview & Concert with Nissim Black -- JCC\, Creve Coeur
DESCRIPTION:Come celebrate the end of our second Clean Speech St. Louis 30-Day Challenge with an extraordinary evening.  Listen to a fascinating interview followed by a concert with Chasidic Rapper Nissim Black.  He has been a gangsta rapper\, a gang member\, and a faith seeker\, but now enjoys being an African American Hasidic Jew who brings exciting and inspirational songs to people around the world.  The concert is free; suggested donation $18.  RSVP to 314-862-2474 or email carengoldstein61@gmail.com. JCC Staenberg Family Complex\, 2 Millstone Campus Drive\, St. Louis\, MO 63146
URL:https://aishstl.com/event/clean-speech-st-louiss-closing-event-presents-nissim-black-at-the-jcc-creve-coeur/
LOCATION:JCC Staenberg Family Complex\, 2 Millstone Campus Drive\, St. Louis`\, MO\, 63146\, United States
ATTACH;FMTTYPE=image/png:https://aishstl.com/wordpress/wp-content/uploads/2023/01/CSStlV2-Stacked-Full-Transparent-e1675798452316.png
ORGANIZER;CN="Aish Hatorah of St. Louis":MAILTO:cgoldstein@aishstl.com
GEO:38.6852781;-90.4096798
X-APPLE-STRUCTURED-LOCATION;VALUE=URI;X-ADDRESS=JCC Staenberg Family Complex 2 Millstone Campus Drive St. Louis` MO 63146 United States;X-APPLE-RADIUS=500;X-TITLE=2 Millstone Campus Drive:geo:-90.4096798,38.6852781
END:VEVENT
BEGIN:VEVENT
DTSTART;VALUE=DATE:20230321
DTEND;VALUE=DATE:20230322
DTSTAMP:20260420T131128
CREATED:20230321T204418Z
LAST-MODIFIED:20230321T204728Z
UID:10003208-1679356800-1679443199@aishstl.com
SUMMARY:Clean Speech STL -- Watch Nissim Black's Message to St. Louis before his Concert 3/26/23 7 pm at the JCC
DESCRIPTION:Come celebrate! Watch Nissim Black’s message to the Clean Speech St. Louis community before his LIVE Interview & Concert on Sunday\, March 26th\, 2023\, 7 pm at the JCC in Creve Coeur.  RSVP to cleanspeech.com/stl or to carengoldstein61@gmail.com \nhttps://aishstl.com/wordpress/wp-content/uploads/2023/03/VIDEO-2023-03-16-10-40-07.mp4
URL:https://aishstl.com/event/clean-speech-stl-watch-nissim-blacks-message-to-st-louis-before-his-concert-3-26-23-7-pm-at-the-jcc/
LOCATION:JCC Staenberg Family Complex\, 2 Millstone Campus Drive\, St. Louis`\, MO\, 63146\, United States
ATTACH;FMTTYPE=image/png:https://aishstl.com/wordpress/wp-content/uploads/2023/01/CSStlV2-Stacked-Full-Transparent-e1675798452316.png
ORGANIZER;CN="Aish Hatorah of St. Louis":MAILTO:cgoldstein@aishstl.com
GEO:38.6852781;-90.4096798
X-APPLE-STRUCTURED-LOCATION;VALUE=URI;X-ADDRESS=JCC Staenberg Family Complex 2 Millstone Campus Drive St. Louis` MO 63146 United States;X-APPLE-RADIUS=500;X-TITLE=2 Millstone Campus Drive:geo:-90.4096798,38.6852781
END:VEVENT
BEGIN:VEVENT
DTSTART;TZID=America/Chicago:20221102T190000
DTEND;TZID=America/Chicago:20221102T210000
DTSTAMP:20260420T131128
CREATED:20221014T161316Z
LAST-MODIFIED:20221026T170758Z
UID:10002912-1667415600-1667422800@aishstl.com
SUMMARY:The Great Big Challah Bake with Giti Fredman at the JCC Creve Coeur
DESCRIPTION:Join Giti Fredman for an extraordinary Great Big Challah Bake event at the JCC Creve Coeur.  Women and girls ages 8+ are invited to join other women and girls around the world participating in fulfilling the mitzvah of baking challah together. Click here to RSVP and register –Adults $36\, students $18.\nLooking forward\,\nMimi 
URL:https://aishstl.com/event/the-great-big-challah-bake-jcc-creve-coeur-stay-tuned-for-more-details/
LOCATION:JCC Staenberg Family Complex\, 2 Millstone Campus Drive\, St. Louis`\, MO\, 63146\, United States
ATTACH;FMTTYPE=image/png:https://aishstl.com/wordpress/wp-content/uploads/2022/08/Giti-Fredman-e1666287395319.png
ORGANIZER;CN="Aish Hatorah of St. Louis":MAILTO:cgoldstein@aishstl.com
GEO:38.6852781;-90.4096798
X-APPLE-STRUCTURED-LOCATION;VALUE=URI;X-ADDRESS=JCC Staenberg Family Complex 2 Millstone Campus Drive St. Louis` MO 63146 United States;X-APPLE-RADIUS=500;X-TITLE=2 Millstone Campus Drive:geo:-90.4096798,38.6852781
END:VEVENT
END:VCALENDAR