BEGIN:VCALENDAR
VERSION:2.0
PRODID:-//Aish St. Louis - ECPv6.15.18//NONSGML v1.0//EN
CALSCALE:GREGORIAN
METHOD:PUBLISH
X-ORIGINAL-URL:https://aishstl.com
X-WR-CALDESC:Events for Aish St. Louis
REFRESH-INTERVAL;VALUE=DURATION:PT1H
X-Robots-Tag:noindex
X-PUBLISHED-TTL:PT1H
BEGIN:VTIMEZONE
TZID:America/Chicago
BEGIN:DAYLIGHT
TZOFFSETFROM:-0600
TZOFFSETTO:-0500
TZNAME:CDT
DTSTART:20220313T080000
END:DAYLIGHT
BEGIN:STANDARD
TZOFFSETFROM:-0500
TZOFFSETTO:-0600
TZNAME:CST
DTSTART:20221106T070000
END:STANDARD
BEGIN:DAYLIGHT
TZOFFSETFROM:-0600
TZOFFSETTO:-0500
TZNAME:CDT
DTSTART:20230312T080000
END:DAYLIGHT
BEGIN:STANDARD
TZOFFSETFROM:-0500
TZOFFSETTO:-0600
TZNAME:CST
DTSTART:20231105T070000
END:STANDARD
BEGIN:DAYLIGHT
TZOFFSETFROM:-0600
TZOFFSETTO:-0500
TZNAME:CDT
DTSTART:20240310T080000
END:DAYLIGHT
BEGIN:STANDARD
TZOFFSETFROM:-0500
TZOFFSETTO:-0600
TZNAME:CST
DTSTART:20241103T070000
END:STANDARD
END:VTIMEZONE
BEGIN:VEVENT
DTSTART;TZID=America/Chicago:20231008T100000
DTEND;TZID=America/Chicago:20231008T120000
DTSTAMP:20260424T130651
CREATED:20230906T234540Z
LAST-MODIFIED:20230928T201836Z
UID:10003452-1696759200-1696766400@aishstl.com
SUMMARY:No Adult Sunday classes with Rabbi Shmuel Greenwald during Sukkot and Simchat Torah
DESCRIPTION:In observance of Sukkot and Simchat Torah on Sundays\, October 1st and 8th\, our class won’t meet.  Please join me again in person and on zoom on Sunday\, October 15th\, at our new location\, Epstein Hebrew Academy in U City\, as we continue to learn more Torah lessons that will help us navigate the week ahead.  zoom.us/j/3740953378   Dial in 1-312-626-6799\, meeting ID 3740953378\nLooking forward\,\nShmuel
URL:https://aishstl.com/event/adult-sunday-class-with-rabbi-shmuel-greenwald-2/2023-10-08/
LOCATION:Epstein Hebrew Academy\, 8645 Old Bonhomme Road\, St. Louis\, 63130\, United States
ATTACH;FMTTYPE=image/jpeg:https://aishstl.com/wordpress/wp-content/uploads/2019/09/sgreenwald_c-1.jpg
ORGANIZER;CN="Aish Hatorah of St. Louis":MAILTO:cgoldstein@aishstl.com
GEO:38.6688696;-90.3591399
X-APPLE-STRUCTURED-LOCATION;VALUE=URI;X-ADDRESS=Epstein Hebrew Academy 8645 Old Bonhomme Road St. Louis 63130 United States;X-APPLE-RADIUS=500;X-TITLE=8645 Old Bonhomme Road:geo:-90.3591399,38.6688696
END:VEVENT
BEGIN:VEVENT
DTSTART;TZID=America/Chicago:20231001T100000
DTEND;TZID=America/Chicago:20231001T120000
DTSTAMP:20260424T130651
CREATED:20230906T234540Z
LAST-MODIFIED:20230928T201836Z
UID:10003451-1696154400-1696161600@aishstl.com
SUMMARY:No Adult Sunday classes with Rabbi Shmuel Greenwald during Sukkot and Simchat Torah
DESCRIPTION:In observance of Sukkot and Simchat Torah on Sundays\, October 1st and 8th\, our class won’t meet.  Please join me again in person and on zoom on Sunday\, October 15th\, at our new location\, Epstein Hebrew Academy in U City\, as we continue to learn more Torah lessons that will help us navigate the week ahead.  zoom.us/j/3740953378   Dial in 1-312-626-6799\, meeting ID 3740953378\nLooking forward\,\nShmuel
URL:https://aishstl.com/event/adult-sunday-class-with-rabbi-shmuel-greenwald-2/2023-10-01/
LOCATION:Epstein Hebrew Academy\, 8645 Old Bonhomme Road\, St. Louis\, 63130\, United States
ATTACH;FMTTYPE=image/jpeg:https://aishstl.com/wordpress/wp-content/uploads/2019/09/sgreenwald_c-1.jpg
ORGANIZER;CN="Aish Hatorah of St. Louis":MAILTO:cgoldstein@aishstl.com
GEO:38.6688696;-90.3591399
X-APPLE-STRUCTURED-LOCATION;VALUE=URI;X-ADDRESS=Epstein Hebrew Academy 8645 Old Bonhomme Road St. Louis 63130 United States;X-APPLE-RADIUS=500;X-TITLE=8645 Old Bonhomme Road:geo:-90.3591399,38.6688696
END:VEVENT
END:VCALENDAR