BEGIN:VCALENDAR
VERSION:2.0
PRODID:-//Aish St. Louis - ECPv6.15.18//NONSGML v1.0//EN
CALSCALE:GREGORIAN
METHOD:PUBLISH
X-ORIGINAL-URL:https://aishstl.com
X-WR-CALDESC:Events for Aish St. Louis
REFRESH-INTERVAL;VALUE=DURATION:PT1H
X-Robots-Tag:noindex
X-PUBLISHED-TTL:PT1H
BEGIN:VTIMEZONE
TZID:America/Chicago
BEGIN:DAYLIGHT
TZOFFSETFROM:-0600
TZOFFSETTO:-0500
TZNAME:CDT
DTSTART:20220313T080000
END:DAYLIGHT
BEGIN:STANDARD
TZOFFSETFROM:-0500
TZOFFSETTO:-0600
TZNAME:CST
DTSTART:20221106T070000
END:STANDARD
BEGIN:DAYLIGHT
TZOFFSETFROM:-0600
TZOFFSETTO:-0500
TZNAME:CDT
DTSTART:20230312T080000
END:DAYLIGHT
BEGIN:STANDARD
TZOFFSETFROM:-0500
TZOFFSETTO:-0600
TZNAME:CST
DTSTART:20231105T070000
END:STANDARD
BEGIN:DAYLIGHT
TZOFFSETFROM:-0600
TZOFFSETTO:-0500
TZNAME:CDT
DTSTART:20240310T080000
END:DAYLIGHT
BEGIN:STANDARD
TZOFFSETFROM:-0500
TZOFFSETTO:-0600
TZNAME:CST
DTSTART:20241103T070000
END:STANDARD
END:VTIMEZONE
BEGIN:VEVENT
DTSTART;TZID=America/Chicago:20231203T100000
DTEND;TZID=America/Chicago:20231203T120000
DTSTAMP:20260424T093810
CREATED:20231116T173601Z
LAST-MODIFIED:20231116T173601Z
UID:10003576-1701597600-1701604800@aishstl.com
SUMMARY:Aish Adult Sunday Class with Rabbi Greenwald -- In person/on zoom
DESCRIPTION:Join me for an educational and enlightening discussion on how the lessons of the Torah can help us navigate the new week ahead and the situation in Israel.  If you’re unable to join me in person\, here’s the zoom login zoom.us/j/3740953378   Meeting ID 3740953378\,  Dial in 1-312-626-6799.  \nLooking forward\, \nShmuel Greenwald
URL:https://aishstl.com/event/aish-adult-sunday-class-with-rabbi-greenwald-in-person-on-zoom/2023-12-03/
LOCATION:Epstein Hebrew Academy and your home\, 8645 Old Bonhomme Road\, University City\,\, 63132\, United States
ATTACH;FMTTYPE=image/jpeg:https://aishstl.com/wordpress/wp-content/uploads/2018/09/Rabbi-Greenwald3-1.jpg
ORGANIZER;CN="Aish Hatorah of St. Louis":MAILTO:cgoldstein@aishstl.com
GEO:38.6688696;-90.3591399
X-APPLE-STRUCTURED-LOCATION;VALUE=URI;X-ADDRESS=Epstein Hebrew Academy and your home 8645 Old Bonhomme Road University City 63132 United States;X-APPLE-RADIUS=500;X-TITLE=8645 Old Bonhomme Road:geo:-90.3591399,38.6688696
END:VEVENT
BEGIN:VEVENT
DTSTART;TZID=America/Chicago:20231126T080000
DTEND;TZID=America/Chicago:20231126T170000
DTSTAMP:20260424T093810
CREATED:20231101T201744Z
LAST-MODIFIED:20231116T172429Z
UID:10003538-1700985600-1701018000@aishstl.com
SUMMARY:Adult Sunday Class with Rabbi Shmuel Greenwald -- Epstein Hebrew Academy -- In person/on zoom
DESCRIPTION:Join me as we continue to learn more Torah lessons that will help us navigate the week ahead.  zoom.us/j/3740953378   Dial in 1-312-626-6799\nLooking forward\,\nShmuel
URL:https://aishstl.com/event/adult-sunday-class-with-rabbi-shmuel-greenwald-epstein-hebrew-academy-in-person-on-zoom/2023-11-26/
LOCATION:Epstein Hebrew Academy and your home\, 8645 Old Bonhomme Road\, University City\,\, 63132\, United States
ATTACH;FMTTYPE=image/jpeg:https://aishstl.com/wordpress/wp-content/uploads/2019/09/sgreenwald_c-1.jpg
ORGANIZER;CN="Aish Hatorah of St. Louis":MAILTO:cgoldstein@aishstl.com
GEO:38.6688696;-90.3591399
X-APPLE-STRUCTURED-LOCATION;VALUE=URI;X-ADDRESS=Epstein Hebrew Academy and your home 8645 Old Bonhomme Road University City 63132 United States;X-APPLE-RADIUS=500;X-TITLE=8645 Old Bonhomme Road:geo:-90.3591399,38.6688696
END:VEVENT
BEGIN:VEVENT
DTSTART;TZID=America/Chicago:20231119T100000
DTEND;TZID=America/Chicago:20231119T120000
DTSTAMP:20260424T093810
CREATED:20231101T201744Z
LAST-MODIFIED:20231116T172429Z
UID:10003537-1700388000-1700395200@aishstl.com
SUMMARY:Adult Sunday Class with Rabbi Shmuel Greenwald -- Epstein Hebrew Academy -- In person/on zoom
DESCRIPTION:Join me as we continue to learn more Torah lessons that will help us navigate the week ahead.  zoom.us/j/3740953378   Dial in 1-312-626-6799\nLooking forward\,\nShmuel
URL:https://aishstl.com/event/adult-sunday-class-with-rabbi-shmuel-greenwald-epstein-hebrew-academy-in-person-on-zoom/2023-11-19/
LOCATION:Epstein Hebrew Academy and your home\, 8645 Old Bonhomme Road\, University City\,\, 63132\, United States
ATTACH;FMTTYPE=image/jpeg:https://aishstl.com/wordpress/wp-content/uploads/2019/09/sgreenwald_c-1.jpg
ORGANIZER;CN="Aish Hatorah of St. Louis":MAILTO:cgoldstein@aishstl.com
GEO:38.6688696;-90.3591399
X-APPLE-STRUCTURED-LOCATION;VALUE=URI;X-ADDRESS=Epstein Hebrew Academy and your home 8645 Old Bonhomme Road University City 63132 United States;X-APPLE-RADIUS=500;X-TITLE=8645 Old Bonhomme Road:geo:-90.3591399,38.6688696
END:VEVENT
BEGIN:VEVENT
DTSTART;TZID=America/Chicago:20231105T100000
DTEND;TZID=America/Chicago:20231105T120000
DTSTAMP:20260424T093810
CREATED:20231101T201744Z
LAST-MODIFIED:20231116T172429Z
UID:10003535-1699178400-1699185600@aishstl.com
SUMMARY:Adult Sunday Class with Rabbi Shmuel Greenwald -- Epstein Hebrew Academy -- In person/on zoom
DESCRIPTION:Join me as we continue to learn more Torah lessons that will help us navigate the week ahead.  zoom.us/j/3740953378   Dial in 1-312-626-6799\nLooking forward\,\nShmuel
URL:https://aishstl.com/event/adult-sunday-class-with-rabbi-shmuel-greenwald-epstein-hebrew-academy-in-person-on-zoom/2023-11-05/
LOCATION:Epstein Hebrew Academy and your home\, 8645 Old Bonhomme Road\, University City\,\, 63132\, United States
ATTACH;FMTTYPE=image/jpeg:https://aishstl.com/wordpress/wp-content/uploads/2019/09/sgreenwald_c-1.jpg
ORGANIZER;CN="Aish Hatorah of St. Louis":MAILTO:cgoldstein@aishstl.com
GEO:38.6688696;-90.3591399
X-APPLE-STRUCTURED-LOCATION;VALUE=URI;X-ADDRESS=Epstein Hebrew Academy and your home 8645 Old Bonhomme Road University City 63132 United States;X-APPLE-RADIUS=500;X-TITLE=8645 Old Bonhomme Road:geo:-90.3591399,38.6688696
END:VEVENT
BEGIN:VEVENT
DTSTART;TZID=America/Chicago:20231029T080000
DTEND;TZID=America/Chicago:20231029T170000
DTSTAMP:20260424T093810
CREATED:20231013T191718Z
LAST-MODIFIED:20231013T191718Z
UID:10003509-1698566400-1698598800@aishstl.com
SUMMARY:Adult Sunday Class with Rabbi Shmuel Greenwald -- New Location!! -- Epstein Hebrew Academy
DESCRIPTION:Join me at our new location\, Epstein Hebrew Academy\, as we continue to learn more Torah lessons that will help us navigate the week ahead.  zoom.us/j/3740953378   Dial in 1-312-626-6799\nLooking forward\,\nShmuel
URL:https://aishstl.com/event/adult-sunday-class-with-rabbi-shmuel-greenwald-new-location-epstein-hebrew-academy-2/2023-10-29/
LOCATION:Epstein Hebrew Academy and your home\, 8645 Old Bonhomme Road\, University City\,\, 63132\, United States
ATTACH;FMTTYPE=image/jpeg:https://aishstl.com/wordpress/wp-content/uploads/2019/09/sgreenwald_c-1.jpg
ORGANIZER;CN="Aish Hatorah of St. Louis":MAILTO:cgoldstein@aishstl.com
GEO:38.6688696;-90.3591399
X-APPLE-STRUCTURED-LOCATION;VALUE=URI;X-ADDRESS=Epstein Hebrew Academy and your home 8645 Old Bonhomme Road University City 63132 United States;X-APPLE-RADIUS=500;X-TITLE=8645 Old Bonhomme Road:geo:-90.3591399,38.6688696
END:VEVENT
BEGIN:VEVENT
DTSTART;TZID=America/Chicago:20231022T100000
DTEND;TZID=America/Chicago:20231022T120000
DTSTAMP:20260424T093810
CREATED:20231013T191718Z
LAST-MODIFIED:20231013T191718Z
UID:10003508-1697968800-1697976000@aishstl.com
SUMMARY:Adult Sunday Class with Rabbi Shmuel Greenwald -- New Location!! -- Epstein Hebrew Academy
DESCRIPTION:Join me at our new location\, Epstein Hebrew Academy\, as we continue to learn more Torah lessons that will help us navigate the week ahead.  zoom.us/j/3740953378   Dial in 1-312-626-6799\nLooking forward\,\nShmuel
URL:https://aishstl.com/event/adult-sunday-class-with-rabbi-shmuel-greenwald-new-location-epstein-hebrew-academy-2/2023-10-22/
LOCATION:Epstein Hebrew Academy and your home\, 8645 Old Bonhomme Road\, University City\,\, 63132\, United States
ATTACH;FMTTYPE=image/jpeg:https://aishstl.com/wordpress/wp-content/uploads/2019/09/sgreenwald_c-1.jpg
ORGANIZER;CN="Aish Hatorah of St. Louis":MAILTO:cgoldstein@aishstl.com
GEO:38.6688696;-90.3591399
X-APPLE-STRUCTURED-LOCATION;VALUE=URI;X-ADDRESS=Epstein Hebrew Academy and your home 8645 Old Bonhomme Road University City 63132 United States;X-APPLE-RADIUS=500;X-TITLE=8645 Old Bonhomme Road:geo:-90.3591399,38.6688696
END:VEVENT
BEGIN:VEVENT
DTSTART;TZID=America/Chicago:20231015T100000
DTEND;TZID=America/Chicago:20231015T120000
DTSTAMP:20260424T093810
CREATED:20231013T191219Z
LAST-MODIFIED:20231013T191600Z
UID:10003506-1697364000-1697371200@aishstl.com
SUMMARY:Adult Sunday Class with Rabbi Shmuel Greenwald -- New Location!! -- Epstein Hebrew Academy
DESCRIPTION:Join me at our new location\, Epstein Hebrew Academy\, as we continue to learn more Torah lessons that will help us navigate the week ahead.  zoom.us/j/3740953378   Dial in 1-312-626-6799\nLooking forward\,\nShmuel
URL:https://aishstl.com/event/adult-sunday-class-with-rabbi-shmuel-greenwald-new-location-epstein-hebrew-academy/
LOCATION:Epstein Hebrew Academy and your home\, 8645 Old Bonhomme Road\, University City\,\, 63132\, United States
ATTACH;FMTTYPE=image/jpeg:https://aishstl.com/wordpress/wp-content/uploads/2019/09/sgreenwald_c-1.jpg
ORGANIZER;CN="Aish Hatorah of St. Louis":MAILTO:cgoldstein@aishstl.com
GEO:38.6688696;-90.3591399
X-APPLE-STRUCTURED-LOCATION;VALUE=URI;X-ADDRESS=Epstein Hebrew Academy and your home 8645 Old Bonhomme Road University City 63132 United States;X-APPLE-RADIUS=500;X-TITLE=8645 Old Bonhomme Road:geo:-90.3591399,38.6688696
END:VEVENT
END:VCALENDAR