BEGIN:VCALENDAR
VERSION:2.0
PRODID:-//Aish St. Louis - ECPv6.15.18//NONSGML v1.0//EN
CALSCALE:GREGORIAN
METHOD:PUBLISH
X-ORIGINAL-URL:https://aishstl.com
X-WR-CALDESC:Events for Aish St. Louis
REFRESH-INTERVAL;VALUE=DURATION:PT1H
X-Robots-Tag:noindex
X-PUBLISHED-TTL:PT1H
BEGIN:VTIMEZONE
TZID:America/Chicago
BEGIN:DAYLIGHT
TZOFFSETFROM:-0600
TZOFFSETTO:-0500
TZNAME:CDT
DTSTART:20200308T080000
END:DAYLIGHT
BEGIN:STANDARD
TZOFFSETFROM:-0500
TZOFFSETTO:-0600
TZNAME:CST
DTSTART:20201101T070000
END:STANDARD
BEGIN:DAYLIGHT
TZOFFSETFROM:-0600
TZOFFSETTO:-0500
TZNAME:CDT
DTSTART:20210314T080000
END:DAYLIGHT
BEGIN:STANDARD
TZOFFSETFROM:-0500
TZOFFSETTO:-0600
TZNAME:CST
DTSTART:20211107T070000
END:STANDARD
BEGIN:DAYLIGHT
TZOFFSETFROM:-0600
TZOFFSETTO:-0500
TZNAME:CDT
DTSTART:20220313T080000
END:DAYLIGHT
BEGIN:STANDARD
TZOFFSETFROM:-0500
TZOFFSETTO:-0600
TZNAME:CST
DTSTART:20221106T070000
END:STANDARD
BEGIN:DAYLIGHT
TZOFFSETFROM:-0600
TZOFFSETTO:-0500
TZNAME:CDT
DTSTART:20230312T080000
END:DAYLIGHT
BEGIN:STANDARD
TZOFFSETFROM:-0500
TZOFFSETTO:-0600
TZNAME:CST
DTSTART:20231105T070000
END:STANDARD
END:VTIMEZONE
BEGIN:VEVENT
DTSTART;VALUE=DATE:20220926
DTEND;VALUE=DATE:20220927
DTSTAMP:20260421T151701
CREATED:20220729T135644Z
LAST-MODIFIED:20220729T135918Z
UID:10002854-1664150400-1664236799@aishstl.com
SUMMARY:Rosh Hashana
DESCRIPTION:
URL:https://aishstl.com/event/rosh-hashana-2/2022-09-26/
LOCATION:Aish Hatorah and Your Home\, MO\, United States
ATTACH;FMTTYPE=image/jpeg:https://aishstl.com/wordpress/wp-content/uploads/2019/08/flat-rosh-hashanah-element-vector-e1567105771990.jpg
ORGANIZER;CN="Aish Hatorah of St. Louis":MAILTO:cgoldstein@aishstl.com
GEO:37.9642529;-91.8318334
END:VEVENT
BEGIN:VEVENT
DTSTART;TZID=America/Chicago:20220925T183600
DTEND;TZID=America/Chicago:20220925T233000
DTSTAMP:20260421T151701
CREATED:20220729T135344Z
LAST-MODIFIED:20220729T135344Z
UID:10002852-1664130960-1664148600@aishstl.com
SUMMARY:Erev Rosh Hashana
DESCRIPTION:
URL:https://aishstl.com/event/erev-rosh-hashana/
LOCATION:Aish Hatorah and Your Home\, MO\, United States
ATTACH;FMTTYPE=image/jpeg:https://aishstl.com/wordpress/wp-content/uploads/2019/08/free-shana-tova-greeting-card-vector.jpg
ORGANIZER;CN="Aish Hatorah of St. Louis":MAILTO:cgoldstein@aishstl.com
GEO:37.9642529;-91.8318334
END:VEVENT
BEGIN:VEVENT
DTSTART;TZID=America/Chicago:20220920T193000
DTEND;TZID=America/Chicago:20220920T203000
DTSTAMP:20260421T151701
CREATED:20220901T165759Z
LAST-MODIFIED:20220909T052924Z
UID:10002876-1663702200-1663705800@aishstl.com
SUMMARY:Clean Speech STL series continues with Rabbi Shmuel Greenwald -- Part 3:  A time to speak\, a time to remain silent
DESCRIPTION:Come join me tonight for Part 3:  A time to speak\, a time to remain silent as we continue our Clean Speech STL Initiative Series to explore and acquire the knowledge and skills to create harmonious and positive relationships.\nAish Firehouse\, 457 North Woods Mill Road\, Chesterfield\, MO 63017 or at zoom.us/j/374-095-3378\, Dial in:  1-312-626-6799.  To RSVP and for more information\, call 314-862-2474 or email me at sgreenwald@aish.com\nLooking forward\,\nShmuel \n 
URL:https://aishstl.com/event/clean-speech-stl-series-continues-with-rabbi-shmuel-greenwald-part-3-how-to-have-peaceful-relationships/
LOCATION:Aish Hatorah and Your Home\, MO\, United States
ORGANIZER;CN="Aish Hatorah of St. Louis":MAILTO:cgoldstein@aishstl.com
GEO:37.9642529;-91.8318334
END:VEVENT
BEGIN:VEVENT
DTSTART;TZID=America/Chicago:20220918T100000
DTEND;TZID=America/Chicago:20220918T120000
DTSTAMP:20260421T151701
CREATED:20220831T153355Z
LAST-MODIFIED:20220909T053342Z
UID:10002868-1663495200-1663502400@aishstl.com
SUMMARY:Aish Adult Sunday School with Rabbi Shmuel Greenwald -- In Person at TICK & Virtual
DESCRIPTION:I look forward to your joining me for my new 3-part series to help you prepare for the upcoming High Holidays:\nSunday\, 9/11:    Start again@!  Drop the baggage.  Rosh Hashana has the potential to elevate your life\nSunday\, 9/18:   Make the most of your potential to live the best life!\nSunday\, 10/2    Come Clean — Dealing with one’s flaws and mistakes\nIn person at TICK (Tpheris Israel Chevra Kadisha\, 14550 Ladue Road\, Chesterfield\, MO 63017\nJoin virtually at zoom.us/j/3740953378   Meeting ID 3740953378  Dial in: 1-312-626-6799\nFor information\, call 314-862-2474 or email me at sgreenwald@aish.com.\nLocation details to be announced shortly.\nSee you there\, \nShmuel
URL:https://aishstl.com/event/aish-adult-sunday-school-in-person/2022-09-18/
LOCATION:Aish Hatorah and Your Home\, MO\, United States
ORGANIZER;CN="Aish Hatorah of St. Louis":MAILTO:cgoldstein@aishstl.com
GEO:37.9642529;-91.8318334
END:VEVENT
BEGIN:VEVENT
DTSTART;TZID=America/Chicago:20220913T193000
DTEND;TZID=America/Chicago:20220913T203000
DTSTAMP:20260421T151701
CREATED:20220901T165621Z
LAST-MODIFIED:20220909T053028Z
UID:10002875-1663097400-1663101000@aishstl.com
SUMMARY:Clean Speech STL series continues with Rabbi Shmuel Greenwald!  Part 2 -- How to have peaceful relationships
DESCRIPTION:Come join me tonight at Aish for Part 2:  How to have peaceful relationships of our Clean Speech STL Initiative Series to explore and acquire the knowledge and skills to create harmonious and positive relationships.\nAish Firehouse\, 457 North Woods Mill Road\, Chesterfield\, MO 63017  or at zoom.us/j/374-095-3378\, Dial in:  1-312-626-6799 To RSVP and for more information\, call 314-862-2474 or email me at  sgreenwald@aish.com\nLooking forward\,\nShmuel
URL:https://aishstl.com/event/clean-speech-stl-series-continues-with-rabbi-shmuel-greenwald-part-2-how-to-have-peaceful-relationships/
LOCATION:Aish Hatorah and Your Home\, MO\, United States
ORGANIZER;CN="Aish Hatorah of St. Louis":MAILTO:cgoldstein@aishstl.com
GEO:37.9642529;-91.8318334
END:VEVENT
BEGIN:VEVENT
DTSTART;TZID=America/Chicago:20220911T100000
DTEND;TZID=America/Chicago:20220911T120000
DTSTAMP:20260421T151701
CREATED:20220831T153355Z
LAST-MODIFIED:20220909T053342Z
UID:10002867-1662890400-1662897600@aishstl.com
SUMMARY:Aish Adult Sunday School with Rabbi Shmuel Greenwald -- In Person at TICK & Virtual
DESCRIPTION:I look forward to your joining me for my new 3-part series to help you prepare for the upcoming High Holidays:\nSunday\, 9/11:    Start again@!  Drop the baggage.  Rosh Hashana has the potential to elevate your life\nSunday\, 9/18:   Make the most of your potential to live the best life!\nSunday\, 10/2    Come Clean — Dealing with one’s flaws and mistakes\nIn person at TICK (Tpheris Israel Chevra Kadisha\, 14550 Ladue Road\, Chesterfield\, MO 63017\nJoin virtually at zoom.us/j/3740953378   Meeting ID 3740953378  Dial in: 1-312-626-6799\nFor information\, call 314-862-2474 or email me at sgreenwald@aish.com.\nLocation details to be announced shortly.\nSee you there\, \nShmuel
URL:https://aishstl.com/event/aish-adult-sunday-school-in-person/2022-09-11/
LOCATION:Aish Hatorah and Your Home\, MO\, United States
ORGANIZER;CN="Aish Hatorah of St. Louis":MAILTO:cgoldstein@aishstl.com
GEO:37.9642529;-91.8318334
END:VEVENT
BEGIN:VEVENT
DTSTART;VALUE=DATE:20220729
DTEND;VALUE=DATE:20220730
DTSTAMP:20260421T151701
CREATED:20220729T135451Z
LAST-MODIFIED:20220729T135451Z
UID:10002853-1659052800-1659139199@aishstl.com
SUMMARY:Rosh Hashana
DESCRIPTION:
URL:https://aishstl.com/event/rosh-hashana/
LOCATION:Aish Hatorah and Your Home\, MO\, United States
ATTACH;FMTTYPE=image/jpeg:https://aishstl.com/wordpress/wp-content/uploads/2019/08/flat-rosh-hashanah-element-vector-e1567105771990.jpg
ORGANIZER;CN="Aish Hatorah of St. Louis":MAILTO:cgoldstein@aishstl.com
GEO:37.9642529;-91.8318334
END:VEVENT
BEGIN:VEVENT
DTSTART;TZID=America/Chicago:20211226T100000
DTEND;TZID=America/Chicago:20211226T120000
DTSTAMP:20260421T151701
CREATED:20210921T145833Z
LAST-MODIFIED:20211224T153216Z
UID:10002618-1640512800-1640520000@aishstl.com
SUMMARY:Aish Adult Sunday School with Rabbi Greenwald -- In Person at AISH and virtual
DESCRIPTION:Join me this Sunday at Aish on on zoom as we continue our lively discussions on how the lessons of Torah can help us meet the new week with less stress and more balance in our lives to focus on what really matters.  For more information\, you can call Aish at 314-862-2474 or email me at sgreenwald@aish.com.  Masks required.\nAish Firehouse\, 457 North Woods Mill Road\, Chesterfield\, MO 63017\nzoom.us/j/3740953378    Dial in:  1-312-626-6799\, 3740953378\nLooking forward\,\nShmuel
URL:https://aishstl.com/event/aish-adult-sunday-school-with-rabbi-greenwald-in-person-at-tick-and-virtual-2021-10-10-2021-12-26/
LOCATION:Aish Hatorah and Your Home\, MO\, United States
ATTACH;FMTTYPE=image/jpeg:https://aishstl.com/wordpress/wp-content/uploads/2019/09/sgreenwald_c-1.jpg
ORGANIZER;CN="Aish Hatorah of St. Louis":MAILTO:cgoldstein@aishstl.com
GEO:37.9642529;-91.8318334
END:VEVENT
BEGIN:VEVENT
DTSTART;TZID=America/Chicago:20211017T193000
DTEND;TZID=America/Chicago:20211017T210000
DTSTAMP:20260421T151701
CREATED:20210921T154610Z
LAST-MODIFIED:20211001T151453Z
UID:10002624-1634499000-1634504400@aishstl.com
SUMMARY:Practice\, Practice\, Practice!  3-Part Series with Rabbi Shmuel Greenwald -- In Person and virtually
DESCRIPTION:Join me for my Practice\, Practice\, Practice! series that encourages you to bring these meaningful traditions into your home:\nSunday\, October 3    —  Soul Food:  what’s eating kosher all about?\nSunday\, October 10  —  Shabbat:  living in the moment\nSunday\, October 17  —   Blessings:  learning to appreciate life!\nAish Firehouse\, 457 North Woods Mill Road\, Chesterfield\, MO 63017\nzoom.us/j/3740953378      Dial in: 1-312-62606799\, 3740953378\nTo RSVP or for more information\, call 314-862-2474 or email cwolff@aish.com.  We will follow St. Louis County covid guidelines.\nLooking forward\,\nShmuel
URL:https://aishstl.com/event/practice-practice-practice-3-part-series-with-rabbi-shmuel-greenwald-in-person-and-virtually/2021-10-17/
LOCATION:Aish Hatorah and Your Home\, MO\, United States
ATTACH;FMTTYPE=image/jpeg:https://aishstl.com/wordpress/wp-content/uploads/2021/09/R.Greenwaldb2382d456757f0df4c7dc5309db36f60398546.jpg
ORGANIZER;CN="Aish Hatorah of St. Louis":MAILTO:cgoldstein@aishstl.com
GEO:37.9642529;-91.8318334
END:VEVENT
BEGIN:VEVENT
DTSTART;TZID=America/Chicago:20211010T193000
DTEND;TZID=America/Chicago:20211010T210000
DTSTAMP:20260421T151701
CREATED:20210921T154610Z
LAST-MODIFIED:20211001T151453Z
UID:10002623-1633894200-1633899600@aishstl.com
SUMMARY:Practice\, Practice\, Practice!  3-Part Series with Rabbi Shmuel Greenwald -- In Person and virtually
DESCRIPTION:Join me for my Practice\, Practice\, Practice! series that encourages you to bring these meaningful traditions into your home:\nSunday\, October 3    —  Soul Food:  what’s eating kosher all about?\nSunday\, October 10  —  Shabbat:  living in the moment\nSunday\, October 17  —   Blessings:  learning to appreciate life!\nAish Firehouse\, 457 North Woods Mill Road\, Chesterfield\, MO 63017\nzoom.us/j/3740953378      Dial in: 1-312-62606799\, 3740953378\nTo RSVP or for more information\, call 314-862-2474 or email cwolff@aish.com.  We will follow St. Louis County covid guidelines.\nLooking forward\,\nShmuel
URL:https://aishstl.com/event/practice-practice-practice-3-part-series-with-rabbi-shmuel-greenwald-in-person-and-virtually/2021-10-10/
LOCATION:Aish Hatorah and Your Home\, MO\, United States
ATTACH;FMTTYPE=image/jpeg:https://aishstl.com/wordpress/wp-content/uploads/2021/09/R.Greenwaldb2382d456757f0df4c7dc5309db36f60398546.jpg
ORGANIZER;CN="Aish Hatorah of St. Louis":MAILTO:cgoldstein@aishstl.com
GEO:37.9642529;-91.8318334
END:VEVENT
BEGIN:VEVENT
DTSTART;TZID=America/Chicago:20211003T193000
DTEND;TZID=America/Chicago:20211003T210000
DTSTAMP:20260421T151701
CREATED:20210921T154610Z
LAST-MODIFIED:20211001T151453Z
UID:10002622-1633289400-1633294800@aishstl.com
SUMMARY:Practice\, Practice\, Practice!  3-Part Series with Rabbi Shmuel Greenwald -- In Person and virtually
DESCRIPTION:Join me for my Practice\, Practice\, Practice! series that encourages you to bring these meaningful traditions into your home:\nSunday\, October 3    —  Soul Food:  what’s eating kosher all about?\nSunday\, October 10  —  Shabbat:  living in the moment\nSunday\, October 17  —   Blessings:  learning to appreciate life!\nAish Firehouse\, 457 North Woods Mill Road\, Chesterfield\, MO 63017\nzoom.us/j/3740953378      Dial in: 1-312-62606799\, 3740953378\nTo RSVP or for more information\, call 314-862-2474 or email cwolff@aish.com.  We will follow St. Louis County covid guidelines.\nLooking forward\,\nShmuel
URL:https://aishstl.com/event/practice-practice-practice-3-part-series-with-rabbi-shmuel-greenwald-in-person-and-virtually/2021-10-03/
LOCATION:Aish Hatorah and Your Home\, MO\, United States
ATTACH;FMTTYPE=image/jpeg:https://aishstl.com/wordpress/wp-content/uploads/2021/09/R.Greenwaldb2382d456757f0df4c7dc5309db36f60398546.jpg
ORGANIZER;CN="Aish Hatorah of St. Louis":MAILTO:cgoldstein@aishstl.com
GEO:37.9642529;-91.8318334
END:VEVENT
BEGIN:VEVENT
DTSTART;TZID=America/Chicago:20210919T100000
DTEND;TZID=America/Chicago:20210919T120000
DTSTAMP:20260421T151701
CREATED:20210730T141904Z
LAST-MODIFIED:20210915T153319Z
UID:10002460-1632045600-1632052800@aishstl.com
SUMMARY:Aish Virtual Adult Sunday School --Succot - A Time of Joy!! -- with Rabbi Greenwald
DESCRIPTION:Have you ever learned about the depth of the High Holidays and how they can enrich your life?  I’ll bet you haven’t.  Join me virtually to learn how to celebrate Succot — A Time for Joy!!!\nzoom.us/j/3740953378    Dial:1-312-626-6799\, 3740953378\nFor more information\, you can call Aish at 314-862-2747 or email me at sgreenwald@aish.com
URL:https://aishstl.com/event/aish-adult-sunday-school-in-person-for-the-2021-2022-school-year-begins-august-29-2021-2021-09-05-2021-09-19/
LOCATION:Aish Hatorah and Your Home\, MO\, United States
ATTACH;FMTTYPE=image/jpeg:https://aishstl.com/wordpress/wp-content/uploads/2021/07/Succot-e1662399229501.jpg
ORGANIZER;CN="Aish Hatorah of St. Louis":MAILTO:cgoldstein@aishstl.com
GEO:37.9642529;-91.8318334
END:VEVENT
BEGIN:VEVENT
DTSTART;TZID=America/Chicago:20210912T193000
DTEND;TZID=America/Chicago:20210912T213000
DTSTAMP:20260421T151702
CREATED:20210825T192651Z
LAST-MODIFIED:20210910T034737Z
UID:10002496-1631475000-1631482200@aishstl.com
SUMMARY:St. Louis Jewish Speakers Series presents Rabbi Shlomo Buxbaum at Aish -- In Person and Virtually
DESCRIPTION:Join us for a fascinating evening with Rabbi Shlomo Buxbaum discovering ways each of us can find greater meaning\, purpose and possibilities in life by deepening our connection to Jewish wisdom and values.  Aish Firehouse\, 457 North Woods Mill Road\, Chesterfield\, MO 63017.  Rabbi Buxbaum’s book will be available for purchase following his presentation.\nRSVP to 314-862-2474 or to cwolff@aish.com.  We will follow all St. Louis County covid guidelines.\nYou can also join at zoom.us/j/3740953378\, Dial: 1-312-626-6799\, 3740953378
URL:https://aishstl.com/event/st-louis-jewish-speakers-series-presents-rabbi-shlomo-buxbaum-in-person-at-aish-730-pm/
LOCATION:Aish Hatorah and Your Home\, MO\, United States
ATTACH;FMTTYPE=image/jpeg:https://aishstl.com/wordpress/wp-content/uploads/2021/07/RabbiShlomoBuxbaum-300x300-1.jpg
ORGANIZER;CN="Aish Hatorah of St. Louis":MAILTO:cgoldstein@aishstl.com
GEO:37.9642529;-91.8318334
END:VEVENT
BEGIN:VEVENT
DTSTART;TZID=America/Chicago:20210912T100000
DTEND;TZID=America/Chicago:20210912T120000
DTSTAMP:20260421T151702
CREATED:20210730T141904Z
LAST-MODIFIED:20210805T195219Z
UID:10002459-1631440800-1631448000@aishstl.com
SUMMARY:Aish Adult Sunday School --  Yom Kippur -- A Time for Change -- with Rabbi Greenwald In Person and Virtually
DESCRIPTION:Have you ever learned about the depth of the High Holidays and how they can enrich your life?  I’ll bet you haven’t.  Join me in person and virtually as we discuss ways you can become more connected to the most holy holiday of Yom Kippur.  For more information\, you can call Aish at 314-862-2474 or email me at sgreenwald@aish.com.\nzoom.us/j/3740953378   dial:  1-312-626-6799\, 3740953378\nLooking forward\,\nShmuel
URL:https://aishstl.com/event/aish-adult-sunday-school-in-person-for-the-2021-2022-school-year-begins-august-29-2021-2021-09-05-2021-09-12/
LOCATION:Aish Hatorah and Your Home\, MO\, United States
ATTACH;FMTTYPE=image/jpeg:https://aishstl.com/wordpress/wp-content/uploads/2019/09/yom-kippur-decorative-symbol_gg118903299-e1693251002806.jpg
ORGANIZER;CN="Aish Hatorah of St. Louis":MAILTO:cgoldstein@aishstl.com
GEO:37.9642529;-91.8318334
END:VEVENT
END:VCALENDAR