BEGIN:VCALENDAR
VERSION:2.0
PRODID:-//Aish St. Louis - ECPv6.15.18//NONSGML v1.0//EN
CALSCALE:GREGORIAN
METHOD:PUBLISH
X-ORIGINAL-URL:https://aishstl.com
X-WR-CALDESC:Events for Aish St. Louis
REFRESH-INTERVAL;VALUE=DURATION:PT1H
X-Robots-Tag:noindex
X-PUBLISHED-TTL:PT1H
BEGIN:VTIMEZONE
TZID:America/Chicago
BEGIN:DAYLIGHT
TZOFFSETFROM:-0600
TZOFFSETTO:-0500
TZNAME:CDT
DTSTART:20230312T080000
END:DAYLIGHT
BEGIN:STANDARD
TZOFFSETFROM:-0500
TZOFFSETTO:-0600
TZNAME:CST
DTSTART:20231105T070000
END:STANDARD
BEGIN:DAYLIGHT
TZOFFSETFROM:-0600
TZOFFSETTO:-0500
TZNAME:CDT
DTSTART:20240310T080000
END:DAYLIGHT
BEGIN:STANDARD
TZOFFSETFROM:-0500
TZOFFSETTO:-0600
TZNAME:CST
DTSTART:20241103T070000
END:STANDARD
BEGIN:DAYLIGHT
TZOFFSETFROM:-0600
TZOFFSETTO:-0500
TZNAME:CDT
DTSTART:20250309T080000
END:DAYLIGHT
BEGIN:STANDARD
TZOFFSETFROM:-0500
TZOFFSETTO:-0600
TZNAME:CST
DTSTART:20251102T070000
END:STANDARD
END:VTIMEZONE
BEGIN:VEVENT
DTSTART;TZID=America/Chicago:20241125T181500
DTEND;TZID=America/Chicago:20241125T210000
DTSTAMP:20260422T054234
CREATED:20241112T232353Z
LAST-MODIFIED:20241112T232523Z
UID:10004111-1732558500-1732568400@aishstl.com
SUMMARY:Special Learniversary Dinner for Partners in Torah and Their Families
DESCRIPTION:Join Partners in Torah for a wonderful evening for you and your family that is filled with great food\, friendship\, community\, and special guest\, Mr. Gary Torgow\, Chairman\, Huntington Bank; President of Jewish Federation of Detroit; President of Yeshiva Beth Yehuda School.  See flyer below for details and click here for reservations
URL:https://aishstl.com/event/special-learniversary-dinner-for-partners-in-torah-and-their-families/
LOCATION:Create:  Clayton Plaza Hotel\, Carondelet Avenue 7750\, Clayton\, MO\, 63105\, United States
ATTACH;FMTTYPE=image/png:https://aishstl.com/wordpress/wp-content/uploads/2024/09/PIT-1080x1080-copy@2x-1.png
GEO:38.6482634;-90.3364243
X-APPLE-STRUCTURED-LOCATION;VALUE=URI;X-ADDRESS=Create:  Clayton Plaza Hotel Carondelet Avenue 7750 Clayton MO 63105 United States;X-APPLE-RADIUS=500;X-TITLE=Carondelet Avenue 7750:geo:-90.3364243,38.6482634
END:VEVENT
END:VCALENDAR