BEGIN:VCALENDAR
VERSION:2.0
PRODID:-//Aish St. Louis - ECPv6.15.18//NONSGML v1.0//EN
CALSCALE:GREGORIAN
METHOD:PUBLISH
X-ORIGINAL-URL:https://aishstl.com
X-WR-CALDESC:Events for Aish St. Louis
REFRESH-INTERVAL;VALUE=DURATION:PT1H
X-Robots-Tag:noindex
X-PUBLISHED-TTL:PT1H
BEGIN:VTIMEZONE
TZID:America/Chicago
BEGIN:DAYLIGHT
TZOFFSETFROM:-0600
TZOFFSETTO:-0500
TZNAME:CDT
DTSTART:20180311T080000
END:DAYLIGHT
BEGIN:STANDARD
TZOFFSETFROM:-0500
TZOFFSETTO:-0600
TZNAME:CST
DTSTART:20181104T070000
END:STANDARD
BEGIN:DAYLIGHT
TZOFFSETFROM:-0600
TZOFFSETTO:-0500
TZNAME:CDT
DTSTART:20190310T080000
END:DAYLIGHT
BEGIN:STANDARD
TZOFFSETFROM:-0500
TZOFFSETTO:-0600
TZNAME:CST
DTSTART:20191103T070000
END:STANDARD
BEGIN:DAYLIGHT
TZOFFSETFROM:-0600
TZOFFSETTO:-0500
TZNAME:CDT
DTSTART:20200308T080000
END:DAYLIGHT
BEGIN:STANDARD
TZOFFSETFROM:-0500
TZOFFSETTO:-0600
TZNAME:CST
DTSTART:20201101T070000
END:STANDARD
END:VTIMEZONE
BEGIN:VEVENT
DTSTART;TZID=America/Chicago:20190213T193000
DTEND;TZID=America/Chicago:20190213T213000
DTSTAMP:20260423T132255
CREATED:20190125T162324Z
LAST-MODIFIED:20190125T162536Z
UID:10001695-1550086200-1550093400@aishstl.com
SUMMARY:An Evening with Charlie Harary In Memory of Greg Fox (obm)
DESCRIPTION:Come join the community for an inspirational evening with Charlie Harary\, who will lead us on a journey to “Love Your Neighbor as Yourself:   Wrapped in Love — The Power of Kindness.” \nDedicated in the merit of Greg Fox (obm)\, Chiskiyahu Moshe Yaakov ben Shlomo and Mariossa on his third yartzeit.  A man of integrity\, humility and generosity who kindness touched so many. \nDessert Buffet to follow \nRSVP to Gregfoxevent@gmail.com\nMTI\, 1809 Clarkson Road\, Chesterfield\, MO
URL:https://aishstl.com/event/an-evening-with-charlie-harary-in-memory-of-greg-fox-obm/
LOCATION:MTI\, 1809 Clarkson Road\, Chesterfield\, MO\, 63017\, United States
CATEGORIES:Community
ORGANIZER;CN="Family of Greg Fox (obm)":MAILTO:cwolff@aish.com
GEO:38.6402912;-90.5711907
X-APPLE-STRUCTURED-LOCATION;VALUE=URI;X-ADDRESS=MTI 1809 Clarkson Road Chesterfield MO 63017 United States;X-APPLE-RADIUS=500;X-TITLE=1809 Clarkson Road:geo:-90.5711907,38.6402912
END:VEVENT
END:VCALENDAR