BEGIN:VCALENDAR
VERSION:2.0
PRODID:-//Aish St. Louis - ECPv6.15.18//NONSGML v1.0//EN
CALSCALE:GREGORIAN
METHOD:PUBLISH
X-ORIGINAL-URL:https://aishstl.com
X-WR-CALDESC:Events for Aish St. Louis
REFRESH-INTERVAL;VALUE=DURATION:PT1H
X-Robots-Tag:noindex
X-PUBLISHED-TTL:PT1H
BEGIN:VTIMEZONE
TZID:America/Chicago
BEGIN:DAYLIGHT
TZOFFSETFROM:-0600
TZOFFSETTO:-0500
TZNAME:CDT
DTSTART:20230312T080000
END:DAYLIGHT
BEGIN:STANDARD
TZOFFSETFROM:-0500
TZOFFSETTO:-0600
TZNAME:CST
DTSTART:20231105T070000
END:STANDARD
BEGIN:DAYLIGHT
TZOFFSETFROM:-0600
TZOFFSETTO:-0500
TZNAME:CDT
DTSTART:20240310T080000
END:DAYLIGHT
BEGIN:STANDARD
TZOFFSETFROM:-0500
TZOFFSETTO:-0600
TZNAME:CST
DTSTART:20241103T070000
END:STANDARD
BEGIN:DAYLIGHT
TZOFFSETFROM:-0600
TZOFFSETTO:-0500
TZNAME:CDT
DTSTART:20250309T080000
END:DAYLIGHT
BEGIN:STANDARD
TZOFFSETFROM:-0500
TZOFFSETTO:-0600
TZNAME:CST
DTSTART:20251102T070000
END:STANDARD
END:VTIMEZONE
BEGIN:VEVENT
DTSTART;TZID=America/Chicago:20240407T100000
DTEND;TZID=America/Chicago:20240407T120000
DTSTAMP:20260424T095847
CREATED:20240405T144705Z
LAST-MODIFIED:20240405T144705Z
UID:10003805-1712484000-1712491200@aishstl.com
SUMMARY:Aish Hebrew School
DESCRIPTION:Looking forward to seeing our students at Hebrew School this Sunday to continue our fun learning activities.\nMimi David
URL:https://aishstl.com/event/aish-hebrew-school-7/2024-04-07/
LOCATION:Epstein Hebrew Academy and your home\, 8645 Old Bonhomme Road\, University City\,\, 63132\, United States
ATTACH;FMTTYPE=image/jpeg:https://aishstl.com/wordpress/wp-content/uploads/2023/09/2ndhebschllogo2546e80b9239e76a0147d526e447d9fc098614-e1694985620522.jpg
ORGANIZER;CN="Aish Hatorah of St. Louis":MAILTO:cgoldstein@aishstl.com
GEO:38.6688696;-90.3591399
X-APPLE-STRUCTURED-LOCATION;VALUE=URI;X-ADDRESS=Epstein Hebrew Academy and your home 8645 Old Bonhomme Road University City 63132 United States;X-APPLE-RADIUS=500;X-TITLE=8645 Old Bonhomme Road:geo:-90.3591399,38.6688696
END:VEVENT
BEGIN:VEVENT
DTSTART;TZID=America/Chicago:20240407T100000
DTEND;TZID=America/Chicago:20240407T120000
DTSTAMP:20260424T095847
CREATED:20240328T142843Z
LAST-MODIFIED:20240328T142843Z
UID:10003796-1712484000-1712491200@aishstl.com
SUMMARY:Adult Sunday Class with Rabbi Shmuel Greenwald -- Part 2 of "Spiritually Preparing for Passover"
DESCRIPTION:Join me this morning at EHA and on zoom for Part 2 of my new series on preparing for Passover.  Please join me on zoom at zoom.us/j/3740953378   Dial in:  1-312-626-6799 meeting ID  3740953378\nLooking forward\,\nShmuel
URL:https://aishstl.com/event/adult-sunday-class-with-rabbi-shmuel-greenwald-part-2-of-spiritually-preparing-for-passover/
LOCATION:Epstein Hebrew Academy and your home\, 8645 Old Bonhomme Road\, University City\,\, 63132\, United States
ATTACH;FMTTYPE=image/jpeg:https://aishstl.com/wordpress/wp-content/uploads/2022/04/pesachb8513a805dfb38a11dd60c205cc92329306752.jpg
ORGANIZER;CN="Aish Hatorah of St. Louis":MAILTO:cgoldstein@aishstl.com
GEO:38.6688696;-90.3591399
X-APPLE-STRUCTURED-LOCATION;VALUE=URI;X-ADDRESS=Epstein Hebrew Academy and your home 8645 Old Bonhomme Road University City 63132 United States;X-APPLE-RADIUS=500;X-TITLE=8645 Old Bonhomme Road:geo:-90.3591399,38.6688696
END:VEVENT
BEGIN:VEVENT
DTSTART;TZID=America/Chicago:20240406T100000
DTEND;TZID=America/Chicago:20240406T120000
DTSTAMP:20260424T095847
CREATED:20240405T145906Z
LAST-MODIFIED:20240405T145906Z
UID:10003819-1712397600-1712404800@aishstl.com
SUMMARY:No Soul Building Session at NHBZ with Rabbi Yosef David
DESCRIPTION:Our Soul Building Series won’t meet this week.  Join me again on Saturday\, April 13th as we continue learning how to integrate the spiritual values of the Torah into our everyday life situations.\nAll the best\,\nYosef David
URL:https://aishstl.com/event/no-soul-building-session-at-nhbz-with-rabbi-yosef-david/
LOCATION:Nusach Hari Bnai Zion\, 650 North Price Road\, Olivette\, MO\, 63132\, United States
ATTACH;FMTTYPE=image/jpeg:https://aishstl.com/wordpress/wp-content/uploads/2023/01/Nusach-Hari-crop_JoyMarcusphotos-copy-1-e1676390363915.jpg
ORGANIZER;CN="Aish Hatorah of St. Louis":MAILTO:cgoldstein@aishstl.com
GEO:38.6601647;-90.3372244
X-APPLE-STRUCTURED-LOCATION;VALUE=URI;X-ADDRESS=Nusach Hari Bnai Zion 650 North Price Road Olivette MO 63132 United States;X-APPLE-RADIUS=500;X-TITLE=650 North Price Road:geo:-90.3372244,38.6601647
END:VEVENT
BEGIN:VEVENT
DTSTART;TZID=America/Chicago:20240406T100000
DTEND;TZID=America/Chicago:20240406T113000
DTSTAMP:20260424T095847
CREATED:20240405T145522Z
LAST-MODIFIED:20240405T145522Z
UID:10003815-1712397600-1712403000@aishstl.com
SUMMARY:Shabbat Learners' Service at U City Shul with Rabbi Shmuel Greenwald
DESCRIPTION:Enjoy a lively\, inspirational service where all questions are encouraged.  Prayers are in English and explained along the way.  For more information\, please call Aish at\n314-862-2474 or email sgreenwald@aishstl.com\nLooking forward\,\nShmuel
URL:https://aishstl.com/event/shabbat-learners-service-at-u-city-shul-with-rabbi-shmuel-greenwald-10/2024-04-06/
LOCATION:U City Shul\, 700 North & South Road\, University City\, MO\, 63130\, United States
ATTACH;FMTTYPE=image/jpeg:https://aishstl.com/wordpress/wp-content/uploads/2023/01/UCity_Schul_JoyMarcusphoto-scaled.jpg
ORGANIZER;CN="Aish Hatorah of St. Louis":MAILTO:cgoldstein@aishstl.com
GEO:38.660486;-90.336856
X-APPLE-STRUCTURED-LOCATION;VALUE=URI;X-ADDRESS=U City Shul 700 North & South Road University City MO 63130 United States;X-APPLE-RADIUS=500;X-TITLE=700 North & South Road:geo:-90.336856,38.660486
END:VEVENT
BEGIN:VEVENT
DTSTART;TZID=America/Chicago:20240403T190000
DTEND;TZID=America/Chicago:20240403T203000
DTSTAMP:20260424T095847
CREATED:20240405T151552Z
LAST-MODIFIED:20240405T151552Z
UID:10003829-1712170800-1712176200@aishstl.com
SUMMARY:Challah Club with Mimi David
DESCRIPTION:Join me and your friends to bake yummy Challah for the entire month.  Fee for the year is $136; $18 for one session.  Bring your own trays to carry home your challah.  RSVP to me at mimidavid@aishstl.com.\nLooking forward\, \nMimi
URL:https://aishstl.com/event/challah-club-with-mimi-david-8/
LOCATION:Aish Hatorah\, Aish Hatorah & Your Home\, Chesterfield\, MO\, 63017\, United States
ATTACH;FMTTYPE=image/jpeg:https://aishstl.com/wordpress/wp-content/uploads/2019/01/JWS-Logo-page0001-e1664552368143.jpg
ORGANIZER;CN="Aish Hatorah of St. Louis":MAILTO:cgoldstein@aishstl.com
GEO:38.6630859;-90.503598
X-APPLE-STRUCTURED-LOCATION;VALUE=URI;X-ADDRESS=Aish Hatorah Aish Hatorah & Your Home Chesterfield MO 63017 United States;X-APPLE-RADIUS=500;X-TITLE=Aish Hatorah & Your Home:geo:-90.503598,38.6630859
END:VEVENT
BEGIN:VEVENT
DTSTART;TZID=America/Chicago:20240401T200000
DTEND;TZID=America/Chicago:20240401T210000
DTSTAMP:20260424T095847
CREATED:20240412T145038Z
LAST-MODIFIED:20240412T145038Z
UID:10003845-1712001600-1712005200@aishstl.com
SUMMARY:Partners in Torah
DESCRIPTION:Fire up your Jewish learning and fill the world with light.  To find our more or to join\, contact Rabbi Shmuel Greenwald at 314-862-2474 or at sgreenwald@aishstl.com.  Partners in Torah is a collaboration of Aish Hatorah\, Ignite YP\, Nusach Hari Bnai Zion and St. Louis Community Kollel
URL:https://aishstl.com/event/partners-in-torah/2024-04-01/
LOCATION:Nusach Hari Bnai Zion\, 650 North Price Road\, Olivette\, MO\, 63132\, United States
ATTACH;FMTTYPE=image/jpeg:https://aishstl.com/wordpress/wp-content/uploads/2023/10/pitlogo1-e1703897652868.jpg
ORGANIZER;CN="Aish Hatorah & Shaare Emeth":MAILTO:cgoldstein@aishstl.com
GEO:38.6601647;-90.3372244
X-APPLE-STRUCTURED-LOCATION;VALUE=URI;X-ADDRESS=Nusach Hari Bnai Zion 650 North Price Road Olivette MO 63132 United States;X-APPLE-RADIUS=500;X-TITLE=650 North Price Road:geo:-90.3372244,38.6601647
END:VEVENT
BEGIN:VEVENT
DTSTART;TZID=America/Chicago:20240331T100000
DTEND;TZID=America/Chicago:20240331T120000
DTSTAMP:20260424T095847
CREATED:20240328T142633Z
LAST-MODIFIED:20240328T142730Z
UID:10003723-1711879200-1711886400@aishstl.com
SUMMARY:Adult Sunday Class with Rabbi Shmuel Greenwald -- New 3-Part Series "Spiritually Preparing for Passover"
DESCRIPTION:Join me this morning at EHA and on zoom for Part 1 of my new series on preparing for Passover.  Please join me on zoom at zoom.us/j/3740953378   Dial in:  1-312-626-6799 meeting ID  3740953378\nLooking forward\,\nShmuel
URL:https://aishstl.com/event/adult-sunday-class-with-rabbi-shmuel-greenwald-5-3/
LOCATION:Epstein Hebrew Academy and your home\, 8645 Old Bonhomme Road\, University City\,\, 63132\, United States
ATTACH;FMTTYPE=image/jpeg:https://aishstl.com/wordpress/wp-content/uploads/2022/04/pesachb8513a805dfb38a11dd60c205cc92329306752.jpg
ORGANIZER;CN="Aish Hatorah of St. Louis":MAILTO:cgoldstein@aishstl.com
GEO:38.6688696;-90.3591399
X-APPLE-STRUCTURED-LOCATION;VALUE=URI;X-ADDRESS=Epstein Hebrew Academy and your home 8645 Old Bonhomme Road University City 63132 United States;X-APPLE-RADIUS=500;X-TITLE=8645 Old Bonhomme Road:geo:-90.3591399,38.6688696
END:VEVENT
BEGIN:VEVENT
DTSTART;TZID=America/Chicago:20240331T100000
DTEND;TZID=America/Chicago:20240331T120000
DTSTAMP:20260424T095847
CREATED:20240301T045356Z
LAST-MODIFIED:20240310T063828Z
UID:10003770-1711879200-1711886400@aishstl.com
SUMMARY:Aish Hebrew School
DESCRIPTION:Looking forward to seeing our students at Hebrew School this Sunday to continue our fun learning activities.\nMimi David \n\n\n\n\nPosts
URL:https://aishstl.com/event/aish-hebrew-school-6/2024-03-31/
LOCATION:Epstein Hebrew Academy and your home\, 8645 Old Bonhomme Road\, University City\,\, 63132\, United States
ATTACH;FMTTYPE=image/jpeg:https://aishstl.com/wordpress/wp-content/uploads/2023/09/2ndhebschllogo2546e80b9239e76a0147d526e447d9fc098614-e1694985620522.jpg
ORGANIZER;CN="Aish Hatorah of St. Louis":MAILTO:cgoldstein@aishstl.com
GEO:38.6688696;-90.3591399
X-APPLE-STRUCTURED-LOCATION;VALUE=URI;X-ADDRESS=Epstein Hebrew Academy and your home 8645 Old Bonhomme Road University City 63132 United States;X-APPLE-RADIUS=500;X-TITLE=8645 Old Bonhomme Road:geo:-90.3591399,38.6688696
END:VEVENT
BEGIN:VEVENT
DTSTART;TZID=America/Chicago:20240330T100000
DTEND;TZID=America/Chicago:20240330T113000
DTSTAMP:20260424T095847
CREATED:20240301T051553Z
LAST-MODIFIED:20240310T135157Z
UID:10003745-1711792800-1711798200@aishstl.com
SUMMARY:Shabbat Learners' Service at - U City Shul
DESCRIPTION:Enjoy a lively\, inspirational service where all questions are encouraged.  Prayers are in English and explained along the way.  For more information\, please call Aish at\n314-862-2474 or email sgreenwald@aishstl.com\nLooking forward\,\nShmuel
URL:https://aishstl.com/event/shabbat-learners-service-at-u-city-shul-13/2024-03-30/
LOCATION:U City Shul\, 700 North & South Road\, University City\, MO\, 63130\, United States
ATTACH;FMTTYPE=image/jpeg:https://aishstl.com/wordpress/wp-content/uploads/2023/01/UCity_Schul_JoyMarcusphoto-1-scaled.jpg
ORGANIZER;CN="Aish Hatorah of St. Louis":MAILTO:cgoldstein@aishstl.com
GEO:38.660486;-90.336856
X-APPLE-STRUCTURED-LOCATION;VALUE=URI;X-ADDRESS=U City Shul 700 North & South Road University City MO 63130 United States;X-APPLE-RADIUS=500;X-TITLE=700 North & South Road:geo:-90.336856,38.660486
END:VEVENT
BEGIN:VEVENT
DTSTART;TZID=America/Chicago:20240330T100000
DTEND;TZID=America/Chicago:20240330T113000
DTSTAMP:20260424T095847
CREATED:20240301T051220Z
LAST-MODIFIED:20240301T051220Z
UID:10003733-1711792800-1711798200@aishstl.com
SUMMARY:Soul Building Series at NHBZ
DESCRIPTION:Join our Soul Building Series this week as we continue learning how to integrate the spiritual values of the Torah into our everyday life situations.\nAll the best\,\nYosef David
URL:https://aishstl.com/event/soul-building-series-at-nhbz-4/2024-03-30/
LOCATION:Nusach Hari Bnai Zion\, 650 North Price Road\, Olivette\, MO\, 63132\, United States
ATTACH;FMTTYPE=image/jpeg:https://aishstl.com/wordpress/wp-content/uploads/2023/01/Nusach-Hari-crop_JoyMarcusphotos-copy-1-e1676390363915.jpg
ORGANIZER;CN="Aish Hatorah of St. Louis":MAILTO:cgoldstein@aishstl.com
GEO:38.6601647;-90.3372244
X-APPLE-STRUCTURED-LOCATION;VALUE=URI;X-ADDRESS=Nusach Hari Bnai Zion 650 North Price Road Olivette MO 63132 United States;X-APPLE-RADIUS=500;X-TITLE=650 North Price Road:geo:-90.3372244,38.6601647
END:VEVENT
BEGIN:VEVENT
DTSTART;VALUE=DATE:20240330
DTEND;VALUE=DATE:20240331
DTSTAMP:20260424T095847
CREATED:20240326T195032Z
LAST-MODIFIED:20240326T195032Z
UID:10003794-1711756800-1711843199@aishstl.com
SUMMARY:Day 30 -- "Conclusion"
DESCRIPTION:
URL:https://aishstl.com/event/day-30-conclusion/
LOCATION:Your home
ORGANIZER;CN="Aish Hatorah of St. Louis":MAILTO:cgoldstein@aishstl.com
END:VEVENT
BEGIN:VEVENT
DTSTART;VALUE=DATE:20240329
DTEND;VALUE=DATE:20240330
DTSTAMP:20260424T095847
CREATED:20240326T194824Z
LAST-MODIFIED:20240326T194824Z
UID:10003793-1711670400-1711756799@aishstl.com
SUMMARY:Day 29 -- "Chanukah Or"
DESCRIPTION:
URL:https://aishstl.com/event/day-29-chanukah-or/
LOCATION:Your home
ORGANIZER;CN="Aish Hatorah of St. Louis":MAILTO:cgoldstein@aishstl.com
END:VEVENT
BEGIN:VEVENT
DTSTART;VALUE=DATE:20240328
DTEND;VALUE=DATE:20240329
DTSTAMP:20260424T095847
CREATED:20240326T194728Z
LAST-MODIFIED:20240326T194728Z
UID:10003792-1711584000-1711670399@aishstl.com
SUMMARY:Day 28 -- "Forgiveness"
DESCRIPTION:
URL:https://aishstl.com/event/day-28-forgiveness/
LOCATION:Your home
ORGANIZER;CN="Aish Hatorah of St. Louis":MAILTO:cgoldstein@aishstl.com
END:VEVENT
BEGIN:VEVENT
DTSTART;VALUE=DATE:20240327
DTEND;VALUE=DATE:20240328
DTSTAMP:20260424T095847
CREATED:20240326T194630Z
LAST-MODIFIED:20240326T194630Z
UID:10003791-1711497600-1711583999@aishstl.com
SUMMARY:Day 27 -- "How to Be Super"
DESCRIPTION:
URL:https://aishstl.com/event/day-27-how-to-be-super/
LOCATION:Your home\, MO\, United States
ORGANIZER;CN="Aish Hatorah of St. Louis":MAILTO:cgoldstein@aishstl.com
GEO:37.9642529;-91.8318334
END:VEVENT
BEGIN:VEVENT
DTSTART;VALUE=DATE:20240326
DTEND;VALUE=DATE:20240327
DTSTAMP:20260424T095847
CREATED:20240326T195209Z
LAST-MODIFIED:20240328T142233Z
UID:10003795-1711411200-1711497599@aishstl.com
SUMMARY:Day 26 -- "How to Be Like Ahron"
DESCRIPTION:
URL:https://aishstl.com/event/day-26-be-super/
LOCATION:Your home
ORGANIZER;CN="Aish Hatorah of St. Louis":MAILTO:cgoldstein@aishstl.com
END:VEVENT
BEGIN:VEVENT
DTSTART;VALUE=DATE:20240325
DTEND;VALUE=DATE:20240326
DTSTAMP:20260424T095847
CREATED:20240323T215653Z
LAST-MODIFIED:20240323T215653Z
UID:10003790-1711324800-1711411199@aishstl.com
SUMMARY:Day 25 -- "Be Like Ahron"
DESCRIPTION:
URL:https://aishstl.com/event/day-25-be-like-ahron/
LOCATION:Your home
ORGANIZER;CN="Aish Hatorah of St. Louis":MAILTO:cgoldstein@aishstl.com
END:VEVENT
BEGIN:VEVENT
DTSTART;TZID=America/Chicago:20240324T100000
DTEND;TZID=America/Chicago:20240324T120000
DTSTAMP:20260424T095847
CREATED:20240321T141114Z
LAST-MODIFIED:20240322T151751Z
UID:10003722-1711274400-1711281600@aishstl.com
SUMMARY:Adult Sunday Class's Purim Celebration with Rabbi Shmuel Greenwald -- in person only
DESCRIPTION:Join me this morning for our Purim Celebration to hear the Megillah Esther\, fun adult activities\,  and delicious Brunch.  RSVP to me at sgreenwald@aishstl.com or Caren Goldstein at cgoldstein@aishstl.com by Friday\, March 22nd.  Epstein Hebrew Academy\, 8645 Old Bonhomme Road\, St. Louis\, MO 63132.  Adults $8\, Children $5 (5-12)\, Aish Hebrew School students no charge)  See the flier below for more details.\nLooking forward\,\nShmuel
URL:https://aishstl.com/event/adult-sunday-class-with-rabbi-shmuel-greenwald-5-2/
LOCATION:Epstein Hebrew Academy\, 8645 Old Bonhomme Road\, St. Louis\, 63130\, United States
ORGANIZER;CN="Aish Hatorah of St. Louis":MAILTO:cgoldstein@aishstl.com
GEO:38.6688696;-90.3591399
X-APPLE-STRUCTURED-LOCATION;VALUE=URI;X-ADDRESS=Epstein Hebrew Academy 8645 Old Bonhomme Road St. Louis 63130 United States;X-APPLE-RADIUS=500;X-TITLE=8645 Old Bonhomme Road:geo:-90.3591399,38.6688696
END:VEVENT
BEGIN:VEVENT
DTSTART;TZID=America/Chicago:20240324T100000
DTEND;TZID=America/Chicago:20240324T120000
DTSTAMP:20260424T095847
CREATED:20240301T050803Z
LAST-MODIFIED:20240322T150719Z
UID:10003728-1711274400-1711281600@aishstl.com
SUMMARY:Aish Hebrew School Invites all to its Purim Celebration
DESCRIPTION:All Hebrew School students are invited to join our Purim Celebration with a magic show\, Megillah Reading\, delicious Brunch\, and loads of fun surprises!!  Come in costume and invite your parents\, relatives\, and friends to enjoy this joyous celebration with us.  RSVP today to Caren Goldstein at 314-862-2474 or email me at mimidavid@aishstl.com.\nfor more information.\nLooking forward\,\nMimi
URL:https://aishstl.com/event/aish-hebrew-school-purim-family-celebration/
LOCATION:Epstein Hebrew Academy\, 8645 Old Bonhomme Road\, St. Louis\, 63130\, United States
ATTACH;FMTTYPE=image/jpeg:https://aishstl.com/wordpress/wp-content/uploads/2022/09/Aish-Hebrew-School-logo-2022-color-e1662134763255.jpg
ORGANIZER;CN="Aish Hatorah of St. Louis":MAILTO:cgoldstein@aishstl.com
GEO:38.6688696;-90.3591399
X-APPLE-STRUCTURED-LOCATION;VALUE=URI;X-ADDRESS=Epstein Hebrew Academy 8645 Old Bonhomme Road St. Louis 63130 United States;X-APPLE-RADIUS=500;X-TITLE=8645 Old Bonhomme Road:geo:-90.3591399,38.6688696
END:VEVENT
BEGIN:VEVENT
DTSTART;VALUE=DATE:20240324
DTEND;VALUE=DATE:20240325
DTSTAMP:20260424T095847
CREATED:20240323T215552Z
LAST-MODIFIED:20240323T215552Z
UID:10003789-1711238400-1711324799@aishstl.com
SUMMARY:Day 24 -- "The Concession Stand"
DESCRIPTION:
URL:https://aishstl.com/event/day-24-the-concession-stand/
LOCATION:Your home
ORGANIZER;CN="Aish Hatorah of St. Louis":MAILTO:cgoldstein@aishstl.com
END:VEVENT
BEGIN:VEVENT
DTSTART;VALUE=DATE:20240324
DTEND;VALUE=DATE:20240325
DTSTAMP:20260424T095847
CREATED:20240315T184044Z
LAST-MODIFIED:20240315T184044Z
UID:10003781-1711238400-1711324799@aishstl.com
SUMMARY:Purim
DESCRIPTION:
URL:https://aishstl.com/event/purim-3/
LOCATION:Your home
ATTACH;FMTTYPE=image/jpeg:https://aishstl.com/wordpress/wp-content/uploads/2020/02/Purim-2-e1646285515448.jpg
END:VEVENT
BEGIN:VEVENT
DTSTART;TZID=America/Chicago:20240323T200000
DTEND;TZID=America/Chicago:20240323T233000
DTSTAMP:20260424T095847
CREATED:20240315T183934Z
LAST-MODIFIED:20240315T183934Z
UID:10003780-1711224000-1711236600@aishstl.com
SUMMARY:Erev Purim
DESCRIPTION:
URL:https://aishstl.com/event/erev-purim-3/
LOCATION:Your home
ATTACH;FMTTYPE=image/jpeg:https://aishstl.com/wordpress/wp-content/uploads/2020/02/Purim-2-e1646285515448.jpg
END:VEVENT
BEGIN:VEVENT
DTSTART;TZID=America/Chicago:20240323T100000
DTEND;TZID=America/Chicago:20240323T113000
DTSTAMP:20260424T095847
CREATED:20240301T051553Z
LAST-MODIFIED:20240310T135157Z
UID:10003744-1711188000-1711193400@aishstl.com
SUMMARY:Shabbat Learners' Service at - U City Shul
DESCRIPTION:Enjoy a lively\, inspirational service where all questions are encouraged.  Prayers are in English and explained along the way.  For more information\, please call Aish at\n314-862-2474 or email sgreenwald@aishstl.com\nLooking forward\,\nShmuel
URL:https://aishstl.com/event/shabbat-learners-service-at-u-city-shul-13/2024-03-23/
LOCATION:U City Shul\, 700 North & South Road\, University City\, MO\, 63130\, United States
ATTACH;FMTTYPE=image/jpeg:https://aishstl.com/wordpress/wp-content/uploads/2023/01/UCity_Schul_JoyMarcusphoto-1-scaled.jpg
ORGANIZER;CN="Aish Hatorah of St. Louis":MAILTO:cgoldstein@aishstl.com
GEO:38.660486;-90.336856
X-APPLE-STRUCTURED-LOCATION;VALUE=URI;X-ADDRESS=U City Shul 700 North & South Road University City MO 63130 United States;X-APPLE-RADIUS=500;X-TITLE=700 North & South Road:geo:-90.336856,38.660486
END:VEVENT
BEGIN:VEVENT
DTSTART;TZID=America/Chicago:20240323T100000
DTEND;TZID=America/Chicago:20240323T113000
DTSTAMP:20260424T095847
CREATED:20240301T051220Z
LAST-MODIFIED:20240301T051220Z
UID:10003732-1711188000-1711193400@aishstl.com
SUMMARY:Soul Building Series at NHBZ
DESCRIPTION:Join our Soul Building Series this week as we continue learning how to integrate the spiritual values of the Torah into our everyday life situations.\nAll the best\,\nYosef David
URL:https://aishstl.com/event/soul-building-series-at-nhbz-4/2024-03-23/
LOCATION:Nusach Hari Bnai Zion\, 650 North Price Road\, Olivette\, MO\, 63132\, United States
ATTACH;FMTTYPE=image/jpeg:https://aishstl.com/wordpress/wp-content/uploads/2023/01/Nusach-Hari-crop_JoyMarcusphotos-copy-1-e1676390363915.jpg
ORGANIZER;CN="Aish Hatorah of St. Louis":MAILTO:cgoldstein@aishstl.com
GEO:38.6601647;-90.3372244
X-APPLE-STRUCTURED-LOCATION;VALUE=URI;X-ADDRESS=Nusach Hari Bnai Zion 650 North Price Road Olivette MO 63132 United States;X-APPLE-RADIUS=500;X-TITLE=650 North Price Road:geo:-90.3372244,38.6601647
END:VEVENT
BEGIN:VEVENT
DTSTART;VALUE=DATE:20240323
DTEND;VALUE=DATE:20240324
DTSTAMP:20260424T095847
CREATED:20240323T215040Z
LAST-MODIFIED:20240323T215433Z
UID:10003788-1711152000-1711238399@aishstl.com
SUMMARY:Day 23 -- "The Million Dollar Word -- Part 2"
DESCRIPTION:
URL:https://aishstl.com/event/day-24-be-like-ahron/
LOCATION:Your home
ORGANIZER;CN="Aish Hatorah of St. Louis":MAILTO:cgoldstein@aishstl.com
END:VEVENT
BEGIN:VEVENT
DTSTART;VALUE=DATE:20240322
DTEND;VALUE=DATE:20240323
DTSTAMP:20260424T095847
CREATED:20240323T214755Z
LAST-MODIFIED:20240323T214755Z
UID:10003786-1711065600-1711151999@aishstl.com
SUMMARY:Day 22 -- "The Million Dollar Word"
DESCRIPTION:
URL:https://aishstl.com/event/day-22-the-million-dollar-word/
LOCATION:Your home
ORGANIZER;CN="Aish Hatorah of St. Louis":MAILTO:cgoldstein@aishstl.com
END:VEVENT
BEGIN:VEVENT
DTSTART;VALUE=DATE:20240321
DTEND;VALUE=DATE:20240322
DTSTAMP:20260424T095847
CREATED:20240323T214418Z
LAST-MODIFIED:20240323T214418Z
UID:10003784-1710979200-1711065599@aishstl.com
SUMMARY:Day 21 -- "Can I Be Candid"
DESCRIPTION:
URL:https://aishstl.com/event/day-21-can-i-be-candid/
LOCATION:Your home
ORGANIZER;CN="Aish Hatorah of St. Louis":MAILTO:cgoldstein@aishstl.com
END:VEVENT
BEGIN:VEVENT
DTSTART;VALUE=DATE:20240320
DTEND;VALUE=DATE:20240321
DTSTAMP:20260424T095847
CREATED:20240323T214124Z
LAST-MODIFIED:20240323T214251Z
UID:10003782-1710892800-1710979199@aishstl.com
SUMMARY:Day 20 --"Your Shalom Account"
DESCRIPTION:
URL:https://aishstl.com/event/day-19-the-voice-from-within/
LOCATION:Your home
ORGANIZER;CN="Aish Hatorah of St. Louis":MAILTO:cgoldstein@aishstl.com
END:VEVENT
BEGIN:VEVENT
DTSTART;TZID=America/Chicago:20240319T203000
DTEND;TZID=America/Chicago:20240319T213000
DTSTAMP:20260424T095847
CREATED:20240301T042622Z
LAST-MODIFIED:20240301T042836Z
UID:10003711-1710880200-1710883800@aishstl.com
SUMMARY:Jewish Women's Society  -- Mamas in Pajamas with Mimi David
DESCRIPTION:Mama’s in Pajamas  8:30 pm on zoom — Join me from the comfort of your own home for inspiration to discover Lessons for Ladies from the weekly Torah portion.  You can login at zoom.us/j/9699246316  meeting id 9699246316  dial: 1-312-626-6799.  For more information or to RSVP\, call 314-862-2474 or email me at mdavid@aishstl.com.\nLooking forward\,\nMimi
URL:https://aishstl.com/event/jewish-womens-society-mamas-in-pajamas-with-mimi-david-3-2/
LOCATION:Your home
ATTACH;FMTTYPE=image/jpeg:https://aishstl.com/wordpress/wp-content/uploads/2019/01/JWS-Logo-page0001-e1664552368143.jpg
ORGANIZER;CN="Jewish Women's Society":MAILTO:cwolff@aish.com
END:VEVENT
BEGIN:VEVENT
DTSTART;VALUE=DATE:20240319
DTEND;VALUE=DATE:20240320
DTSTAMP:20260424T095847
CREATED:20240323T214619Z
LAST-MODIFIED:20240323T214619Z
UID:10003785-1710806400-1710892799@aishstl.com
SUMMARY:Day 19  -- "The Voice from Within"
DESCRIPTION:
URL:https://aishstl.com/event/day-19-the-voice-from-within-2/
LOCATION:Your home
ORGANIZER;CN="Aish Hatorah of St. Louis":MAILTO:cgoldstein@aishstl.com
END:VEVENT
BEGIN:VEVENT
DTSTART;VALUE=DATE:20240318
DTEND;VALUE=DATE:20240319
DTSTAMP:20260424T095847
CREATED:20240315T183419Z
LAST-MODIFIED:20240315T183419Z
UID:10003779-1710720000-1710806399@aishstl.com
SUMMARY:Day 18 --"Friendly Fire"
DESCRIPTION:
URL:https://aishstl.com/event/day-18-friendly-fire/
LOCATION:Your home
ORGANIZER;CN="Aish Hatorah of St. Louis":MAILTO:cgoldstein@aishstl.com
END:VEVENT
END:VCALENDAR