BEGIN:VCALENDAR
VERSION:2.0
PRODID:-//Aish St. Louis - ECPv6.15.18//NONSGML v1.0//EN
CALSCALE:GREGORIAN
METHOD:PUBLISH
X-ORIGINAL-URL:https://aishstl.com
X-WR-CALDESC:Events for Aish St. Louis
REFRESH-INTERVAL;VALUE=DURATION:PT1H
X-Robots-Tag:noindex
X-PUBLISHED-TTL:PT1H
BEGIN:VTIMEZONE
TZID:America/Chicago
BEGIN:DAYLIGHT
TZOFFSETFROM:-0600
TZOFFSETTO:-0500
TZNAME:CDT
DTSTART:20250309T080000
END:DAYLIGHT
BEGIN:STANDARD
TZOFFSETFROM:-0500
TZOFFSETTO:-0600
TZNAME:CST
DTSTART:20251102T070000
END:STANDARD
BEGIN:DAYLIGHT
TZOFFSETFROM:-0600
TZOFFSETTO:-0500
TZNAME:CDT
DTSTART:20260308T080000
END:DAYLIGHT
BEGIN:STANDARD
TZOFFSETFROM:-0500
TZOFFSETTO:-0600
TZNAME:CST
DTSTART:20261101T070000
END:STANDARD
BEGIN:DAYLIGHT
TZOFFSETFROM:-0600
TZOFFSETTO:-0500
TZNAME:CDT
DTSTART:20270314T080000
END:DAYLIGHT
BEGIN:STANDARD
TZOFFSETFROM:-0500
TZOFFSETTO:-0600
TZNAME:CST
DTSTART:20271107T070000
END:STANDARD
END:VTIMEZONE
BEGIN:VEVENT
DTSTART;TZID=America/Chicago:20260504T140000
DTEND;TZID=America/Chicago:20260504T153000
DTSTAMP:20260425T052702
CREATED:20260407T044027Z
LAST-MODIFIED:20260417T044743Z
UID:10004869-1777903200-1777908600@aishstl.com
SUMMARY:New 3-Part Series with Mimi David -- The Book of Ruth -- For Women Only
DESCRIPTION:Women are invited to join me in a warm and engaging setting as we explore the powerful and inspiring story of Megillas Rus whose messages are still relevant today.   \nDATES:  Mondays\, April 20\, April 27\, and May 4 \nTIME:     2:00 PM \nLOCATION & COST:  $30 for the series directly to me through Zelle or Venmo;\nRSVP to mimidavid@aishstl.com for address and payment details. \nParticipants are asked to order the “Megillas Rus” book through Artscroll (see flyer below).
URL:https://aishstl.com/event/new-3-part-series-with-mimi-david-the-book-of-ruth-for-women-only/2026-05-04/
LOCATION:Mimi David’s home\, 827 Swarthmore Lane\, University City\, MO\, 63130\, United States
ATTACH;FMTTYPE=image/jpeg:https://aishstl.com/wordpress/wp-content/uploads/2026/04/Book-of-Ruth-2-Untitled-design-39.jpg
ORGANIZER;CN="Jewish Women's Society":MAILTO:cwolff@aish.com
GEO:38.663758;-90.349739
X-APPLE-STRUCTURED-LOCATION;VALUE=URI;X-ADDRESS=Mimi David’s home 827 Swarthmore Lane University City MO 63130 United States;X-APPLE-RADIUS=500;X-TITLE=827 Swarthmore Lane:geo:-90.349739,38.663758
END:VEVENT
BEGIN:VEVENT
DTSTART;TZID=America/Chicago:20260509T100000
DTEND;TZID=America/Chicago:20260509T113000
DTSTAMP:20260425T052702
CREATED:20260407T032724Z
LAST-MODIFIED:20260420T181234Z
UID:10004859-1778320800-1778326200@aishstl.com
SUMMARY:4-Week Shabbat Prayer Series -- Service of the Heart: Discover the Depth of Prayer with Rabbi Shmuel Greenwald
DESCRIPTION:Join me for my new Shabbat Prayer Series as we delve each week into the meaning and power of Shabbat prayer so that you can deepen your connection with the Almighty.\nDATES:  Saturdays\, April 25\, May 2\, 9\, 16 \nTIME:  10 AM – 11:30 AM \nLOCATION:  U City Shul\, 700 North & South Road\, University City\, MO 63130 (Small library downstairs)   Email sgreenwald@aishstl.com for more information   \nLooking forward\,   \nShmuel
URL:https://aishstl.com/event/no-shabbat-learners-service-at-u-city-shul-passover-break-april-4-2-2-2/2026-05-09/
LOCATION:U City Shul\, 700 North & South Road\, University City\, MO\, 63130\, United States
ATTACH;FMTTYPE=image/jpeg:https://aishstl.com/wordpress/wp-content/uploads/2026/04/R.g-new-shabbat-post.3-1.jpg
ORGANIZER;CN="Aish Hatorah of St. Louis":MAILTO:cgoldstein@aishstl.com
GEO:38.660486;-90.336856
X-APPLE-STRUCTURED-LOCATION;VALUE=URI;X-ADDRESS=DESCRIPTION:Join me for my new Shabbat Prayer Series as we delve each week into the meaning and power of Shabbat prayer so that you can deepen your connection with the Almighty.\nDATES:  Saturdays April 25 May 2 9 16 \nTIME:  10 AM – 11:30 AM \n  U City Shul 700 North & South Road University City MO 63130 (Small library downstairs)   Email sgreenwald@aishstl.com for more information   \nLooking forward   \nShmuel;X-APPLE-RADIUS=500;X-TITLE=700 North & South Road:geo:-90.336856,38.660486
END:VEVENT
BEGIN:VEVENT
DTSTART;TZID=America/Chicago:20260509T100000
DTEND;TZID=America/Chicago:20260509T120000
DTSTAMP:20260425T052702
CREATED:20260421T151502Z
LAST-MODIFIED:20260421T151502Z
UID:10004873-1778320800-1778328000@aishstl.com
SUMMARY:Soul Building Series at NHBZ (copy)
DESCRIPTION:Our Soul Building meets this Shabbat as we’re together again to continue to engage in lively discussions on how the Torah relates to and guides us in everyday life.\nLooking forward\, \nYosef\n 
URL:https://aishstl.com/event/no-soul-building-series-passover-break-resumes-april-18-10-am-2-2-2/2026-05-09/
LOCATION:Nusach Hari Bnai Zion\, 650 North Price Road\, Olivette\, MO\, 63132\, United States
ATTACH;FMTTYPE=image/jpeg:https://aishstl.com/wordpress/wp-content/uploads/2025/08/Soul-Instagram-Post.jpg
ORGANIZER;CN="Aish Hatorah of St. Louis":MAILTO:cgoldstein@aishstl.com
GEO:38.6601647;-90.3372244
X-APPLE-STRUCTURED-LOCATION;VALUE=URI;X-ADDRESS=Nusach Hari Bnai Zion 650 North Price Road Olivette MO 63132 United States;X-APPLE-RADIUS=500;X-TITLE=650 North Price Road:geo:-90.3372244,38.6601647
END:VEVENT
BEGIN:VEVENT
DTSTART;TZID=America/Chicago:20260516T100000
DTEND;TZID=America/Chicago:20260516T113000
DTSTAMP:20260425T052702
CREATED:20260407T032724Z
LAST-MODIFIED:20260420T181234Z
UID:10004860-1778925600-1778931000@aishstl.com
SUMMARY:4-Week Shabbat Prayer Series -- Service of the Heart: Discover the Depth of Prayer with Rabbi Shmuel Greenwald
DESCRIPTION:Join me for my new Shabbat Prayer Series as we delve each week into the meaning and power of Shabbat prayer so that you can deepen your connection with the Almighty.\nDATES:  Saturdays\, April 25\, May 2\, 9\, 16 \nTIME:  10 AM – 11:30 AM \nLOCATION:  U City Shul\, 700 North & South Road\, University City\, MO 63130 (Small library downstairs)   Email sgreenwald@aishstl.com for more information   \nLooking forward\,   \nShmuel
URL:https://aishstl.com/event/no-shabbat-learners-service-at-u-city-shul-passover-break-april-4-2-2-2/2026-05-16/
LOCATION:U City Shul\, 700 North & South Road\, University City\, MO\, 63130\, United States
ATTACH;FMTTYPE=image/jpeg:https://aishstl.com/wordpress/wp-content/uploads/2026/04/R.g-new-shabbat-post.3-1.jpg
ORGANIZER;CN="Aish Hatorah of St. Louis":MAILTO:cgoldstein@aishstl.com
GEO:38.660486;-90.336856
X-APPLE-STRUCTURED-LOCATION;VALUE=URI;X-ADDRESS=DESCRIPTION:Join me for my new Shabbat Prayer Series as we delve each week into the meaning and power of Shabbat prayer so that you can deepen your connection with the Almighty.\nDATES:  Saturdays April 25 May 2 9 16 \nTIME:  10 AM – 11:30 AM \n  U City Shul 700 North & South Road University City MO 63130 (Small library downstairs)   Email sgreenwald@aishstl.com for more information   \nLooking forward   \nShmuel;X-APPLE-RADIUS=500;X-TITLE=700 North & South Road:geo:-90.336856,38.660486
END:VEVENT
END:VCALENDAR