BEGIN:VCALENDAR
VERSION:2.0
PRODID:-//Aish St. Louis - ECPv6.15.18//NONSGML v1.0//EN
CALSCALE:GREGORIAN
METHOD:PUBLISH
X-ORIGINAL-URL:https://aishstl.com
X-WR-CALDESC:Events for Aish St. Louis
REFRESH-INTERVAL;VALUE=DURATION:PT1H
X-Robots-Tag:noindex
X-PUBLISHED-TTL:PT1H
BEGIN:VTIMEZONE
TZID:UTC
BEGIN:STANDARD
TZOFFSETFROM:+0000
TZOFFSETTO:+0000
TZNAME:UTC
DTSTART:20170101T000000
END:STANDARD
END:VTIMEZONE
BEGIN:VEVENT
DTSTART;TZID=UTC:20181029T203000
DTEND;TZID=UTC:20181029T213000
DTSTAMP:20260424T104714
CREATED:20181005T225514Z
LAST-MODIFIED:20181025T213702Z
UID:10001553-1540845000-1540848600@aishstl.com
SUMMARY:Jewish Women's Society -- Live Conference Call
DESCRIPTION:LIVE Conference Call — “Mama’s in Pajamas” with Mimi David \nDial in:  605-472-5814    Access Code: 126-753-373
URL:https://aishstl.com/event/jewish-womens-society-5-2/
LOCATION:Your home
CATEGORIES:Adult Learning,Community,Jewish Women's Society (JWS),Women Only
ORGANIZER;CN="Aish Hatorah of St. Louis":MAILTO:cgoldstein@aishstl.com
END:VEVENT
BEGIN:VEVENT
DTSTART;TZID=UTC:20181029T194500
DTEND;TZID=UTC:20181029T210000
DTSTAMP:20260424T104715
CREATED:20181012T002704Z
LAST-MODIFIED:20181012T002704Z
UID:10001558-1540842300-1540846800@aishstl.com
SUMMARY:Fall Classes with Rabbi Shmuel Greenwald
DESCRIPTION:For thousands of years those who have sought solace and inspiration and the peace of mind that comes with trusting God have turned to the Book of Psalms.\nJoin me for this 3-part series introducing you to those timeless poems. We will meet on Mondays\, October 22nd\, 29th\, and November 5th.
URL:https://aishstl.com/event/aish-hebrew-adult-sunday-school-2-2-2/
LOCATION:Aish Firehouse\, 457 N. Woods MIll Rd.\, Chesterfield\, MO\, 63107\, United States
CATEGORIES:Adult Learning,Community
ATTACH;FMTTYPE=image/jpeg:https://aishstl.com/wordpress/wp-content/uploads/2018/09/Rabbi-Greenwald3-1.jpg
ORGANIZER;CN="Aish Hatorah of St. Louis":MAILTO:cgoldstein@aishstl.com
GEO:38.6630859;-90.503598
X-APPLE-STRUCTURED-LOCATION;VALUE=URI;X-ADDRESS=Aish Firehouse 457 N. Woods MIll Rd. Chesterfield MO 63107 United States;X-APPLE-RADIUS=500;X-TITLE=457 N. Woods MIll Rd.:geo:-90.503598,38.6630859
END:VEVENT
BEGIN:VEVENT
DTSTART;TZID=UTC:20181028T190000
DTEND;TZID=UTC:20181028T210000
DTSTAMP:20260424T104715
CREATED:20181005T231311Z
LAST-MODIFIED:20181005T231543Z
UID:10001556-1540753200-1540760400@aishstl.com
SUMMARY:The Annual Rubin Feldman Memorial Lecture presents Rabbi Shmuel Klein
DESCRIPTION:Join Rabbi Shmuel Klein as he explores the “Stars that Pierce the Darkness:  Jewish Heroism in the face of Evil” through profiles of valor among Jews during the Shoah\, as well as the circumstances and characteristics that enabled this courage.\nLight reception to follow (dietary laws observed).\nThis event is free and open to the public\, but registration is required.\nRSVP to Dan Reich at 314-442-3714 or DReich@JFedSTL.org or the Aish office at 314-862-2474 or cwolff@aish.com
URL:https://aishstl.com/event/the-annual-rubin-feldman-memorial-lecture/
LOCATION:MO
CATEGORIES:Community,Events
ORGANIZER;CN="Aish Hatorah of St. Louis":MAILTO:cgoldstein@aishstl.com
END:VEVENT
BEGIN:VEVENT
DTSTART;TZID=UTC:20181028T100000
DTEND;TZID=UTC:20181028T120000
DTSTAMP:20260424T104715
CREATED:20180913T221801Z
LAST-MODIFIED:20190310T214036Z
UID:10001521-1540720800-1540728000@aishstl.com
SUMMARY:Aish Hebrew/Adult Sunday School
DESCRIPTION:Adult Sunday School\nwith Rabbi Shmuel Greenwald\, Sundays 10 am – noon\nDo you want something to do on Sundays that will change your week? Do you want to be less stressed\, create balance in your life\, and have the wisdom to focus on what really matters? Join me as we learn: \n10:00 – 10:50 am Ethics of Our Fathers \nHuman nature never changes. Learn practical wisdom for living with our sages. \n11:00 – 11:50 am  Parsha of the Week\nThe word “Torah” means “instructions” and the Torah refers to itself as “instructions for living”. Learn how the Torah teaches us practical wisdom to deeper relationships and a richer\, more meaningful life. \nSuggested donation: $5 per class
URL:https://aishstl.com/event/aish-hebrew-adult-sunday-school-2/2018-10-28/
LOCATION:Aish Firehouse\, 457 N. Woods MIll Rd.\, Chesterfield\, MO\, 63107\, United States
CATEGORIES:Adult Learning,Community,Hebrew School
ATTACH;FMTTYPE=image/jpeg:https://aishstl.com/wordpress/wp-content/uploads/2018/09/Photo-Oct-14-11-31-24-AM-1.jpg
ORGANIZER;CN="Aish Hatorah of St. Louis":MAILTO:cgoldstein@aishstl.com
GEO:38.6630859;-90.503598
X-APPLE-STRUCTURED-LOCATION;VALUE=URI;X-ADDRESS=Aish Firehouse 457 N. Woods MIll Rd. Chesterfield MO 63107 United States;X-APPLE-RADIUS=500;X-TITLE=457 N. Woods MIll Rd.:geo:-90.503598,38.6630859
END:VEVENT
BEGIN:VEVENT
DTSTART;TZID=UTC:20181027T093000
DTEND;TZID=UTC:20181027T110000
DTSTAMP:20260424T104715
CREATED:20180501T193755Z
LAST-MODIFIED:20181026T231314Z
UID:10001490-1540632600-1540638000@aishstl.com
SUMMARY:Shabbat Learners' Service - Nusach Hari Bnai Zion
DESCRIPTION:Enjoy a lively\, inspirational service where all questions are encouraged. Prayers are in English and explained along the way.
URL:https://aishstl.com/event/shabbat-learners-service-nusach-hari-bnai-zion-2018-10-27/
LOCATION:Nusach Hari Bnai Zion\, 650 North Price Road\, Olivette\, MO\, 63132\, United States
CATEGORIES:Community,Shabbat
ATTACH;FMTTYPE=image/jpeg:https://aishstl.com/wordpress/wp-content/uploads/2018/05/Shabbos_.jpeg
ORGANIZER;CN="Aish Hatorah of St. Louis":MAILTO:cgoldstein@aishstl.com
GEO:38.6601647;-90.3372244
X-APPLE-STRUCTURED-LOCATION;VALUE=URI;X-ADDRESS=Nusach Hari Bnai Zion 650 North Price Road Olivette MO 63132 United States;X-APPLE-RADIUS=500;X-TITLE=650 North Price Road:geo:-90.3372244,38.6601647
END:VEVENT
BEGIN:VEVENT
DTSTART;TZID=UTC:20181025T090000
DTEND;TZID=UTC:20181025T100000
DTSTAMP:20260424T104715
CREATED:20181005T231020Z
LAST-MODIFIED:20181005T231020Z
UID:10001555-1540458000-1540461600@aishstl.com
SUMMARY:Jewish Women's Society Coffee & Schmooze
DESCRIPTION:COFFEE & SHMOOZE with Mimi David\nKohn’s Deli\, 10405 Old Olive Street Rd.\, Creve Coeur 63141 \n 
URL:https://aishstl.com/event/jewish-womens-society-coffee-schmooze-2-2/
LOCATION:Kohn’s Deli\, 10405 Old Olive Street Road\, Creve Coeur\, MO\, 63141\, United States
CATEGORIES:Adult Learning,Jewish Women's Society (JWS),Women Only
ORGANIZER;CN="Aish Hatorah of St. Louis":MAILTO:cgoldstein@aishstl.com
GEO:38.675859;-90.40869
X-APPLE-STRUCTURED-LOCATION;VALUE=URI;X-ADDRESS=Kohn’s Deli 10405 Old Olive Street Road Creve Coeur MO 63141 United States;X-APPLE-RADIUS=500;X-TITLE=10405 Old Olive Street Road:geo:-90.40869,38.675859
END:VEVENT
BEGIN:VEVENT
DTSTART;TZID=UTC:20181022T194500
DTEND;TZID=UTC:20181022T210000
DTSTAMP:20260424T104715
CREATED:20181012T002521Z
LAST-MODIFIED:20181012T002521Z
UID:10001557-1540237500-1540242000@aishstl.com
SUMMARY:Fall Classes with Rabbi Shmuel Greenwald
DESCRIPTION:For thousands of years those who have sought solace and inspiration and the peace of mind that comes with trusting God have turned to the Book of Psalms.\nJoin me for this 3-part series introducing you to those timeless poems. We will meet on Mondays\, October 22nd\, 29th\, and November 5th.
URL:https://aishstl.com/event/aish-hebrew-adult-sunday-school-2-2/
LOCATION:Aish Firehouse\, 457 N. Woods MIll Rd.\, Chesterfield\, MO\, 63107\, United States
CATEGORIES:Adult Learning,Community
ATTACH;FMTTYPE=image/jpeg:https://aishstl.com/wordpress/wp-content/uploads/2018/09/Rabbi-Greenwald3-1.jpg
ORGANIZER;CN="Aish Hatorah of St. Louis":MAILTO:cgoldstein@aishstl.com
GEO:38.6630859;-90.503598
X-APPLE-STRUCTURED-LOCATION;VALUE=URI;X-ADDRESS=Aish Firehouse 457 N. Woods MIll Rd. Chesterfield MO 63107 United States;X-APPLE-RADIUS=500;X-TITLE=457 N. Woods MIll Rd.:geo:-90.503598,38.6630859
END:VEVENT
BEGIN:VEVENT
DTSTART;TZID=UTC:20181021T100000
DTEND;TZID=UTC:20181021T120000
DTSTAMP:20260424T104715
CREATED:20180913T221801Z
LAST-MODIFIED:20190310T214036Z
UID:10001520-1540116000-1540123200@aishstl.com
SUMMARY:Aish Hebrew/Adult Sunday School
DESCRIPTION:Adult Sunday School\nwith Rabbi Shmuel Greenwald\, Sundays 10 am – noon\nDo you want something to do on Sundays that will change your week? Do you want to be less stressed\, create balance in your life\, and have the wisdom to focus on what really matters? Join me as we learn: \n10:00 – 10:50 am Ethics of Our Fathers \nHuman nature never changes. Learn practical wisdom for living with our sages. \n11:00 – 11:50 am  Parsha of the Week\nThe word “Torah” means “instructions” and the Torah refers to itself as “instructions for living”. Learn how the Torah teaches us practical wisdom to deeper relationships and a richer\, more meaningful life. \nSuggested donation: $5 per class
URL:https://aishstl.com/event/aish-hebrew-adult-sunday-school-2/2018-10-21/
LOCATION:Aish Firehouse\, 457 N. Woods MIll Rd.\, Chesterfield\, MO\, 63107\, United States
CATEGORIES:Adult Learning,Community,Hebrew School
ATTACH;FMTTYPE=image/jpeg:https://aishstl.com/wordpress/wp-content/uploads/2018/09/Photo-Oct-14-11-31-24-AM-1.jpg
ORGANIZER;CN="Aish Hatorah of St. Louis":MAILTO:cgoldstein@aishstl.com
GEO:38.6630859;-90.503598
X-APPLE-STRUCTURED-LOCATION;VALUE=URI;X-ADDRESS=Aish Firehouse 457 N. Woods MIll Rd. Chesterfield MO 63107 United States;X-APPLE-RADIUS=500;X-TITLE=457 N. Woods MIll Rd.:geo:-90.503598,38.6630859
END:VEVENT
BEGIN:VEVENT
DTSTART;TZID=UTC:20181020T093000
DTEND;TZID=UTC:20181020T110000
DTSTAMP:20260424T104715
CREATED:20180501T193755Z
LAST-MODIFIED:20181012T004424Z
UID:10001489-1540027800-1540033200@aishstl.com
SUMMARY:Shabbat Learners' Service - Nusach Hari Bnai Zion
DESCRIPTION:Enjoy a lively\, inspirational service where all questions are encouraged. Prayers are in English and explained along the way.
URL:https://aishstl.com/event/shabbat-learners-service-nusach-hari-bnai-zion-2018-10-20/
LOCATION:Nusach Hari Bnai Zion\, 650 North Price Road\, Olivette\, MO\, 63132\, United States
CATEGORIES:Community,Shabbat
ATTACH;FMTTYPE=image/jpeg:https://aishstl.com/wordpress/wp-content/uploads/2018/05/Shabbos_.jpeg
ORGANIZER;CN="Aish Hatorah of St. Louis":MAILTO:cgoldstein@aishstl.com
GEO:38.6601647;-90.3372244
X-APPLE-STRUCTURED-LOCATION;VALUE=URI;X-ADDRESS=Nusach Hari Bnai Zion 650 North Price Road Olivette MO 63132 United States;X-APPLE-RADIUS=500;X-TITLE=650 North Price Road:geo:-90.3372244,38.6601647
END:VEVENT
BEGIN:VEVENT
DTSTART;TZID=UTC:20181015T203000
DTEND;TZID=UTC:20181015T213000
DTSTAMP:20260424T104715
CREATED:20181005T225359Z
LAST-MODIFIED:20181005T230618Z
UID:10001552-1539635400-1539639000@aishstl.com
SUMMARY:Jewish Women's Society -- Live Conference Call
DESCRIPTION:Monday\, October 15th\, at 8:30 p.m.    \nLIVE Conference Call — “Mama’s in Pajamas” \nDial in:  605-472-5814    Access Code: 126-753-373
URL:https://aishstl.com/event/jewish-womens-society-5/
LOCATION:Your home
CATEGORIES:Adult Learning,Community,Jewish Women's Society (JWS),Women Only
ORGANIZER;CN="Aish Hatorah of St. Louis":MAILTO:cgoldstein@aishstl.com
END:VEVENT
BEGIN:VEVENT
DTSTART;TZID=UTC:20181014T100000
DTEND;TZID=UTC:20181014T120000
DTSTAMP:20260424T104715
CREATED:20180913T221801Z
LAST-MODIFIED:20190310T214036Z
UID:10001519-1539511200-1539518400@aishstl.com
SUMMARY:Aish Hebrew/Adult Sunday School
DESCRIPTION:Adult Sunday School\nwith Rabbi Shmuel Greenwald\, Sundays 10 am – noon\nDo you want something to do on Sundays that will change your week? Do you want to be less stressed\, create balance in your life\, and have the wisdom to focus on what really matters? Join me as we learn: \n10:00 – 10:50 am Ethics of Our Fathers \nHuman nature never changes. Learn practical wisdom for living with our sages. \n11:00 – 11:50 am  Parsha of the Week\nThe word “Torah” means “instructions” and the Torah refers to itself as “instructions for living”. Learn how the Torah teaches us practical wisdom to deeper relationships and a richer\, more meaningful life. \nSuggested donation: $5 per class
URL:https://aishstl.com/event/aish-hebrew-adult-sunday-school-2/2018-10-14/
LOCATION:Aish Firehouse\, 457 N. Woods MIll Rd.\, Chesterfield\, MO\, 63107\, United States
CATEGORIES:Adult Learning,Community,Hebrew School
ATTACH;FMTTYPE=image/jpeg:https://aishstl.com/wordpress/wp-content/uploads/2018/09/Photo-Oct-14-11-31-24-AM-1.jpg
ORGANIZER;CN="Aish Hatorah of St. Louis":MAILTO:cgoldstein@aishstl.com
GEO:38.6630859;-90.503598
X-APPLE-STRUCTURED-LOCATION;VALUE=URI;X-ADDRESS=Aish Firehouse 457 N. Woods MIll Rd. Chesterfield MO 63107 United States;X-APPLE-RADIUS=500;X-TITLE=457 N. Woods MIll Rd.:geo:-90.503598,38.6630859
END:VEVENT
BEGIN:VEVENT
DTSTART;TZID=UTC:20181013T093000
DTEND;TZID=UTC:20181013T110000
DTSTAMP:20260424T104715
CREATED:20180501T193755Z
LAST-MODIFIED:20181012T004331Z
UID:10001488-1539423000-1539428400@aishstl.com
SUMMARY:Shabbat Learners' Service - Nusach Hari Bnai Zion
DESCRIPTION:Enjoy a lively\, inspirational service with Rabbi Yosef David where all questions are encouraged. Prayers are in English and explained along the way.
URL:https://aishstl.com/event/shabbat-learners-service-nusach-hari-bnai-zion-2018-10-13/
LOCATION:Nusach Hari Bnai Zion\, 650 North Price Road\, Olivette\, MO\, 63132\, United States
CATEGORIES:Community,Shabbat
ATTACH;FMTTYPE=image/jpeg:https://aishstl.com/wordpress/wp-content/uploads/2018/05/Shabbos_.jpeg
ORGANIZER;CN="Aish Hatorah of St. Louis":MAILTO:cgoldstein@aishstl.com
GEO:38.6601647;-90.3372244
X-APPLE-STRUCTURED-LOCATION;VALUE=URI;X-ADDRESS=Nusach Hari Bnai Zion 650 North Price Road Olivette MO 63132 United States;X-APPLE-RADIUS=500;X-TITLE=650 North Price Road:geo:-90.3372244,38.6601647
END:VEVENT
BEGIN:VEVENT
DTSTART;TZID=UTC:20181010T190000
DTEND;TZID=UTC:20181010T210000
DTSTAMP:20260424T104715
CREATED:20181005T225041Z
LAST-MODIFIED:20181005T225041Z
UID:10001551-1539198000-1539205200@aishstl.com
SUMMARY:Jewish Women's Society -- Informational meeting for 2019 Women's Israel Trip
DESCRIPTION:Join Mimi David for a Women’s Israel Trip informational meeting.  Trip dates are from March 4 – 10\, 2019.  Ideal for alumni and those who don’t qualify for the JWRP trip.
URL:https://aishstl.com/event/jewish-womens-society-informational-meeting-for-2019-womens-israel-trip/
LOCATION:Aish Firehouse\, 457 N. Woods MIll Rd.\, Chesterfield\, MO\, 63107\, United States
CATEGORIES:Community,Israel trips,Jewish Women's Society (JWS),Women Only
ORGANIZER;CN="Aish Hatorah of St. Louis":MAILTO:cgoldstein@aishstl.com
GEO:38.6630859;-90.503598
X-APPLE-STRUCTURED-LOCATION;VALUE=URI;X-ADDRESS=Aish Firehouse 457 N. Woods MIll Rd. Chesterfield MO 63107 United States;X-APPLE-RADIUS=500;X-TITLE=457 N. Woods MIll Rd.:geo:-90.503598,38.6630859
END:VEVENT
BEGIN:VEVENT
DTSTART;TZID=UTC:20181010T090000
DTEND;TZID=UTC:20181010T100000
DTSTAMP:20260424T104715
CREATED:20181005T224515Z
LAST-MODIFIED:20181005T224515Z
UID:10001550-1539162000-1539165600@aishstl.com
SUMMARY:Jewish Women's Society Coffee & Schmooze
DESCRIPTION:COFFEE & SHMOOZE with Mimi David\nKohn’s Deli\, 10405 Old Olive Street Rd.\, Creve Coeur 63141 \n 
URL:https://aishstl.com/event/jewish-womens-society-coffee-schmooze-2/
LOCATION:Kohn’s Deli\, 10405 Old Olive Street Road\, Creve Coeur\, MO\, 63141\, United States
CATEGORIES:Adult Learning,Jewish Women's Society (JWS),Women Only
ORGANIZER;CN="Aish Hatorah of St. Louis":MAILTO:cgoldstein@aishstl.com
GEO:38.675859;-90.40869
X-APPLE-STRUCTURED-LOCATION;VALUE=URI;X-ADDRESS=Kohn’s Deli 10405 Old Olive Street Road Creve Coeur MO 63141 United States;X-APPLE-RADIUS=500;X-TITLE=10405 Old Olive Street Road:geo:-90.40869,38.675859
END:VEVENT
BEGIN:VEVENT
DTSTART;TZID=UTC:20181009T113000
DTEND;TZID=UTC:20181009T123000
DTSTAMP:20260424T104715
CREATED:20181005T224415Z
LAST-MODIFIED:20181005T224415Z
UID:10001549-1539084600-1539088200@aishstl.com
SUMMARY:Jewish Women Society's Lunch & Learn
DESCRIPTION:LUNCH & LEARN with Mimi David\nPirkei Avot “Be the Best You”\nCircle@Crown Cafe’\, 8350 Delcrest Drive\, University City 63124 \n 
URL:https://aishstl.com/event/jewish-women-societys-lunch-learn-with-mimi-david-2/
LOCATION:Circle@Crown Cafe`\, 8350 Delcrest Drive\, St. Louis\, MO\, 63124\, United States
CATEGORIES:Adult Learning,Jewish Women's Society (JWS),Women Only
ORGANIZER;CN="Aish Hatorah of St. Louis":MAILTO:cgoldstein@aishstl.com
GEO:38.6595414;-90.355332
X-APPLE-STRUCTURED-LOCATION;VALUE=URI;X-ADDRESS=Circle@Crown Cafe` 8350 Delcrest Drive St. Louis MO 63124 United States;X-APPLE-RADIUS=500;X-TITLE=8350 Delcrest Drive:geo:-90.355332,38.6595414
END:VEVENT
BEGIN:VEVENT
DTSTART;TZID=UTC:20181007T100000
DTEND;TZID=UTC:20181007T120000
DTSTAMP:20260424T104715
CREATED:20181005T230343Z
LAST-MODIFIED:20181005T230343Z
UID:10001554-1538906400-1538913600@aishstl.com
SUMMARY:Aish Adult Sunday School with Rabbi Shmuel Greenwald
DESCRIPTION:Do you want something to do on Sundays that will change your week? Do you want to be less stressed\, create balance in your life\, and have the wisdom to focus on what really matters?\nJoin Rabbi Shmuel Greenwald’s classes beginning October 7th: \nCLASS I — 10:00 am – 10:50 am:\nEthics of our Fathers — Human nature never changes. Learn practical wisdom for living from\nour sages\nCLASS II — 11:00 am – 11:50 am:\nParsha of the Week — Learn how the Torah teaches us practical wisdom to deeper relationships and a richer\, more meaningful life. \nSuggested donation: $10 per class
URL:https://aishstl.com/event/aish-hebrew-adult-sunday-school-3/
LOCATION:Aish Firehouse\, 457 N. Woods MIll Rd.\, Chesterfield\, MO\, 63107\, United States
CATEGORIES:Adult Learning,Community,Hebrew School
ORGANIZER;CN="Aish Hatorah of St. Louis":MAILTO:cgoldstein@aishstl.com
GEO:38.6630859;-90.503598
X-APPLE-STRUCTURED-LOCATION;VALUE=URI;X-ADDRESS=Aish Firehouse 457 N. Woods MIll Rd. Chesterfield MO 63107 United States;X-APPLE-RADIUS=500;X-TITLE=457 N. Woods MIll Rd.:geo:-90.503598,38.6630859
END:VEVENT
BEGIN:VEVENT
DTSTART;TZID=UTC:20181007T100000
DTEND;TZID=UTC:20181007T120000
DTSTAMP:20260424T104715
CREATED:20180913T215629Z
LAST-MODIFIED:20181005T220350Z
UID:10001518-1538906400-1538913600@aishstl.com
SUMMARY:Aish Hebrew/Adult Sunday School
DESCRIPTION:Come join us from 10 am to 12 pm
URL:https://aishstl.com/event/aish-hebrew-adult-sunday-school/
LOCATION:Aish Firehouse\, 457 N. Woods MIll Rd.\, Chesterfield\, MO\, 63107\, United States
CATEGORIES:Adult Learning,Community,Hebrew School
ORGANIZER;CN="Aish Hatorah of St. Louis":MAILTO:cgoldstein@aishstl.com
GEO:38.6630859;-90.503598
X-APPLE-STRUCTURED-LOCATION;VALUE=URI;X-ADDRESS=Aish Firehouse 457 N. Woods MIll Rd. Chesterfield MO 63107 United States;X-APPLE-RADIUS=500;X-TITLE=457 N. Woods MIll Rd.:geo:-90.503598,38.6630859
END:VEVENT
BEGIN:VEVENT
DTSTART;TZID=UTC:20181006T113000
DTEND;TZID=UTC:20181006T123000
DTSTAMP:20260424T104715
CREATED:20181005T221203Z
LAST-MODIFIED:20181005T221658Z
UID:10001548-1538825400-1538829000@aishstl.com
SUMMARY:Nusach Hari Bnai Zion "Synaplex Shabbat" with Mimi David
DESCRIPTION:Mimi David will facilitate a discussion on “Raising a Jewish Family.” \n \nFree Kiddush lunch to follow at 12:30 pm \n  \n  \n 
URL:https://aishstl.com/event/nusach-hari-bnai-zion-synaplex-shabbat-with-mimi-david/
LOCATION:Nusach Hari Bnai Zion\, 650 North Price Road\, Olivette\, MO\, 63132\, United States
CATEGORIES:Adult Learning,Community,Learn,Shabbat
GEO:38.6601647;-90.3372244
X-APPLE-STRUCTURED-LOCATION;VALUE=URI;X-ADDRESS=Nusach Hari Bnai Zion 650 North Price Road Olivette MO 63132 United States;X-APPLE-RADIUS=500;X-TITLE=650 North Price Road:geo:-90.3372244,38.6601647
END:VEVENT
BEGIN:VEVENT
DTSTART;TZID=UTC:20181002T060000
DTEND;TZID=UTC:20181002T210000
DTSTAMP:20260424T104715
CREATED:20180902T091414Z
LAST-MODIFIED:20180902T091414Z
UID:10001516-1538460000-1538514000@aishstl.com
SUMMARY:Simchat Torah
DESCRIPTION:
URL:https://aishstl.com/event/simchat-torah/
LOCATION:Aish Firehouse\, 457 N. Woods MIll Rd.\, Chesterfield\, MO\, 63107\, United States
CATEGORIES:Community,Holidays
ORGANIZER;CN="Aish Hatorah of St. Louis":MAILTO:cgoldstein@aishstl.com
GEO:38.6630859;-90.503598
X-APPLE-STRUCTURED-LOCATION;VALUE=URI;X-ADDRESS=Aish Firehouse 457 N. Woods MIll Rd. Chesterfield MO 63107 United States;X-APPLE-RADIUS=500;X-TITLE=457 N. Woods MIll Rd.:geo:-90.503598,38.6630859
END:VEVENT
BEGIN:VEVENT
DTSTART;TZID=UTC:20181001T080000
DTEND;TZID=UTC:20181001T233000
DTSTAMP:20260424T104715
CREATED:20180902T091300Z
LAST-MODIFIED:20180902T091300Z
UID:10001515-1538380800-1538436600@aishstl.com
SUMMARY:Erev Simchat Torah
DESCRIPTION:
URL:https://aishstl.com/event/erev-simchat-torah/
LOCATION:Aish Firehouse\, 457 N. Woods MIll Rd.\, Chesterfield\, MO\, 63107\, United States
CATEGORIES:Community,Holidays
ORGANIZER;CN="Aish Hatorah of St. Louis":MAILTO:cgoldstein@aishstl.com
GEO:38.6630859;-90.503598
X-APPLE-STRUCTURED-LOCATION;VALUE=URI;X-ADDRESS=Aish Firehouse 457 N. Woods MIll Rd. Chesterfield MO 63107 United States;X-APPLE-RADIUS=500;X-TITLE=457 N. Woods MIll Rd.:geo:-90.503598,38.6630859
END:VEVENT
BEGIN:VEVENT
DTSTART;TZID=UTC:20180930T060000
DTEND;TZID=UTC:20180930T233000
DTSTAMP:20260424T104715
CREATED:20180902T091055Z
LAST-MODIFIED:20180902T091055Z
UID:10001514-1538287200-1538350200@aishstl.com
SUMMARY:Erev Shemini Azeret
DESCRIPTION:
URL:https://aishstl.com/event/erev-shemini-azeret/
LOCATION:Aish Firehouse\, 457 N. Woods MIll Rd.\, Chesterfield\, MO\, 63107\, United States
CATEGORIES:Community,Holidays
ORGANIZER;CN="Aish Hatorah of St. Louis":MAILTO:cgoldstein@aishstl.com
GEO:38.6630859;-90.503598
X-APPLE-STRUCTURED-LOCATION;VALUE=URI;X-ADDRESS=Aish Firehouse 457 N. Woods MIll Rd. Chesterfield MO 63107 United States;X-APPLE-RADIUS=500;X-TITLE=457 N. Woods MIll Rd.:geo:-90.503598,38.6630859
END:VEVENT
BEGIN:VEVENT
DTSTART;TZID=UTC:20180929T060000
DTEND;TZID=UTC:20180929T233000
DTSTAMP:20260424T104715
CREATED:20180902T090934Z
LAST-MODIFIED:20180902T090934Z
UID:10001513-1538200800-1538263800@aishstl.com
SUMMARY:Sukkot - Chol Hamoed
DESCRIPTION:
URL:https://aishstl.com/event/sukkot-chol-hamoed-3/
LOCATION:Aish Firehouse\, 457 N. Woods MIll Rd.\, Chesterfield\, MO\, 63107\, United States
CATEGORIES:Community,Holidays
ORGANIZER;CN="Aish Hatorah of St. Louis":MAILTO:cgoldstein@aishstl.com
GEO:38.6630859;-90.503598
X-APPLE-STRUCTURED-LOCATION;VALUE=URI;X-ADDRESS=Aish Firehouse 457 N. Woods MIll Rd. Chesterfield MO 63107 United States;X-APPLE-RADIUS=500;X-TITLE=457 N. Woods MIll Rd.:geo:-90.503598,38.6630859
END:VEVENT
BEGIN:VEVENT
DTSTART;TZID=UTC:20180928T060000
DTEND;TZID=UTC:20180928T233000
DTSTAMP:20260424T104715
CREATED:20180902T081640Z
LAST-MODIFIED:20180902T081826Z
UID:10001512-1538114400-1538177400@aishstl.com
SUMMARY:Sukkot -- Chol Hamoed
DESCRIPTION:
URL:https://aishstl.com/event/sukkot-sixth-day/
LOCATION:Aish Firehouse\, 457 N. Woods MIll Rd.\, Chesterfield\, MO\, 63107\, United States
CATEGORIES:Holidays
ORGANIZER;CN="Aish Hatorah of St. Louis":MAILTO:cgoldstein@aishstl.com
GEO:38.6630859;-90.503598
X-APPLE-STRUCTURED-LOCATION;VALUE=URI;X-ADDRESS=Aish Firehouse 457 N. Woods MIll Rd. Chesterfield MO 63107 United States;X-APPLE-RADIUS=500;X-TITLE=457 N. Woods MIll Rd.:geo:-90.503598,38.6630859
END:VEVENT
BEGIN:VEVENT
DTSTART;TZID=UTC:20180927T060000
DTEND;TZID=UTC:20180927T233000
DTSTAMP:20260424T104715
CREATED:20180902T081537Z
LAST-MODIFIED:20180902T081537Z
UID:10001511-1538028000-1538091000@aishstl.com
SUMMARY:Sukkot -- Chol Hamoed
DESCRIPTION:
URL:https://aishstl.com/event/sukkot-chol-hamoed-2/
LOCATION:Aish Firehouse\, 457 N. Woods MIll Rd.\, Chesterfield\, MO\, 63107\, United States
CATEGORIES:Holidays
ORGANIZER;CN="Aish Hatorah of St. Louis":MAILTO:cgoldstein@aishstl.com
GEO:38.6630859;-90.503598
X-APPLE-STRUCTURED-LOCATION;VALUE=URI;X-ADDRESS=Aish Firehouse 457 N. Woods MIll Rd. Chesterfield MO 63107 United States;X-APPLE-RADIUS=500;X-TITLE=457 N. Woods MIll Rd.:geo:-90.503598,38.6630859
END:VEVENT
BEGIN:VEVENT
DTSTART;TZID=UTC:20180926T060000
DTEND;TZID=UTC:20180926T233000
DTSTAMP:20260424T104715
CREATED:20180902T081417Z
LAST-MODIFIED:20180902T081437Z
UID:10001510-1537941600-1538004600@aishstl.com
SUMMARY:Sukkot -- Chol Hamoed
DESCRIPTION:
URL:https://aishstl.com/event/sukkot-chol-hamoed/
LOCATION:Aish Firehouse\, 457 N. Woods MIll Rd.\, Chesterfield\, MO\, 63107\, United States
CATEGORIES:Holidays
ORGANIZER;CN="Aish Hatorah of St. Louis":MAILTO:cgoldstein@aishstl.com
GEO:38.6630859;-90.503598
X-APPLE-STRUCTURED-LOCATION;VALUE=URI;X-ADDRESS=Aish Firehouse 457 N. Woods MIll Rd. Chesterfield MO 63107 United States;X-APPLE-RADIUS=500;X-TITLE=457 N. Woods MIll Rd.:geo:-90.503598,38.6630859
END:VEVENT
BEGIN:VEVENT
DTSTART;TZID=UTC:20180925T060000
DTEND;TZID=UTC:20180925T233000
DTSTAMP:20260424T104715
CREATED:20180902T081304Z
LAST-MODIFIED:20180902T081304Z
UID:10001509-1537855200-1537918200@aishstl.com
SUMMARY:Sukkot -- Second Day
DESCRIPTION:
URL:https://aishstl.com/event/sukkot-second-day/
LOCATION:Aish Firehouse\, 457 N. Woods MIll Rd.\, Chesterfield\, MO\, 63107\, United States
CATEGORIES:Holidays
ORGANIZER;CN="Aish Hatorah of St. Louis":MAILTO:cgoldstein@aishstl.com
GEO:38.6630859;-90.503598
X-APPLE-STRUCTURED-LOCATION;VALUE=URI;X-ADDRESS=Aish Firehouse 457 N. Woods MIll Rd. Chesterfield MO 63107 United States;X-APPLE-RADIUS=500;X-TITLE=457 N. Woods MIll Rd.:geo:-90.503598,38.6630859
END:VEVENT
BEGIN:VEVENT
DTSTART;TZID=UTC:20180924T060000
DTEND;TZID=UTC:20180924T233000
DTSTAMP:20260424T104715
CREATED:20180902T080810Z
LAST-MODIFIED:20180902T080959Z
UID:10001508-1537768800-1537831800@aishstl.com
SUMMARY:Sukkot -- First Day
DESCRIPTION:
URL:https://aishstl.com/event/erev-sukkot/
LOCATION:Aish Firehouse\, 457 N. Woods MIll Rd.\, Chesterfield\, MO\, 63107\, United States
CATEGORIES:Holidays
ORGANIZER;CN="Aish Hatorah of St. Louis":MAILTO:cgoldstein@aishstl.com
GEO:38.6630859;-90.503598
X-APPLE-STRUCTURED-LOCATION;VALUE=URI;X-ADDRESS=Aish Firehouse 457 N. Woods MIll Rd. Chesterfield MO 63107 United States;X-APPLE-RADIUS=500;X-TITLE=457 N. Woods MIll Rd.:geo:-90.503598,38.6630859
END:VEVENT
BEGIN:VEVENT
DTSTART;TZID=UTC:20180919T100000
DTEND;TZID=UTC:20180919T130000
DTSTAMP:20260424T104715
CREATED:20180902T080447Z
LAST-MODIFIED:20180913T215328Z
UID:10001507-1537351200-1537362000@aishstl.com
SUMMARY:Yom Kippur Services -- 2 locations!!
DESCRIPTION:At Aish Hatorah with Rabbi Shmuel Greenwald \n  \nAt Nusach Hari Bnai Zion with Rabbi Yosef David
URL:https://aishstl.com/event/yom-kippur-services-2-locations-2/
LOCATION:Aish Firehouse\, 457 N. Woods MIll Rd.\, Chesterfield\, MO\, 63107\, United States
CATEGORIES:Community,Holidays
ORGANIZER;CN="Aish Hatorah of St. Louis":MAILTO:cgoldstein@aishstl.com
GEO:38.6630859;-90.503598
X-APPLE-STRUCTURED-LOCATION;VALUE=URI;X-ADDRESS=Aish Firehouse 457 N. Woods MIll Rd. Chesterfield MO 63107 United States;X-APPLE-RADIUS=500;X-TITLE=457 N. Woods MIll Rd.:geo:-90.503598,38.6630859
END:VEVENT
BEGIN:VEVENT
DTSTART;TZID=UTC:20180918T184500
DTEND;TZID=UTC:20180918T200000
DTSTAMP:20260424T104715
CREATED:20180902T080133Z
LAST-MODIFIED:20180913T225518Z
UID:10001506-1537296300-1537300800@aishstl.com
SUMMARY:Yom Kippur Services -- 2 locations!!
DESCRIPTION:Kol Nidre Services at Aish with Rabbi Shmuel Greenwald \nKol Nidre Services at Nusach Hari Bnai Zion with Rabbi Yosef David
URL:https://aishstl.com/event/yom-kippur-services-2-locations/
LOCATION:Aish Firehouse\, 457 N. Woods MIll Rd.\, Chesterfield\, MO\, 63107\, United States
CATEGORIES:Community,Holidays
ORGANIZER;CN="Aish Hatorah of St. Louis":MAILTO:cgoldstein@aishstl.com
GEO:38.6630859;-90.503598
X-APPLE-STRUCTURED-LOCATION;VALUE=URI;X-ADDRESS=Aish Firehouse 457 N. Woods MIll Rd. Chesterfield MO 63107 United States;X-APPLE-RADIUS=500;X-TITLE=457 N. Woods MIll Rd.:geo:-90.503598,38.6630859
END:VEVENT
BEGIN:VEVENT
DTSTART;TZID=UTC:20180916T150000
DTEND;TZID=UTC:20180916T183000
DTSTAMP:20260424T104715
CREATED:20180902T094259Z
LAST-MODIFIED:20180913T214807Z
UID:10001517-1537110000-1537122600@aishstl.com
SUMMARY:Jewish Women's Society and Eshet Chayil's Yom Kippur Hike\, Class & BBQ Dinner
DESCRIPTION:Take a Hike!  “Following the Path to Nowhere” presented by Mimi David \n“Get Your Body and Mind Moving on this Exciting and Fun Trip!” \nCastlewood Park   Cost: $36  RSVP to mimidavid@aish.com
URL:https://aishstl.com/event/jewish-womens-society-and-eshet-chayils-rosh-hashana-hike-class-bbq-dinner/
LOCATION:Castlewood Park\, 1401 Kiefer Creek Road\, Ballwin\, MO\, 63021\, United States
CATEGORIES:Community,Jewish Women's Society (JWS),Women Only
ORGANIZER;CN="Jewish Women's Society":MAILTO:cwolff@aish.com
GEO:38.5526291;-90.5434425
X-APPLE-STRUCTURED-LOCATION;VALUE=URI;X-ADDRESS=Castlewood Park 1401 Kiefer Creek Road Ballwin MO 63021 United States;X-APPLE-RADIUS=500;X-TITLE=1401 Kiefer Creek Road:geo:-90.5434425,38.5526291
END:VEVENT
END:VCALENDAR