BEGIN:VCALENDAR
VERSION:2.0
PRODID:-//Aish St. Louis - ECPv6.15.18//NONSGML v1.0//EN
CALSCALE:GREGORIAN
METHOD:PUBLISH
X-ORIGINAL-URL:https://aishstl.com
X-WR-CALDESC:Events for Aish St. Louis
REFRESH-INTERVAL;VALUE=DURATION:PT1H
X-Robots-Tag:noindex
X-PUBLISHED-TTL:PT1H
BEGIN:VTIMEZONE
TZID:America/Chicago
BEGIN:DAYLIGHT
TZOFFSETFROM:-0600
TZOFFSETTO:-0500
TZNAME:CDT
DTSTART:20230312T080000
END:DAYLIGHT
BEGIN:STANDARD
TZOFFSETFROM:-0500
TZOFFSETTO:-0600
TZNAME:CST
DTSTART:20231105T070000
END:STANDARD
BEGIN:DAYLIGHT
TZOFFSETFROM:-0600
TZOFFSETTO:-0500
TZNAME:CDT
DTSTART:20240310T080000
END:DAYLIGHT
BEGIN:STANDARD
TZOFFSETFROM:-0500
TZOFFSETTO:-0600
TZNAME:CST
DTSTART:20241103T070000
END:STANDARD
BEGIN:DAYLIGHT
TZOFFSETFROM:-0600
TZOFFSETTO:-0500
TZNAME:CDT
DTSTART:20250309T080000
END:DAYLIGHT
BEGIN:STANDARD
TZOFFSETFROM:-0500
TZOFFSETTO:-0600
TZNAME:CST
DTSTART:20251102T070000
END:STANDARD
END:VTIMEZONE
BEGIN:VEVENT
DTSTART;TZID=America/Chicago:20241102T100000
DTEND;TZID=America/Chicago:20241102T120000
DTSTAMP:20260420T110900
CREATED:20241101T054453Z
LAST-MODIFIED:20241101T054453Z
UID:10004098-1730541600-1730548800@aishstl.com
SUMMARY:Soul Building with Rabbi Yosef David
DESCRIPTION:I invite you to join me this Shabbat for another enlightening discussion in our Soul Building Series on how the Torah teaches us how to incorporate the Torah into our daily life.\nAll the best\,\nYosef
URL:https://aishstl.com/event/soul-building-with-rabbi-yosef-david-2/2024-11-02/
LOCATION:Nusach Hari Bnai Zion\, 650 North Price Road\, Olivette\, MO\, 63132\, United States
ATTACH;FMTTYPE=image/jpeg:https://aishstl.com/wordpress/wp-content/uploads/2023/01/Nusach-Hari-crop_JoyMarcusphotos-copy.jpg
ORGANIZER;CN="Aish Hatorah of St. Louis":MAILTO:cgoldstein@aishstl.com
GEO:38.6601647;-90.3372244
X-APPLE-STRUCTURED-LOCATION;VALUE=URI;X-ADDRESS=Nusach Hari Bnai Zion 650 North Price Road Olivette MO 63132 United States;X-APPLE-RADIUS=500;X-TITLE=650 North Price Road:geo:-90.3372244,38.6601647
END:VEVENT
BEGIN:VEVENT
DTSTART;TZID=America/Chicago:20241104T200000
DTEND;TZID=America/Chicago:20241104T210000
DTSTAMP:20260420T110900
CREATED:20241014T173344Z
LAST-MODIFIED:20241112T230657Z
UID:10004091-1730750400-1730754000@aishstl.com
SUMMARY:Partners in Torah
DESCRIPTION:Fire up your Jewish learning and fill the world with light. To join as a student or mentor\, contact Rabbi Shmuel Greenwald at 314-862-2474 or at sgreenwald@aishstl.com.  Partners in Torah is a collaboration of Aish Hatorah\, Ignite YP\, Nusach Hari Bnai Zion\,  and the St. Louis Community Kollel 
URL:https://aishstl.com/event/partners-in-torah-5-2/2024-11-04/
LOCATION:Nusach Hari Bnai Zion\, 650 North Price Road\, Olivette\, MO\, 63132\, United States
ATTACH;FMTTYPE=image/png:https://aishstl.com/wordpress/wp-content/uploads/2024/09/PIT-1080x1080-copy@2x-1.png
ORGANIZER;CN="Aish Hatorah of St. Louis":MAILTO:cgoldstein@aishstl.com
GEO:38.6601647;-90.3372244
X-APPLE-STRUCTURED-LOCATION;VALUE=URI;X-ADDRESS=Nusach Hari Bnai Zion 650 North Price Road Olivette MO 63132 United States;X-APPLE-RADIUS=500;X-TITLE=650 North Price Road:geo:-90.3372244,38.6601647
END:VEVENT
BEGIN:VEVENT
DTSTART;TZID=America/Chicago:20241104T200000
DTEND;TZID=America/Chicago:20241104T210000
DTSTAMP:20260420T110900
CREATED:20241201T182914Z
LAST-MODIFIED:20241201T182914Z
UID:10004141-1730750400-1730754000@aishstl.com
SUMMARY:Partners in Torah
DESCRIPTION:Fire up your Jewish learning and fill the world with light. To join as a student or mentor\, contact Rabbi Shmuel Greenwald at 314-862-2474 or at sgreenwald@aishstl.com.  Partners in Torah is a collaboration of Aish Hatorah\, Ignite YP\, Nusach Hari Bnai Zion\,  and the St. Louis Community Kollel 
URL:https://aishstl.com/event/partners-in-torah-6/2024-11-04/
LOCATION:Nusach Hari Bnai Zion\, 650 North Price Road\, Olivette\, MO\, 63132\, United States
ATTACH;FMTTYPE=image/png:https://aishstl.com/wordpress/wp-content/uploads/2024/09/PIT-1080x1080-copy@2x-1.png
ORGANIZER;CN="Aish Hatorah of St. Louis":MAILTO:cgoldstein@aishstl.com
GEO:38.6601647;-90.3372244
X-APPLE-STRUCTURED-LOCATION;VALUE=URI;X-ADDRESS=Nusach Hari Bnai Zion 650 North Price Road Olivette MO 63132 United States;X-APPLE-RADIUS=500;X-TITLE=650 North Price Road:geo:-90.3372244,38.6601647
END:VEVENT
BEGIN:VEVENT
DTSTART;TZID=America/Chicago:20241106T190000
DTEND;TZID=America/Chicago:20241106T203000
DTSTAMP:20260420T110900
CREATED:20241031T032138Z
LAST-MODIFIED:20241121T204112Z
UID:10004083-1730919600-1730925000@aishstl.com
SUMMARY:Jewish Women's Society of St. Louis -- Challah Club with Mimi David
DESCRIPTION:Bring your friends\, moms and daughters to join me as we make enough delicious challah to last the entire month.  Please bring your own trays to carry home your challah.\nYou can email me at mimidavid@aishstl.com that you’ll attend or click here to register.  One session $18.\nLooking forward\,\nMimi
URL:https://aishstl.com/event/jewish-womens-society-of-st-louis-challah-club-with-mimi-david/
LOCATION:Aish Hatorah\, Aish Hatorah & Your Home\, Chesterfield\, MO\, 63017\, United States
ATTACH;FMTTYPE=image/jpeg:https://aishstl.com/wordpress/wp-content/uploads/2024/10/POST-Nov-6-24-challah-club-1.jpg
ORGANIZER;CN="Jewish Women's Society":MAILTO:cwolff@aish.com
GEO:38.6630859;-90.503598
X-APPLE-STRUCTURED-LOCATION;VALUE=URI;X-ADDRESS=Aish Hatorah Aish Hatorah & Your Home Chesterfield MO 63017 United States;X-APPLE-RADIUS=500;X-TITLE=Aish Hatorah & Your Home:geo:-90.503598,38.6630859
END:VEVENT
BEGIN:VEVENT
DTSTART;TZID=America/Chicago:20241109T100000
DTEND;TZID=America/Chicago:20241109T120000
DTSTAMP:20260420T110900
CREATED:20241101T054453Z
LAST-MODIFIED:20241101T054453Z
UID:10004099-1731146400-1731153600@aishstl.com
SUMMARY:Soul Building with Rabbi Yosef David
DESCRIPTION:I invite you to join me this Shabbat for another enlightening discussion in our Soul Building Series on how the Torah teaches us how to incorporate the Torah into our daily life.\nAll the best\,\nYosef
URL:https://aishstl.com/event/soul-building-with-rabbi-yosef-david-2/2024-11-09/
LOCATION:Nusach Hari Bnai Zion\, 650 North Price Road\, Olivette\, MO\, 63132\, United States
ATTACH;FMTTYPE=image/jpeg:https://aishstl.com/wordpress/wp-content/uploads/2023/01/Nusach-Hari-crop_JoyMarcusphotos-copy.jpg
ORGANIZER;CN="Aish Hatorah of St. Louis":MAILTO:cgoldstein@aishstl.com
GEO:38.6601647;-90.3372244
X-APPLE-STRUCTURED-LOCATION;VALUE=URI;X-ADDRESS=Nusach Hari Bnai Zion 650 North Price Road Olivette MO 63132 United States;X-APPLE-RADIUS=500;X-TITLE=650 North Price Road:geo:-90.3372244,38.6601647
END:VEVENT
BEGIN:VEVENT
DTSTART;TZID=America/Chicago:20241111T200000
DTEND;TZID=America/Chicago:20241111T210000
DTSTAMP:20260420T110900
CREATED:20241014T173344Z
LAST-MODIFIED:20241112T230657Z
UID:10004088-1731355200-1731358800@aishstl.com
SUMMARY:Partners in Torah
DESCRIPTION:Fire up your Jewish learning and fill the world with light. To join as a student or mentor\, contact Rabbi Shmuel Greenwald at 314-862-2474 or at sgreenwald@aishstl.com.  Partners in Torah is a collaboration of Aish Hatorah\, Ignite YP\, Nusach Hari Bnai Zion\,  and the St. Louis Community Kollel 
URL:https://aishstl.com/event/partners-in-torah-5-2/2024-11-11/
LOCATION:Nusach Hari Bnai Zion\, 650 North Price Road\, Olivette\, MO\, 63132\, United States
ATTACH;FMTTYPE=image/png:https://aishstl.com/wordpress/wp-content/uploads/2024/09/PIT-1080x1080-copy@2x-1.png
ORGANIZER;CN="Aish Hatorah of St. Louis":MAILTO:cgoldstein@aishstl.com
GEO:38.6601647;-90.3372244
X-APPLE-STRUCTURED-LOCATION;VALUE=URI;X-ADDRESS=Nusach Hari Bnai Zion 650 North Price Road Olivette MO 63132 United States;X-APPLE-RADIUS=500;X-TITLE=650 North Price Road:geo:-90.3372244,38.6601647
END:VEVENT
BEGIN:VEVENT
DTSTART;TZID=America/Chicago:20241111T200000
DTEND;TZID=America/Chicago:20241111T210000
DTSTAMP:20260420T110900
CREATED:20241201T182914Z
LAST-MODIFIED:20241201T182914Z
UID:10004142-1731355200-1731358800@aishstl.com
SUMMARY:Partners in Torah
DESCRIPTION:Fire up your Jewish learning and fill the world with light. To join as a student or mentor\, contact Rabbi Shmuel Greenwald at 314-862-2474 or at sgreenwald@aishstl.com.  Partners in Torah is a collaboration of Aish Hatorah\, Ignite YP\, Nusach Hari Bnai Zion\,  and the St. Louis Community Kollel 
URL:https://aishstl.com/event/partners-in-torah-6/2024-11-11/
LOCATION:Nusach Hari Bnai Zion\, 650 North Price Road\, Olivette\, MO\, 63132\, United States
ATTACH;FMTTYPE=image/png:https://aishstl.com/wordpress/wp-content/uploads/2024/09/PIT-1080x1080-copy@2x-1.png
ORGANIZER;CN="Aish Hatorah of St. Louis":MAILTO:cgoldstein@aishstl.com
GEO:38.6601647;-90.3372244
X-APPLE-STRUCTURED-LOCATION;VALUE=URI;X-ADDRESS=Nusach Hari Bnai Zion 650 North Price Road Olivette MO 63132 United States;X-APPLE-RADIUS=500;X-TITLE=650 North Price Road:geo:-90.3372244,38.6601647
END:VEVENT
BEGIN:VEVENT
DTSTART;TZID=America/Chicago:20241113T121500
DTEND;TZID=America/Chicago:20241113T131500
DTSTAMP:20260420T110900
CREATED:20241101T050612Z
LAST-MODIFIED:20241121T222017Z
UID:10004086-1731500100-1731503700@aishstl.com
SUMMARY:Jewish Women's Society's Lunch & Learn with Mimi David -- in Person
DESCRIPTION:Join your friends and me in person as we resume our Lunch & Learn to continue learning the Torah’s timeless wisdom for living!\nDecember 11\, 2024    12:15 pm – 1:15 pm\nLocation: Circle@Crown Cafe\, 8350 Delmar Blvd.\, St. Louis\, MO 63124. To order lunch\, call 314-412-4350 or visit https://crowncenterstl.org/cafe\ncall 314-412-4350 or  RSVP to me at mimidavid@aishstl.com\nLooking forward\,\nMimi
URL:https://aishstl.com/event/jewish-womens-societys-lunch-learn-with-mimi-david-in-person-new-time-2/2024-11-13/
LOCATION:Circle@Crown Cafe`\, 8350 Delcrest Drive\, St. Louis\, MO\, 63124\, United States
ATTACH;FMTTYPE=image/jpeg:https://aishstl.com/wordpress/wp-content/uploads/2024/11/L-L-post-6f832275-4f66-44f4-a6df-af692d357c36-thumbnail.jpg
ORGANIZER;CN="Jewish Women's Society":MAILTO:cwolff@aish.com
GEO:38.6595414;-90.355332
X-APPLE-STRUCTURED-LOCATION;VALUE=URI;X-ADDRESS=Circle@Crown Cafe` 8350 Delcrest Drive St. Louis MO 63124 United States;X-APPLE-RADIUS=500;X-TITLE=8350 Delcrest Drive:geo:-90.355332,38.6595414
END:VEVENT
BEGIN:VEVENT
DTSTART;TZID=America/Chicago:20241116T100000
DTEND;TZID=America/Chicago:20241116T120000
DTSTAMP:20260420T110900
CREATED:20241101T054453Z
LAST-MODIFIED:20241101T054453Z
UID:10004100-1731751200-1731758400@aishstl.com
SUMMARY:Soul Building with Rabbi Yosef David
DESCRIPTION:I invite you to join me this Shabbat for another enlightening discussion in our Soul Building Series on how the Torah teaches us how to incorporate the Torah into our daily life.\nAll the best\,\nYosef
URL:https://aishstl.com/event/soul-building-with-rabbi-yosef-david-2/2024-11-16/
LOCATION:Nusach Hari Bnai Zion\, 650 North Price Road\, Olivette\, MO\, 63132\, United States
ATTACH;FMTTYPE=image/jpeg:https://aishstl.com/wordpress/wp-content/uploads/2023/01/Nusach-Hari-crop_JoyMarcusphotos-copy.jpg
ORGANIZER;CN="Aish Hatorah of St. Louis":MAILTO:cgoldstein@aishstl.com
GEO:38.6601647;-90.3372244
X-APPLE-STRUCTURED-LOCATION;VALUE=URI;X-ADDRESS=Nusach Hari Bnai Zion 650 North Price Road Olivette MO 63132 United States;X-APPLE-RADIUS=500;X-TITLE=650 North Price Road:geo:-90.3372244,38.6601647
END:VEVENT
BEGIN:VEVENT
DTSTART;TZID=America/Chicago:20241118T200000
DTEND;TZID=America/Chicago:20241118T210000
DTSTAMP:20260420T110900
CREATED:20241014T173344Z
LAST-MODIFIED:20241112T230657Z
UID:10004089-1731960000-1731963600@aishstl.com
SUMMARY:Partners in Torah
DESCRIPTION:Fire up your Jewish learning and fill the world with light. To join as a student or mentor\, contact Rabbi Shmuel Greenwald at 314-862-2474 or at sgreenwald@aishstl.com.  Partners in Torah is a collaboration of Aish Hatorah\, Ignite YP\, Nusach Hari Bnai Zion\,  and the St. Louis Community Kollel 
URL:https://aishstl.com/event/partners-in-torah-5-2/2024-11-18/
LOCATION:Nusach Hari Bnai Zion\, 650 North Price Road\, Olivette\, MO\, 63132\, United States
ATTACH;FMTTYPE=image/png:https://aishstl.com/wordpress/wp-content/uploads/2024/09/PIT-1080x1080-copy@2x-1.png
ORGANIZER;CN="Aish Hatorah of St. Louis":MAILTO:cgoldstein@aishstl.com
GEO:38.6601647;-90.3372244
X-APPLE-STRUCTURED-LOCATION;VALUE=URI;X-ADDRESS=Nusach Hari Bnai Zion 650 North Price Road Olivette MO 63132 United States;X-APPLE-RADIUS=500;X-TITLE=650 North Price Road:geo:-90.3372244,38.6601647
END:VEVENT
BEGIN:VEVENT
DTSTART;TZID=America/Chicago:20241118T200000
DTEND;TZID=America/Chicago:20241118T210000
DTSTAMP:20260420T110900
CREATED:20241201T182914Z
LAST-MODIFIED:20241201T182914Z
UID:10004143-1731960000-1731963600@aishstl.com
SUMMARY:Partners in Torah
DESCRIPTION:Fire up your Jewish learning and fill the world with light. To join as a student or mentor\, contact Rabbi Shmuel Greenwald at 314-862-2474 or at sgreenwald@aishstl.com.  Partners in Torah is a collaboration of Aish Hatorah\, Ignite YP\, Nusach Hari Bnai Zion\,  and the St. Louis Community Kollel 
URL:https://aishstl.com/event/partners-in-torah-6/2024-11-18/
LOCATION:Nusach Hari Bnai Zion\, 650 North Price Road\, Olivette\, MO\, 63132\, United States
ATTACH;FMTTYPE=image/png:https://aishstl.com/wordpress/wp-content/uploads/2024/09/PIT-1080x1080-copy@2x-1.png
ORGANIZER;CN="Aish Hatorah of St. Louis":MAILTO:cgoldstein@aishstl.com
GEO:38.6601647;-90.3372244
X-APPLE-STRUCTURED-LOCATION;VALUE=URI;X-ADDRESS=Nusach Hari Bnai Zion 650 North Price Road Olivette MO 63132 United States;X-APPLE-RADIUS=500;X-TITLE=650 North Price Road:geo:-90.3372244,38.6601647
END:VEVENT
BEGIN:VEVENT
DTSTART;TZID=America/Chicago:20241123T100000
DTEND;TZID=America/Chicago:20241123T113000
DTSTAMP:20260420T110900
CREATED:20241122T173802Z
LAST-MODIFIED:20241122T175623Z
UID:10004119-1732356000-1732361400@aishstl.com
SUMMARY:Soul Building Series at NHBZ welcomes Rabbi Shimmy Fried\, St. Louis Kollel
DESCRIPTION:Our Soul Building Series welcomes our guest speaker\, Rabbi Shimmy Fried\, of the St. Louis Kollel\, this Shabbat.  Please join us for an enlightening discussion as we continue learning how to integrate the spiritual values of the Torah into everyday situations.\nLooking forward\,\nYosef
URL:https://aishstl.com/event/soul-building-series-at-nhbz-welcomes-rabbi-shimmy-fried-st-louis-kollel/
LOCATION:Nusach Hari Bnai Zion\, 650 North Price Road\, Olivette\, MO\, 63132\, United States
ATTACH;FMTTYPE=image/jpeg:https://aishstl.com/wordpress/wp-content/uploads/2024/11/post-Weekly-Soul-Building-wRD-119-1-1.jpg
ORGANIZER;CN="Aish Hatorah of St. Louis":MAILTO:cgoldstein@aishstl.com
GEO:38.6601647;-90.3372244
X-APPLE-STRUCTURED-LOCATION;VALUE=URI;X-ADDRESS=Nusach Hari Bnai Zion 650 North Price Road Olivette MO 63132 United States;X-APPLE-RADIUS=500;X-TITLE=650 North Price Road:geo:-90.3372244,38.6601647
END:VEVENT
BEGIN:VEVENT
DTSTART;TZID=America/Chicago:20241125T181500
DTEND;TZID=America/Chicago:20241125T210000
DTSTAMP:20260420T110900
CREATED:20241112T232353Z
LAST-MODIFIED:20241112T232523Z
UID:10004111-1732558500-1732568400@aishstl.com
SUMMARY:Special Learniversary Dinner for Partners in Torah and Their Families
DESCRIPTION:Join Partners in Torah for a wonderful evening for you and your family that is filled with great food\, friendship\, community\, and special guest\, Mr. Gary Torgow\, Chairman\, Huntington Bank; President of Jewish Federation of Detroit; President of Yeshiva Beth Yehuda School.  See flyer below for details and click here for reservations
URL:https://aishstl.com/event/special-learniversary-dinner-for-partners-in-torah-and-their-families/
LOCATION:Create:  Clayton Plaza Hotel\, Carondelet Avenue 7750\, Clayton\, MO\, 63105\, United States
ATTACH;FMTTYPE=image/png:https://aishstl.com/wordpress/wp-content/uploads/2024/09/PIT-1080x1080-copy@2x-1.png
GEO:38.6482634;-90.3364243
X-APPLE-STRUCTURED-LOCATION;VALUE=URI;X-ADDRESS=Create:  Clayton Plaza Hotel Carondelet Avenue 7750 Clayton MO 63105 United States;X-APPLE-RADIUS=500;X-TITLE=Carondelet Avenue 7750:geo:-90.3364243,38.6482634
END:VEVENT
BEGIN:VEVENT
DTSTART;TZID=America/Chicago:20241130T100000
DTEND;TZID=America/Chicago:20241130T113000
DTSTAMP:20260420T110900
CREATED:20241201T182322Z
LAST-MODIFIED:20241201T182322Z
UID:10004132-1732960800-1732966200@aishstl.com
SUMMARY:Soul Building Series at NHBZ
DESCRIPTION:Our Soul Building Series continues this Shabbat and I invite you to join us for an enlightening discussion as we continue learning how to integrate the spiritual values of the Torah into everyday situations.\nLooking forward\,\nYosef
URL:https://aishstl.com/event/soul-building-series-at-nhbz-5/2024-11-30/
LOCATION:Nusach Hari Bnai Zion\, 650 North Price Road\, Olivette\, MO\, 63132\, United States
ATTACH;FMTTYPE=image/jpeg:https://aishstl.com/wordpress/wp-content/uploads/2024/11/post-Weekly-Soul-Building-wRD-119-1-1.jpg
ORGANIZER;CN="Aish Hatorah of St. Louis":MAILTO:cgoldstein@aishstl.com
GEO:38.6601647;-90.3372244
X-APPLE-STRUCTURED-LOCATION;VALUE=URI;X-ADDRESS=Nusach Hari Bnai Zion 650 North Price Road Olivette MO 63132 United States;X-APPLE-RADIUS=500;X-TITLE=650 North Price Road:geo:-90.3372244,38.6601647
END:VEVENT
END:VCALENDAR