BEGIN:VCALENDAR
VERSION:2.0
PRODID:-//Aish St. Louis - ECPv6.15.18//NONSGML v1.0//EN
CALSCALE:GREGORIAN
METHOD:PUBLISH
X-ORIGINAL-URL:https://aishstl.com
X-WR-CALDESC:Events for Aish St. Louis
REFRESH-INTERVAL;VALUE=DURATION:PT1H
X-Robots-Tag:noindex
X-PUBLISHED-TTL:PT1H
BEGIN:VTIMEZONE
TZID:America/Chicago
BEGIN:DAYLIGHT
TZOFFSETFROM:-0600
TZOFFSETTO:-0500
TZNAME:CDT
DTSTART:20230312T080000
END:DAYLIGHT
BEGIN:STANDARD
TZOFFSETFROM:-0500
TZOFFSETTO:-0600
TZNAME:CST
DTSTART:20231105T070000
END:STANDARD
BEGIN:DAYLIGHT
TZOFFSETFROM:-0600
TZOFFSETTO:-0500
TZNAME:CDT
DTSTART:20240310T080000
END:DAYLIGHT
BEGIN:STANDARD
TZOFFSETFROM:-0500
TZOFFSETTO:-0600
TZNAME:CST
DTSTART:20241103T070000
END:STANDARD
BEGIN:DAYLIGHT
TZOFFSETFROM:-0600
TZOFFSETTO:-0500
TZNAME:CDT
DTSTART:20250309T080000
END:DAYLIGHT
BEGIN:STANDARD
TZOFFSETFROM:-0500
TZOFFSETTO:-0600
TZNAME:CST
DTSTART:20251102T070000
END:STANDARD
END:VTIMEZONE
BEGIN:VEVENT
DTSTART;TZID=America/Chicago:20240701T200000
DTEND;TZID=America/Chicago:20240701T210000
DTSTAMP:20260421T123357
CREATED:20240629T033403Z
LAST-MODIFIED:20240629T033508Z
UID:10003963-1719864000-1719867600@aishstl.com
SUMMARY:Partners in Torah
DESCRIPTION:Fire up your Jewish learning and fill the world with light. To find out more or to join\, contact Rabbi Shmuel Greenwald at 314-862-2474 or at sgreenwald@aishstl.com.  Partners in Torah is a collaboration of Aish Hatorah\, Ignite YP\, Nusach Hari Bnai Zion\,  the St. Louis Community Kollel and Young Israel of St. Louis
URL:https://aishstl.com/event/partners-in-torah-4/2024-07-01/
LOCATION:Nusach Hari Bnai Zion\, 650 North Price Road\, Olivette\, MO\, 63132\, United States
ATTACH;FMTTYPE=image/jpeg:https://aishstl.com/wordpress/wp-content/uploads/2023/10/pitlogo1-e1703897652868.jpg
ORGANIZER;CN="Aish Hatorah of St. Louis":MAILTO:cgoldstein@aishstl.com
GEO:38.6601647;-90.3372244
X-APPLE-STRUCTURED-LOCATION;VALUE=URI;X-ADDRESS=Nusach Hari Bnai Zion 650 North Price Road Olivette MO 63132 United States;X-APPLE-RADIUS=500;X-TITLE=650 North Price Road:geo:-90.3372244,38.6601647
END:VEVENT
BEGIN:VEVENT
DTSTART;TZID=America/Chicago:20240703T183000
DTEND;TZID=America/Chicago:20240703T203000
DTSTAMP:20260421T123357
CREATED:20240702T032835Z
LAST-MODIFIED:20240702T032835Z
UID:10003972-1720031400-1720038600@aishstl.com
SUMMARY:Special Women's & Girls Challah Club Session with Mimi David
DESCRIPTION:If you’re in town this week\, you’re invited to bring your moms\, daughters\, and friends to the Aish Firehouse this Wednesday evening for a fun Challah making class with our visiting SEED Girls who are excited to show us new and fun ways of braiding challah. Thanks for bringing your own trays to carry home your challah. Fee is $18. \nEmail me as soon as possible at mimidavid@aishstl.com to let me know you’ll join me. \nLooking forward\, \nMimi
URL:https://aishstl.com/event/special-womens-girls-challah-club-session-with-mimi-david/
LOCATION:Aish Hatorah\, Aish Hatorah & Your Home\, Chesterfield\, MO\, 63017\, United States
ATTACH;FMTTYPE=image/jpeg:https://aishstl.com/wordpress/wp-content/uploads/2019/01/JWS-Logo-page0001-e1664552368143.jpg
ORGANIZER;CN="Jewish Women's Society":MAILTO:cwolff@aish.com
GEO:38.6630859;-90.503598
X-APPLE-STRUCTURED-LOCATION;VALUE=URI;X-ADDRESS=Aish Hatorah Aish Hatorah & Your Home Chesterfield MO 63017 United States;X-APPLE-RADIUS=500;X-TITLE=Aish Hatorah & Your Home:geo:-90.503598,38.6630859
END:VEVENT
BEGIN:VEVENT
DTSTART;TZID=America/Chicago:20240706T100000
DTEND;TZID=America/Chicago:20240706T113000
DTSTAMP:20260421T123357
CREATED:20240629T032732Z
LAST-MODIFIED:20240726T170308Z
UID:10003959-1720260000-1720265400@aishstl.com
SUMMARY:Shabbat Learners' Service at U City Shul with Rabbi Shmuel Greenwald
DESCRIPTION:Enjoy a lively\, inspirational service where all questions are encouraged.  Prayers are in English and explained along the way.  For more information\, please call Aish at 314-862-2474 or email sgreenwald@aishstl.com\nLooking forward\,\nShmuel
URL:https://aishstl.com/event/shabbat-learners-service-at-u-city-shul-with-rabbi-shmuel-greenwald-13/2024-07-06/
LOCATION:U City Shul\, 700 North & South Road\, University City\, MO\, 63130\, United States
ATTACH;FMTTYPE=image/jpeg:https://aishstl.com/wordpress/wp-content/uploads/2018/04/UCity_Schul_JoyMarcusphoto.jpg
ORGANIZER;CN="Aish Hatorah of St. Louis":MAILTO:cgoldstein@aishstl.com
GEO:38.660486;-90.336856
X-APPLE-STRUCTURED-LOCATION;VALUE=URI;X-ADDRESS=U City Shul 700 North & South Road University City MO 63130 United States;X-APPLE-RADIUS=500;X-TITLE=700 North & South Road:geo:-90.336856,38.660486
END:VEVENT
BEGIN:VEVENT
DTSTART;TZID=America/Chicago:20240706T100000
DTEND;TZID=America/Chicago:20240706T120000
DTSTAMP:20260421T123357
CREATED:20240629T034220Z
LAST-MODIFIED:20240629T034220Z
UID:10003968-1720260000-1720267200@aishstl.com
SUMMARY:Soul Building Series with Rabbi Yosef David at NHBZ
DESCRIPTION:Join me each Shabbat for my Soul Building Series to continue learning how to integrate the spiritual values of the Torah into our everyday life situations.\nAll the best\,\nYosef David
URL:https://aishstl.com/event/soul-building-series-with-rabbi-yosef-david-at-nhbz/2024-07-06/
LOCATION:Nusach Hari Bnai Zion\, 650 North Price Road\, Olivette\, MO\, 63132\, United States
ATTACH;FMTTYPE=image/jpeg:https://aishstl.com/wordpress/wp-content/uploads/2018/04/UCity_Schul_JoyMarcusphoto.jpg
ORGANIZER;CN="Aish Hatorah of St. Louis":MAILTO:cgoldstein@aishstl.com
GEO:38.6601647;-90.3372244
X-APPLE-STRUCTURED-LOCATION;VALUE=URI;X-ADDRESS=Nusach Hari Bnai Zion 650 North Price Road Olivette MO 63132 United States;X-APPLE-RADIUS=500;X-TITLE=650 North Price Road:geo:-90.3372244,38.6601647
END:VEVENT
BEGIN:VEVENT
DTSTART;TZID=America/Chicago:20240707T100000
DTEND;TZID=America/Chicago:20240707T113000
DTSTAMP:20260421T123357
CREATED:20240621T144401Z
LAST-MODIFIED:20240629T031852Z
UID:10003956-1720346400-1720351800@aishstl.com
SUMMARY:Sunday Schmooze with Rabbi Greenwald -- Breakfast & Ethics of our Fathers class (Pirkei Avot)
DESCRIPTION:Join me Sunday mornings for breakfast and lively discussions exploring 3\,000 years of Jewish wisdom from Ethics of our Fathers (Pirkei Avot).  Breakfast at 10:00 am followed by class from 10:30 am to 11:30 am.  For more information or to RSVP\, email me at sgreenwald@aishstl.com.  Childcare available when requested by the Friday before  each class.  Aish Hatorah\, 457 North Woods Mill Road\, Chesterfield\, MO 63017\nLooking forward\,\nShmuel
URL:https://aishstl.com/event/sunday-schmooze-with-rabbi-greenwald-breakfast-ethics-of-our-fathers-class-pirkei-avot/2024-07-07/
LOCATION:Aish Hatorah\, Aish Hatorah & Your Home\, Chesterfield\, MO\, 63017\, United States
ATTACH;FMTTYPE=image/jpeg:https://aishstl.com/wordpress/wp-content/uploads/2019/09/sgreenwald_a-e1674595706751.jpg
ORGANIZER;CN="Aish Hatorah of St. Louis":MAILTO:cgoldstein@aishstl.com
GEO:38.6630859;-90.503598
X-APPLE-STRUCTURED-LOCATION;VALUE=URI;X-ADDRESS=Aish Hatorah Aish Hatorah & Your Home Chesterfield MO 63017 United States;X-APPLE-RADIUS=500;X-TITLE=Aish Hatorah & Your Home:geo:-90.503598,38.6630859
END:VEVENT
BEGIN:VEVENT
DTSTART;TZID=America/Chicago:20240708T200000
DTEND;TZID=America/Chicago:20240708T210000
DTSTAMP:20260421T123357
CREATED:20240629T033403Z
LAST-MODIFIED:20240629T033508Z
UID:10003964-1720468800-1720472400@aishstl.com
SUMMARY:Partners in Torah
DESCRIPTION:Fire up your Jewish learning and fill the world with light. To find out more or to join\, contact Rabbi Shmuel Greenwald at 314-862-2474 or at sgreenwald@aishstl.com.  Partners in Torah is a collaboration of Aish Hatorah\, Ignite YP\, Nusach Hari Bnai Zion\,  the St. Louis Community Kollel and Young Israel of St. Louis
URL:https://aishstl.com/event/partners-in-torah-4/2024-07-08/
LOCATION:Nusach Hari Bnai Zion\, 650 North Price Road\, Olivette\, MO\, 63132\, United States
ATTACH;FMTTYPE=image/jpeg:https://aishstl.com/wordpress/wp-content/uploads/2023/10/pitlogo1-e1703897652868.jpg
ORGANIZER;CN="Aish Hatorah of St. Louis":MAILTO:cgoldstein@aishstl.com
GEO:38.6601647;-90.3372244
X-APPLE-STRUCTURED-LOCATION;VALUE=URI;X-ADDRESS=Nusach Hari Bnai Zion 650 North Price Road Olivette MO 63132 United States;X-APPLE-RADIUS=500;X-TITLE=650 North Price Road:geo:-90.3372244,38.6601647
END:VEVENT
BEGIN:VEVENT
DTSTART;TZID=America/Chicago:20240713T100000
DTEND;TZID=America/Chicago:20240713T113000
DTSTAMP:20260421T123357
CREATED:20240629T032732Z
LAST-MODIFIED:20240726T170308Z
UID:10003960-1720864800-1720870200@aishstl.com
SUMMARY:Shabbat Learners' Service at U City Shul with Rabbi Shmuel Greenwald
DESCRIPTION:Enjoy a lively\, inspirational service where all questions are encouraged.  Prayers are in English and explained along the way.  For more information\, please call Aish at 314-862-2474 or email sgreenwald@aishstl.com\nLooking forward\,\nShmuel
URL:https://aishstl.com/event/shabbat-learners-service-at-u-city-shul-with-rabbi-shmuel-greenwald-13/2024-07-13/
LOCATION:U City Shul\, 700 North & South Road\, University City\, MO\, 63130\, United States
ATTACH;FMTTYPE=image/jpeg:https://aishstl.com/wordpress/wp-content/uploads/2018/04/UCity_Schul_JoyMarcusphoto.jpg
ORGANIZER;CN="Aish Hatorah of St. Louis":MAILTO:cgoldstein@aishstl.com
GEO:38.660486;-90.336856
X-APPLE-STRUCTURED-LOCATION;VALUE=URI;X-ADDRESS=U City Shul 700 North & South Road University City MO 63130 United States;X-APPLE-RADIUS=500;X-TITLE=700 North & South Road:geo:-90.336856,38.660486
END:VEVENT
BEGIN:VEVENT
DTSTART;TZID=America/Chicago:20240713T100000
DTEND;TZID=America/Chicago:20240713T120000
DTSTAMP:20260421T123357
CREATED:20240629T034220Z
LAST-MODIFIED:20240629T034220Z
UID:10003969-1720864800-1720872000@aishstl.com
SUMMARY:Soul Building Series with Rabbi Yosef David at NHBZ
DESCRIPTION:Join me each Shabbat for my Soul Building Series to continue learning how to integrate the spiritual values of the Torah into our everyday life situations.\nAll the best\,\nYosef David
URL:https://aishstl.com/event/soul-building-series-with-rabbi-yosef-david-at-nhbz/2024-07-13/
LOCATION:Nusach Hari Bnai Zion\, 650 North Price Road\, Olivette\, MO\, 63132\, United States
ATTACH;FMTTYPE=image/jpeg:https://aishstl.com/wordpress/wp-content/uploads/2018/04/UCity_Schul_JoyMarcusphoto.jpg
ORGANIZER;CN="Aish Hatorah of St. Louis":MAILTO:cgoldstein@aishstl.com
GEO:38.6601647;-90.3372244
X-APPLE-STRUCTURED-LOCATION;VALUE=URI;X-ADDRESS=Nusach Hari Bnai Zion 650 North Price Road Olivette MO 63132 United States;X-APPLE-RADIUS=500;X-TITLE=650 North Price Road:geo:-90.3372244,38.6601647
END:VEVENT
BEGIN:VEVENT
DTSTART;TZID=America/Chicago:20240714T140000
DTEND;TZID=America/Chicago:20240714T180000
DTSTAMP:20260421T123357
CREATED:20240621T150116Z
LAST-MODIFIED:20240621T150116Z
UID:10003954-1720965600-1720980000@aishstl.com
SUMMARY:Outdoor fun for the whole family at Aish's Family Picnic at Stacy Park
DESCRIPTION:Bring your family to spend the afternoon with Aish at Stacy Park in Olivette. The day begins with our exciting Rabbis’ Softball game and continues as you walk the beautiful paths along one of St. Louis’s Natural Prairie Habitat\, or relax under the covered pavilion while children have loads of fun in the park’s renovated accessible playground.  After the softball game\, enjoy a delicious BBQ (food for sale).  RSVP to cgoldstein@aishstl.com before July 11th.  More details on the flier below.
URL:https://aishstl.com/event/outdoor-fun-for-the-whole-family-at-aishs-family-picnic-at-stacy-park/
LOCATION:Stacy Park\, Olivette\, MO\, 9750 Old Bonhomme Road\, Olivette\, MO\, 63132\, United States
ATTACH;FMTTYPE=image/png:https://aishstl.com/wordpress/wp-content/uploads/2024/06/Stacy-Park-picture-for-flier-5.18.24.png
ORGANIZER;CN="Aish Hatorah of St. Louis":MAILTO:cgoldstein@aishstl.com
GEO:38.6688965;-90.3903831
X-APPLE-STRUCTURED-LOCATION;VALUE=URI;X-ADDRESS=Stacy Park Olivette MO 9750 Old Bonhomme Road Olivette MO 63132 United States;X-APPLE-RADIUS=500;X-TITLE=9750 Old Bonhomme Road:geo:-90.3903831,38.6688965
END:VEVENT
BEGIN:VEVENT
DTSTART;TZID=America/Chicago:20240715T200000
DTEND;TZID=America/Chicago:20240715T210000
DTSTAMP:20260421T123357
CREATED:20240629T033403Z
LAST-MODIFIED:20240629T033508Z
UID:10003965-1721073600-1721077200@aishstl.com
SUMMARY:Partners in Torah
DESCRIPTION:Fire up your Jewish learning and fill the world with light. To find out more or to join\, contact Rabbi Shmuel Greenwald at 314-862-2474 or at sgreenwald@aishstl.com.  Partners in Torah is a collaboration of Aish Hatorah\, Ignite YP\, Nusach Hari Bnai Zion\,  the St. Louis Community Kollel and Young Israel of St. Louis
URL:https://aishstl.com/event/partners-in-torah-4/2024-07-15/
LOCATION:Nusach Hari Bnai Zion\, 650 North Price Road\, Olivette\, MO\, 63132\, United States
ATTACH;FMTTYPE=image/jpeg:https://aishstl.com/wordpress/wp-content/uploads/2023/10/pitlogo1-e1703897652868.jpg
ORGANIZER;CN="Aish Hatorah of St. Louis":MAILTO:cgoldstein@aishstl.com
GEO:38.6601647;-90.3372244
X-APPLE-STRUCTURED-LOCATION;VALUE=URI;X-ADDRESS=Nusach Hari Bnai Zion 650 North Price Road Olivette MO 63132 United States;X-APPLE-RADIUS=500;X-TITLE=650 North Price Road:geo:-90.3372244,38.6601647
END:VEVENT
BEGIN:VEVENT
DTSTART;TZID=America/Chicago:20240720T100000
DTEND;TZID=America/Chicago:20240720T113000
DTSTAMP:20260421T123357
CREATED:20240629T032732Z
LAST-MODIFIED:20240726T170308Z
UID:10003961-1721469600-1721475000@aishstl.com
SUMMARY:Shabbat Learners' Service at U City Shul with Rabbi Shmuel Greenwald
DESCRIPTION:Enjoy a lively\, inspirational service where all questions are encouraged.  Prayers are in English and explained along the way.  For more information\, please call Aish at 314-862-2474 or email sgreenwald@aishstl.com\nLooking forward\,\nShmuel
URL:https://aishstl.com/event/shabbat-learners-service-at-u-city-shul-with-rabbi-shmuel-greenwald-13/2024-07-20/
LOCATION:U City Shul\, 700 North & South Road\, University City\, MO\, 63130\, United States
ATTACH;FMTTYPE=image/jpeg:https://aishstl.com/wordpress/wp-content/uploads/2018/04/UCity_Schul_JoyMarcusphoto.jpg
ORGANIZER;CN="Aish Hatorah of St. Louis":MAILTO:cgoldstein@aishstl.com
GEO:38.660486;-90.336856
X-APPLE-STRUCTURED-LOCATION;VALUE=URI;X-ADDRESS=U City Shul 700 North & South Road University City MO 63130 United States;X-APPLE-RADIUS=500;X-TITLE=700 North & South Road:geo:-90.336856,38.660486
END:VEVENT
BEGIN:VEVENT
DTSTART;TZID=America/Chicago:20240720T100000
DTEND;TZID=America/Chicago:20240720T120000
DTSTAMP:20260421T123357
CREATED:20240629T034220Z
LAST-MODIFIED:20240629T034220Z
UID:10003970-1721469600-1721476800@aishstl.com
SUMMARY:Soul Building Series with Rabbi Yosef David at NHBZ
DESCRIPTION:Join me each Shabbat for my Soul Building Series to continue learning how to integrate the spiritual values of the Torah into our everyday life situations.\nAll the best\,\nYosef David
URL:https://aishstl.com/event/soul-building-series-with-rabbi-yosef-david-at-nhbz/2024-07-20/
LOCATION:Nusach Hari Bnai Zion\, 650 North Price Road\, Olivette\, MO\, 63132\, United States
ATTACH;FMTTYPE=image/jpeg:https://aishstl.com/wordpress/wp-content/uploads/2018/04/UCity_Schul_JoyMarcusphoto.jpg
ORGANIZER;CN="Aish Hatorah of St. Louis":MAILTO:cgoldstein@aishstl.com
GEO:38.6601647;-90.3372244
X-APPLE-STRUCTURED-LOCATION;VALUE=URI;X-ADDRESS=Nusach Hari Bnai Zion 650 North Price Road Olivette MO 63132 United States;X-APPLE-RADIUS=500;X-TITLE=650 North Price Road:geo:-90.3372244,38.6601647
END:VEVENT
BEGIN:VEVENT
DTSTART;TZID=America/Chicago:20240721T100000
DTEND;TZID=America/Chicago:20240721T113000
DTSTAMP:20260421T123357
CREATED:20240621T144401Z
LAST-MODIFIED:20240629T031852Z
UID:10003957-1721556000-1721561400@aishstl.com
SUMMARY:Sunday Schmooze with Rabbi Greenwald -- Breakfast & Ethics of our Fathers class (Pirkei Avot)
DESCRIPTION:Join me Sunday mornings for breakfast and lively discussions exploring 3\,000 years of Jewish wisdom from Ethics of our Fathers (Pirkei Avot).  Breakfast at 10:00 am followed by class from 10:30 am to 11:30 am.  For more information or to RSVP\, email me at sgreenwald@aishstl.com.  Childcare available when requested by the Friday before  each class.  Aish Hatorah\, 457 North Woods Mill Road\, Chesterfield\, MO 63017\nLooking forward\,\nShmuel
URL:https://aishstl.com/event/sunday-schmooze-with-rabbi-greenwald-breakfast-ethics-of-our-fathers-class-pirkei-avot/2024-07-21/
LOCATION:Aish Hatorah\, Aish Hatorah & Your Home\, Chesterfield\, MO\, 63017\, United States
ATTACH;FMTTYPE=image/jpeg:https://aishstl.com/wordpress/wp-content/uploads/2019/09/sgreenwald_a-e1674595706751.jpg
ORGANIZER;CN="Aish Hatorah of St. Louis":MAILTO:cgoldstein@aishstl.com
GEO:38.6630859;-90.503598
X-APPLE-STRUCTURED-LOCATION;VALUE=URI;X-ADDRESS=Aish Hatorah Aish Hatorah & Your Home Chesterfield MO 63017 United States;X-APPLE-RADIUS=500;X-TITLE=Aish Hatorah & Your Home:geo:-90.503598,38.6630859
END:VEVENT
BEGIN:VEVENT
DTSTART;TZID=America/Chicago:20240722T200000
DTEND;TZID=America/Chicago:20240722T210000
DTSTAMP:20260421T123357
CREATED:20240629T033403Z
LAST-MODIFIED:20240629T033508Z
UID:10003966-1721678400-1721682000@aishstl.com
SUMMARY:Partners in Torah
DESCRIPTION:Fire up your Jewish learning and fill the world with light. To find out more or to join\, contact Rabbi Shmuel Greenwald at 314-862-2474 or at sgreenwald@aishstl.com.  Partners in Torah is a collaboration of Aish Hatorah\, Ignite YP\, Nusach Hari Bnai Zion\,  the St. Louis Community Kollel and Young Israel of St. Louis
URL:https://aishstl.com/event/partners-in-torah-4/2024-07-22/
LOCATION:Nusach Hari Bnai Zion\, 650 North Price Road\, Olivette\, MO\, 63132\, United States
ATTACH;FMTTYPE=image/jpeg:https://aishstl.com/wordpress/wp-content/uploads/2023/10/pitlogo1-e1703897652868.jpg
ORGANIZER;CN="Aish Hatorah of St. Louis":MAILTO:cgoldstein@aishstl.com
GEO:38.6601647;-90.3372244
X-APPLE-STRUCTURED-LOCATION;VALUE=URI;X-ADDRESS=Nusach Hari Bnai Zion 650 North Price Road Olivette MO 63132 United States;X-APPLE-RADIUS=500;X-TITLE=650 North Price Road:geo:-90.3372244,38.6601647
END:VEVENT
BEGIN:VEVENT
DTSTART;VALUE=DATE:20240727
DTEND;VALUE=DATE:20240728
DTSTAMP:20260421T123357
CREATED:20240726T170812Z
LAST-MODIFIED:20240726T170812Z
UID:10003973-1722038400-1722124799@aishstl.com
SUMMARY:Cancelled -- Shabbat Learners' Service with Rabbi Shmuel Greenwald
DESCRIPTION:
URL:https://aishstl.com/event/cancelled-shabbat-learners-service-with-rabbi-shmuel-greenwald/
LOCATION:U City Shul\, 700 North & South Road\, University City\, MO\, 63130\, United States
ATTACH;FMTTYPE=image/jpeg:https://aishstl.com/wordpress/wp-content/uploads/2019/09/sgreenwald_c-1.jpg
ORGANIZER;CN="Aish Hatorah of St. Louis":MAILTO:cgoldstein@aishstl.com
GEO:38.660486;-90.336856
X-APPLE-STRUCTURED-LOCATION;VALUE=URI;X-ADDRESS=U City Shul 700 North & South Road University City MO 63130 United States;X-APPLE-RADIUS=500;X-TITLE=700 North & South Road:geo:-90.336856,38.660486
END:VEVENT
BEGIN:VEVENT
DTSTART;TZID=America/Chicago:20240727T100000
DTEND;TZID=America/Chicago:20240727T120000
DTSTAMP:20260421T123357
CREATED:20240629T034220Z
LAST-MODIFIED:20240629T034220Z
UID:10003971-1722074400-1722081600@aishstl.com
SUMMARY:Soul Building Series with Rabbi Yosef David at NHBZ
DESCRIPTION:Join me each Shabbat for my Soul Building Series to continue learning how to integrate the spiritual values of the Torah into our everyday life situations.\nAll the best\,\nYosef David
URL:https://aishstl.com/event/soul-building-series-with-rabbi-yosef-david-at-nhbz/2024-07-27/
LOCATION:Nusach Hari Bnai Zion\, 650 North Price Road\, Olivette\, MO\, 63132\, United States
ATTACH;FMTTYPE=image/jpeg:https://aishstl.com/wordpress/wp-content/uploads/2018/04/UCity_Schul_JoyMarcusphoto.jpg
ORGANIZER;CN="Aish Hatorah of St. Louis":MAILTO:cgoldstein@aishstl.com
GEO:38.6601647;-90.3372244
X-APPLE-STRUCTURED-LOCATION;VALUE=URI;X-ADDRESS=Nusach Hari Bnai Zion 650 North Price Road Olivette MO 63132 United States;X-APPLE-RADIUS=500;X-TITLE=650 North Price Road:geo:-90.3372244,38.6601647
END:VEVENT
BEGIN:VEVENT
DTSTART;TZID=America/Chicago:20240728T100000
DTEND;TZID=America/Chicago:20240728T113000
DTSTAMP:20260421T123357
CREATED:20240621T144401Z
LAST-MODIFIED:20240629T031852Z
UID:10003958-1722160800-1722166200@aishstl.com
SUMMARY:Sunday Schmooze with Rabbi Greenwald -- Breakfast & Ethics of our Fathers class (Pirkei Avot)
DESCRIPTION:Join me Sunday mornings for breakfast and lively discussions exploring 3\,000 years of Jewish wisdom from Ethics of our Fathers (Pirkei Avot).  Breakfast at 10:00 am followed by class from 10:30 am to 11:30 am.  For more information or to RSVP\, email me at sgreenwald@aishstl.com.  Childcare available when requested by the Friday before  each class.  Aish Hatorah\, 457 North Woods Mill Road\, Chesterfield\, MO 63017\nLooking forward\,\nShmuel
URL:https://aishstl.com/event/sunday-schmooze-with-rabbi-greenwald-breakfast-ethics-of-our-fathers-class-pirkei-avot/2024-07-28/
LOCATION:Aish Hatorah\, Aish Hatorah & Your Home\, Chesterfield\, MO\, 63017\, United States
ATTACH;FMTTYPE=image/jpeg:https://aishstl.com/wordpress/wp-content/uploads/2019/09/sgreenwald_a-e1674595706751.jpg
ORGANIZER;CN="Aish Hatorah of St. Louis":MAILTO:cgoldstein@aishstl.com
GEO:38.6630859;-90.503598
X-APPLE-STRUCTURED-LOCATION;VALUE=URI;X-ADDRESS=Aish Hatorah Aish Hatorah & Your Home Chesterfield MO 63017 United States;X-APPLE-RADIUS=500;X-TITLE=Aish Hatorah & Your Home:geo:-90.503598,38.6630859
END:VEVENT
BEGIN:VEVENT
DTSTART;TZID=America/Chicago:20240729T200000
DTEND;TZID=America/Chicago:20240729T210000
DTSTAMP:20260421T123357
CREATED:20240731T153008Z
LAST-MODIFIED:20240731T153008Z
UID:10003967-1722283200-1722286800@aishstl.com
SUMMARY:Partners in Torah
DESCRIPTION:Fire up your Jewish learning and fill the world with light. To find out more or to join\, contact Rabbi Shmuel Greenwald at 314-862-2474 or at sgreenwald@aishstl.com.  Partners in Torah is a collaboration of Aish Hatorah\, Ignite YP\, Nusach Hari Bnai Zion\,  the St. Louis Community Kollel and Young Israel of St. Louis
URL:https://aishstl.com/event/partners-in-torah-4-2/
LOCATION:Nusach Hari Bnai Zion\, 650 North Price Road\, Olivette\, MO\, 63132\, United States
ATTACH;FMTTYPE=image/jpeg:https://aishstl.com/wordpress/wp-content/uploads/2024/07/PIT_men.jpg
ORGANIZER;CN="Aish Hatorah of St. Louis":MAILTO:cgoldstein@aishstl.com
GEO:38.6601647;-90.3372244
X-APPLE-STRUCTURED-LOCATION;VALUE=URI;X-ADDRESS=Nusach Hari Bnai Zion 650 North Price Road Olivette MO 63132 United States;X-APPLE-RADIUS=500;X-TITLE=650 North Price Road:geo:-90.3372244,38.6601647
END:VEVENT
END:VCALENDAR