BEGIN:VCALENDAR
VERSION:2.0
PRODID:-//Aish St. Louis - ECPv6.15.18//NONSGML v1.0//EN
CALSCALE:GREGORIAN
METHOD:PUBLISH
X-ORIGINAL-URL:https://aishstl.com
X-WR-CALDESC:Events for Aish St. Louis
REFRESH-INTERVAL;VALUE=DURATION:PT1H
X-Robots-Tag:noindex
X-PUBLISHED-TTL:PT1H
BEGIN:VTIMEZONE
TZID:America/Chicago
BEGIN:DAYLIGHT
TZOFFSETFROM:-0600
TZOFFSETTO:-0500
TZNAME:CDT
DTSTART:20230312T080000
END:DAYLIGHT
BEGIN:STANDARD
TZOFFSETFROM:-0500
TZOFFSETTO:-0600
TZNAME:CST
DTSTART:20231105T070000
END:STANDARD
BEGIN:DAYLIGHT
TZOFFSETFROM:-0600
TZOFFSETTO:-0500
TZNAME:CDT
DTSTART:20240310T080000
END:DAYLIGHT
BEGIN:STANDARD
TZOFFSETFROM:-0500
TZOFFSETTO:-0600
TZNAME:CST
DTSTART:20241103T070000
END:STANDARD
BEGIN:DAYLIGHT
TZOFFSETFROM:-0600
TZOFFSETTO:-0500
TZNAME:CDT
DTSTART:20250309T080000
END:DAYLIGHT
BEGIN:STANDARD
TZOFFSETFROM:-0500
TZOFFSETTO:-0600
TZNAME:CST
DTSTART:20251102T070000
END:STANDARD
END:VTIMEZONE
BEGIN:VEVENT
DTSTART;TZID=America/Chicago:20240601T100000
DTEND;TZID=America/Chicago:20240601T113000
DTSTAMP:20260421T142015
CREATED:20240530T213307Z
LAST-MODIFIED:20240530T213307Z
UID:10003932-1717236000-1717241400@aishstl.com
SUMMARY:Shabbat Learners' Service at U City Shul
DESCRIPTION:Enjoy a lively\, inspirational service where all questions are encouraged.  Prayers are in English and explained along the way.  For more information\, please call Aish at 314-862-2474 or email sgreenwald@aishstl.com\nLooking forward\,\nShmuel
URL:https://aishstl.com/event/shabbat-learners-service-at-u-city-shul-11/2024-06-01/
LOCATION:U City Shul\, 700 North & South Road\, University City\, MO\, 63130\, United States
ATTACH;FMTTYPE=image/jpeg:https://aishstl.com/wordpress/wp-content/uploads/2023/01/UCity_Schul_JoyMarcusphoto-scaled.jpg
ORGANIZER;CN="Aish Hatorah of St. Louis":MAILTO:cgoldstein@aishstl.com
GEO:38.660486;-90.336856
X-APPLE-STRUCTURED-LOCATION;VALUE=URI;X-ADDRESS=U City Shul 700 North & South Road University City MO 63130 United States;X-APPLE-RADIUS=500;X-TITLE=700 North & South Road:geo:-90.336856,38.660486
END:VEVENT
BEGIN:VEVENT
DTSTART;TZID=America/Chicago:20240601T100000
DTEND;TZID=America/Chicago:20240601T113000
DTSTAMP:20260421T142015
CREATED:20240530T213743Z
LAST-MODIFIED:20240530T220145Z
UID:10003941-1717236000-1717241400@aishstl.com
SUMMARY:Soul Building Series at NHBZ with Rabbi Yosef David
DESCRIPTION:Join our Soul Building Series this week as we continue learning how to integrate the spiritual values of the Torah into our everyday life situations.\nAll the best\,\nYosef David
URL:https://aishstl.com/event/soul-building-series-at-nhbz-with-rabbi-yosef-david-11/2024-06-01/
LOCATION:Nusach Hari Bnai Zion\, 650 North Price Road\, Olivette\, MO\, 63132\, United States
ATTACH;FMTTYPE=image/jpeg:https://aishstl.com/wordpress/wp-content/uploads/2023/01/Nusach-Hari-crop_JoyMarcusphotos-copy.jpg
ORGANIZER;CN="Aish Hatorah of St. Louis":MAILTO:cgoldstein@aishstl.com
GEO:38.6601647;-90.3372244
X-APPLE-STRUCTURED-LOCATION;VALUE=URI;X-ADDRESS=Nusach Hari Bnai Zion 650 North Price Road Olivette MO 63132 United States;X-APPLE-RADIUS=500;X-TITLE=650 North Price Road:geo:-90.3372244,38.6601647
END:VEVENT
BEGIN:VEVENT
DTSTART;TZID=America/Chicago:20240603T200000
DTEND;TZID=America/Chicago:20240603T210000
DTSTAMP:20260421T142015
CREATED:20240520T184823Z
LAST-MODIFIED:20240520T184823Z
UID:10003927-1717444800-1717448400@aishstl.com
SUMMARY:Partners in Torah
DESCRIPTION:Fire up your Jewish learning and fill the world with light. To find out more or to join\, contact Rabbi Shmuel Greenwald at 314-862-2474 or at sgreenwald@aishstl.com.  Partners in Torah is a collaboration of Aish Hatorah\, Ignite YP\, Nusach Hari Bnai Zion\, and the St. Louis Community Kollel
URL:https://aishstl.com/event/partners-in-torah-3/2024-06-03/
LOCATION:Nusach Hari Bnai Zion\, 650 North Price Road\, Olivette\, MO\, 63132\, United States
ATTACH;FMTTYPE=image/jpeg:https://aishstl.com/wordpress/wp-content/uploads/2023/01/Nusach-Hari-crop_JoyMarcusphotos-copy.jpg
ORGANIZER;CN="Aish Hatorah of St. Louis":MAILTO:cgoldstein@aishstl.com
GEO:38.6601647;-90.3372244
X-APPLE-STRUCTURED-LOCATION;VALUE=URI;X-ADDRESS=Nusach Hari Bnai Zion 650 North Price Road Olivette MO 63132 United States;X-APPLE-RADIUS=500;X-TITLE=650 North Price Road:geo:-90.3372244,38.6601647
END:VEVENT
BEGIN:VEVENT
DTSTART;TZID=America/Chicago:20240605T190000
DTEND;TZID=America/Chicago:20240605T210000
DTSTAMP:20260421T142015
CREATED:20240530T215630Z
LAST-MODIFIED:20240530T220007Z
UID:10003950-1717614000-1717621200@aishstl.com
SUMMARY:Challah Club with Mimi David
DESCRIPTION:Come join me and your friends for a fun evening of baking Challah for the whole month.  Please bring your own trays to carry home your challah.  Fee is $18 and let me know you’ll attend at mimidavid@aishstl.com\nLooking forward\,\nMimi
URL:https://aishstl.com/event/challah-club-with-mimi-david-9/
LOCATION:Aish Hatorah\, Aish Hatorah & Your Home\, Chesterfield\, MO\, 63017\, United States
ATTACH;FMTTYPE=image/jpeg:https://aishstl.com/wordpress/wp-content/uploads/2019/01/JWS-Logo-page0001-e1664552368143.jpg
ORGANIZER;CN="Jewish Women's Society":MAILTO:cwolff@aish.com
GEO:38.6630859;-90.503598
X-APPLE-STRUCTURED-LOCATION;VALUE=URI;X-ADDRESS=Aish Hatorah Aish Hatorah & Your Home Chesterfield MO 63017 United States;X-APPLE-RADIUS=500;X-TITLE=Aish Hatorah & Your Home:geo:-90.503598,38.6630859
END:VEVENT
BEGIN:VEVENT
DTSTART;TZID=America/Chicago:20240608T100000
DTEND;TZID=America/Chicago:20240608T113000
DTSTAMP:20260421T142016
CREATED:20240530T213307Z
LAST-MODIFIED:20240530T213307Z
UID:10003933-1717840800-1717846200@aishstl.com
SUMMARY:Shabbat Learners' Service at U City Shul
DESCRIPTION:Enjoy a lively\, inspirational service where all questions are encouraged.  Prayers are in English and explained along the way.  For more information\, please call Aish at 314-862-2474 or email sgreenwald@aishstl.com\nLooking forward\,\nShmuel
URL:https://aishstl.com/event/shabbat-learners-service-at-u-city-shul-11/2024-06-08/
LOCATION:U City Shul\, 700 North & South Road\, University City\, MO\, 63130\, United States
ATTACH;FMTTYPE=image/jpeg:https://aishstl.com/wordpress/wp-content/uploads/2023/01/UCity_Schul_JoyMarcusphoto-scaled.jpg
ORGANIZER;CN="Aish Hatorah of St. Louis":MAILTO:cgoldstein@aishstl.com
GEO:38.660486;-90.336856
X-APPLE-STRUCTURED-LOCATION;VALUE=URI;X-ADDRESS=U City Shul 700 North & South Road University City MO 63130 United States;X-APPLE-RADIUS=500;X-TITLE=700 North & South Road:geo:-90.336856,38.660486
END:VEVENT
BEGIN:VEVENT
DTSTART;TZID=America/Chicago:20240608T100000
DTEND;TZID=America/Chicago:20240608T120000
DTSTAMP:20260421T142016
CREATED:20240530T213743Z
LAST-MODIFIED:20240530T220145Z
UID:10003942-1717840800-1717848000@aishstl.com
SUMMARY:Soul Building Series at NHBZ with Rabbi Yosef David
DESCRIPTION:Join our Soul Building Series this week as we continue learning how to integrate the spiritual values of the Torah into our everyday life situations.\nAll the best\,\nYosef David
URL:https://aishstl.com/event/soul-building-series-at-nhbz-with-rabbi-yosef-david-11/2024-06-08/
LOCATION:Nusach Hari Bnai Zion\, 650 North Price Road\, Olivette\, MO\, 63132\, United States
ATTACH;FMTTYPE=image/jpeg:https://aishstl.com/wordpress/wp-content/uploads/2023/01/Nusach-Hari-crop_JoyMarcusphotos-copy.jpg
ORGANIZER;CN="Aish Hatorah of St. Louis":MAILTO:cgoldstein@aishstl.com
GEO:38.6601647;-90.3372244
X-APPLE-STRUCTURED-LOCATION;VALUE=URI;X-ADDRESS=Nusach Hari Bnai Zion 650 North Price Road Olivette MO 63132 United States;X-APPLE-RADIUS=500;X-TITLE=650 North Price Road:geo:-90.3372244,38.6601647
END:VEVENT
BEGIN:VEVENT
DTSTART;TZID=America/Chicago:20240609T100000
DTEND;TZID=America/Chicago:20240609T120000
DTSTAMP:20260421T142016
CREATED:20240531T182311Z
LAST-MODIFIED:20240607T125638Z
UID:10003951-1717927200-1717934400@aishstl.com
SUMMARY:Revised Schedule:  Celebrate Shavuos with Aish at a Pre-Shavuos Seminar
DESCRIPTION:Celebrate the giving of the Torah with your family and Aish at this inspiring and educational program.  Adults choose classes from 3 amazing teachers.  Babysitting available for children under 5.  If you have children over the age of 5\, let us know so we can have a program for them\, too.  Suggested donation  $18  RSVP HERE by June 7th for one or both programs or email cgoldstein@aishstl.com indicating number of children and adults attending.  Location:  Torah Prep Girls School\, 8136 Groby Road\, 63130.  See more details below. \n \n 
URL:https://aishstl.com/event/celebrate-shavuos-with-aish-at-a-pre-shavuos-seminar-childrens-program/
LOCATION:Torah Prep Schools for Girls\, 8136 Groby Road\, St. Louis\, MO\, 63130\, United States
ATTACH;FMTTYPE=image/jpeg:https://aishstl.com/wordpress/wp-content/uploads/2020/04/Shavuot1902937d6d00da0-e1652199163941.jpg
ORGANIZER;CN="Aish Hatorah of St. Louis":MAILTO:cgoldstein@aishstl.com
GEO:38.6674612;-90.3471117
X-APPLE-STRUCTURED-LOCATION;VALUE=URI;X-ADDRESS=Torah Prep Schools for Girls 8136 Groby Road St. Louis MO 63130 United States;X-APPLE-RADIUS=500;X-TITLE=8136 Groby Road:geo:-90.3471117,38.6674612
END:VEVENT
BEGIN:VEVENT
DTSTART;TZID=America/Chicago:20240610T200000
DTEND;TZID=America/Chicago:20240610T210000
DTSTAMP:20260421T142016
CREATED:20240520T184823Z
LAST-MODIFIED:20240520T184823Z
UID:10003928-1718049600-1718053200@aishstl.com
SUMMARY:Partners in Torah
DESCRIPTION:Fire up your Jewish learning and fill the world with light. To find out more or to join\, contact Rabbi Shmuel Greenwald at 314-862-2474 or at sgreenwald@aishstl.com.  Partners in Torah is a collaboration of Aish Hatorah\, Ignite YP\, Nusach Hari Bnai Zion\, and the St. Louis Community Kollel
URL:https://aishstl.com/event/partners-in-torah-3/2024-06-10/
LOCATION:Nusach Hari Bnai Zion\, 650 North Price Road\, Olivette\, MO\, 63132\, United States
ATTACH;FMTTYPE=image/jpeg:https://aishstl.com/wordpress/wp-content/uploads/2023/01/Nusach-Hari-crop_JoyMarcusphotos-copy.jpg
ORGANIZER;CN="Aish Hatorah of St. Louis":MAILTO:cgoldstein@aishstl.com
GEO:38.6601647;-90.3372244
X-APPLE-STRUCTURED-LOCATION;VALUE=URI;X-ADDRESS=Nusach Hari Bnai Zion 650 North Price Road Olivette MO 63132 United States;X-APPLE-RADIUS=500;X-TITLE=650 North Price Road:geo:-90.3372244,38.6601647
END:VEVENT
BEGIN:VEVENT
DTSTART;TZID=America/Chicago:20240612T170000
DTEND;TZID=America/Chicago:20240612T190000
DTSTAMP:20260421T142016
CREATED:20240606T203404Z
LAST-MODIFIED:20240610T191656Z
UID:10003952-1718211600-1718218800@aishstl.com
SUMMARY:Aish's Shavuos Classes with Rabbi Yosef & Mimi David followed by an Ice Cream & Cheesecake Party! RSVP by noon tomorrow\, 6/11
DESCRIPTION:Celebrate the giving of the Torah together with your family and Aish as you attend two inspiring classes with Rabbi Yosef David and Mimi David\, followed by an Ice Cream & Cheesecake Party.  Babysitting available for children under 5.  If you have children over the age of 5\, let us know so we can have a program for them\, too.  Suggested donation $18     RSVP HERE or email cgoldstein@aishstl.com indicating the number of children and adults attending.   Torah Prep Girls School\, 8136 Groby Road\, 63130.  See more details below. \n \n  \n 
URL:https://aishstl.com/event/celebrate-with-aish-at-a-shavous-seminar-ice-cream-cheesecake-desserts-party/
LOCATION:Torah Prep Schools for Girls\, 8136 Groby Road\, St. Louis\, MO\, 63130\, United States
ATTACH;FMTTYPE=image/jpeg:https://aishstl.com/wordpress/wp-content/uploads/2020/04/Shavuot1902937d6d00da0-e1652199163941.jpg
ORGANIZER;CN="Aish Hatorah of St. Louis":MAILTO:cgoldstein@aishstl.com
GEO:38.6674612;-90.3471117
X-APPLE-STRUCTURED-LOCATION;VALUE=URI;X-ADDRESS=Torah Prep Schools for Girls 8136 Groby Road St. Louis MO 63130 United States;X-APPLE-RADIUS=500;X-TITLE=8136 Groby Road:geo:-90.3471117,38.6674612
END:VEVENT
BEGIN:VEVENT
DTSTART;TZID=America/Chicago:20240615T100000
DTEND;TZID=America/Chicago:20240615T113000
DTSTAMP:20260421T142016
CREATED:20240530T213307Z
LAST-MODIFIED:20240530T213307Z
UID:10003934-1718445600-1718451000@aishstl.com
SUMMARY:Shabbat Learners' Service at U City Shul
DESCRIPTION:Enjoy a lively\, inspirational service where all questions are encouraged.  Prayers are in English and explained along the way.  For more information\, please call Aish at 314-862-2474 or email sgreenwald@aishstl.com\nLooking forward\,\nShmuel
URL:https://aishstl.com/event/shabbat-learners-service-at-u-city-shul-11/2024-06-15/
LOCATION:U City Shul\, 700 North & South Road\, University City\, MO\, 63130\, United States
ATTACH;FMTTYPE=image/jpeg:https://aishstl.com/wordpress/wp-content/uploads/2023/01/UCity_Schul_JoyMarcusphoto-scaled.jpg
ORGANIZER;CN="Aish Hatorah of St. Louis":MAILTO:cgoldstein@aishstl.com
GEO:38.660486;-90.336856
X-APPLE-STRUCTURED-LOCATION;VALUE=URI;X-ADDRESS=U City Shul 700 North & South Road University City MO 63130 United States;X-APPLE-RADIUS=500;X-TITLE=700 North & South Road:geo:-90.336856,38.660486
END:VEVENT
BEGIN:VEVENT
DTSTART;TZID=America/Chicago:20240615T100000
DTEND;TZID=America/Chicago:20240615T120000
DTSTAMP:20260421T142016
CREATED:20240530T213743Z
LAST-MODIFIED:20240530T220145Z
UID:10003943-1718445600-1718452800@aishstl.com
SUMMARY:Soul Building Series at NHBZ with Rabbi Yosef David
DESCRIPTION:Join our Soul Building Series this week as we continue learning how to integrate the spiritual values of the Torah into our everyday life situations.\nAll the best\,\nYosef David
URL:https://aishstl.com/event/soul-building-series-at-nhbz-with-rabbi-yosef-david-11/2024-06-15/
LOCATION:Nusach Hari Bnai Zion\, 650 North Price Road\, Olivette\, MO\, 63132\, United States
ATTACH;FMTTYPE=image/jpeg:https://aishstl.com/wordpress/wp-content/uploads/2023/01/Nusach-Hari-crop_JoyMarcusphotos-copy.jpg
ORGANIZER;CN="Aish Hatorah of St. Louis":MAILTO:cgoldstein@aishstl.com
GEO:38.6601647;-90.3372244
X-APPLE-STRUCTURED-LOCATION;VALUE=URI;X-ADDRESS=Nusach Hari Bnai Zion 650 North Price Road Olivette MO 63132 United States;X-APPLE-RADIUS=500;X-TITLE=650 North Price Road:geo:-90.3372244,38.6601647
END:VEVENT
BEGIN:VEVENT
DTSTART;TZID=America/Chicago:20240617T200000
DTEND;TZID=America/Chicago:20240617T210000
DTSTAMP:20260421T142016
CREATED:20240520T184823Z
LAST-MODIFIED:20240520T184823Z
UID:10003929-1718654400-1718658000@aishstl.com
SUMMARY:Partners in Torah
DESCRIPTION:Fire up your Jewish learning and fill the world with light. To find out more or to join\, contact Rabbi Shmuel Greenwald at 314-862-2474 or at sgreenwald@aishstl.com.  Partners in Torah is a collaboration of Aish Hatorah\, Ignite YP\, Nusach Hari Bnai Zion\, and the St. Louis Community Kollel
URL:https://aishstl.com/event/partners-in-torah-3/2024-06-17/
LOCATION:Nusach Hari Bnai Zion\, 650 North Price Road\, Olivette\, MO\, 63132\, United States
ATTACH;FMTTYPE=image/jpeg:https://aishstl.com/wordpress/wp-content/uploads/2023/01/Nusach-Hari-crop_JoyMarcusphotos-copy.jpg
ORGANIZER;CN="Aish Hatorah of St. Louis":MAILTO:cgoldstein@aishstl.com
GEO:38.6601647;-90.3372244
X-APPLE-STRUCTURED-LOCATION;VALUE=URI;X-ADDRESS=Nusach Hari Bnai Zion 650 North Price Road Olivette MO 63132 United States;X-APPLE-RADIUS=500;X-TITLE=650 North Price Road:geo:-90.3372244,38.6601647
END:VEVENT
BEGIN:VEVENT
DTSTART;TZID=America/Chicago:20240622T100000
DTEND;TZID=America/Chicago:20240622T113000
DTSTAMP:20260421T142016
CREATED:20240530T213527Z
LAST-MODIFIED:20240530T213527Z
UID:10003935-1719050400-1719055800@aishstl.com
SUMMARY:Shabbat Learners' Service at U City Shul with Rabbi Shmuel Greenwald
DESCRIPTION:Enjoy a lively\, inspirational service where all questions are encouraged.  Prayers are in English and explained along the way.  For more information\, please call Aish at 314-862-2474 or email sgreenwald@aishstl.com\nLooking forward\,\nShmuel
URL:https://aishstl.com/event/shabbat-learners-service-at-u-city-shul-with-rabbi-shmuel-greenwald-12/2024-06-22/
LOCATION:U City Shul\, 700 North & South Road\, University City\, MO\, 63130\, United States
ATTACH;FMTTYPE=image/jpeg:https://aishstl.com/wordpress/wp-content/uploads/2023/01/UCity_Schul_JoyMarcusphoto-scaled.jpg
ORGANIZER;CN="Aish Hatorah of St. Louis":MAILTO:cgoldstein@aishstl.com
GEO:38.660486;-90.336856
X-APPLE-STRUCTURED-LOCATION;VALUE=URI;X-ADDRESS=U City Shul 700 North & South Road University City MO 63130 United States;X-APPLE-RADIUS=500;X-TITLE=700 North & South Road:geo:-90.336856,38.660486
END:VEVENT
BEGIN:VEVENT
DTSTART;TZID=America/Chicago:20240622T100000
DTEND;TZID=America/Chicago:20240622T113000
DTSTAMP:20260421T142016
CREATED:20240530T213743Z
LAST-MODIFIED:20240530T220145Z
UID:10003944-1719050400-1719055800@aishstl.com
SUMMARY:Soul Building Series at NHBZ with Rabbi Yosef David
DESCRIPTION:Join our Soul Building Series this week as we continue learning how to integrate the spiritual values of the Torah into our everyday life situations.\nAll the best\,\nYosef David
URL:https://aishstl.com/event/soul-building-series-at-nhbz-with-rabbi-yosef-david-11/2024-06-22/
LOCATION:Nusach Hari Bnai Zion\, 650 North Price Road\, Olivette\, MO\, 63132\, United States
ATTACH;FMTTYPE=image/jpeg:https://aishstl.com/wordpress/wp-content/uploads/2023/01/Nusach-Hari-crop_JoyMarcusphotos-copy.jpg
ORGANIZER;CN="Aish Hatorah of St. Louis":MAILTO:cgoldstein@aishstl.com
GEO:38.6601647;-90.3372244
X-APPLE-STRUCTURED-LOCATION;VALUE=URI;X-ADDRESS=Nusach Hari Bnai Zion 650 North Price Road Olivette MO 63132 United States;X-APPLE-RADIUS=500;X-TITLE=650 North Price Road:geo:-90.3372244,38.6601647
END:VEVENT
BEGIN:VEVENT
DTSTART;TZID=America/Chicago:20240623T100000
DTEND;TZID=America/Chicago:20240623T113000
DTSTAMP:20260421T142016
CREATED:20240621T144401Z
LAST-MODIFIED:20240629T031852Z
UID:10003953-1719136800-1719142200@aishstl.com
SUMMARY:Sunday Schmooze with Rabbi Greenwald -- Breakfast & Ethics of our Fathers class (Pirkei Avot)
DESCRIPTION:Join me Sunday mornings for breakfast and lively discussions exploring 3\,000 years of Jewish wisdom from Ethics of our Fathers (Pirkei Avot).  Breakfast at 10:00 am followed by class from 10:30 am to 11:30 am.  For more information or to RSVP\, email me at sgreenwald@aishstl.com.  Childcare available when requested by the Friday before  each class.  Aish Hatorah\, 457 North Woods Mill Road\, Chesterfield\, MO 63017\nLooking forward\,\nShmuel
URL:https://aishstl.com/event/sunday-schmooze-with-rabbi-greenwald-breakfast-ethics-of-our-fathers-class-pirkei-avot/2024-06-23/
LOCATION:Aish Hatorah\, Aish Hatorah & Your Home\, Chesterfield\, MO\, 63017\, United States
ATTACH;FMTTYPE=image/jpeg:https://aishstl.com/wordpress/wp-content/uploads/2019/09/sgreenwald_a-e1674595706751.jpg
ORGANIZER;CN="Aish Hatorah of St. Louis":MAILTO:cgoldstein@aishstl.com
GEO:38.6630859;-90.503598
X-APPLE-STRUCTURED-LOCATION;VALUE=URI;X-ADDRESS=Aish Hatorah Aish Hatorah & Your Home Chesterfield MO 63017 United States;X-APPLE-RADIUS=500;X-TITLE=Aish Hatorah & Your Home:geo:-90.503598,38.6630859
END:VEVENT
BEGIN:VEVENT
DTSTART;TZID=America/Chicago:20240624T200000
DTEND;TZID=America/Chicago:20240624T210000
DTSTAMP:20260421T142016
CREATED:20240520T184823Z
LAST-MODIFIED:20240520T184823Z
UID:10003930-1719259200-1719262800@aishstl.com
SUMMARY:Partners in Torah
DESCRIPTION:Fire up your Jewish learning and fill the world with light. To find out more or to join\, contact Rabbi Shmuel Greenwald at 314-862-2474 or at sgreenwald@aishstl.com.  Partners in Torah is a collaboration of Aish Hatorah\, Ignite YP\, Nusach Hari Bnai Zion\, and the St. Louis Community Kollel
URL:https://aishstl.com/event/partners-in-torah-3/2024-06-24/
LOCATION:Nusach Hari Bnai Zion\, 650 North Price Road\, Olivette\, MO\, 63132\, United States
ATTACH;FMTTYPE=image/jpeg:https://aishstl.com/wordpress/wp-content/uploads/2023/01/Nusach-Hari-crop_JoyMarcusphotos-copy.jpg
ORGANIZER;CN="Aish Hatorah of St. Louis":MAILTO:cgoldstein@aishstl.com
GEO:38.6601647;-90.3372244
X-APPLE-STRUCTURED-LOCATION;VALUE=URI;X-ADDRESS=Nusach Hari Bnai Zion 650 North Price Road Olivette MO 63132 United States;X-APPLE-RADIUS=500;X-TITLE=650 North Price Road:geo:-90.3372244,38.6601647
END:VEVENT
BEGIN:VEVENT
DTSTART;TZID=America/Chicago:20240629T100000
DTEND;TZID=America/Chicago:20240629T113000
DTSTAMP:20260421T142016
CREATED:20240530T213527Z
LAST-MODIFIED:20240530T213527Z
UID:10003936-1719655200-1719660600@aishstl.com
SUMMARY:Shabbat Learners' Service at U City Shul with Rabbi Shmuel Greenwald
DESCRIPTION:Enjoy a lively\, inspirational service where all questions are encouraged.  Prayers are in English and explained along the way.  For more information\, please call Aish at 314-862-2474 or email sgreenwald@aishstl.com\nLooking forward\,\nShmuel
URL:https://aishstl.com/event/shabbat-learners-service-at-u-city-shul-with-rabbi-shmuel-greenwald-12/2024-06-29/
LOCATION:U City Shul\, 700 North & South Road\, University City\, MO\, 63130\, United States
ATTACH;FMTTYPE=image/jpeg:https://aishstl.com/wordpress/wp-content/uploads/2023/01/UCity_Schul_JoyMarcusphoto-scaled.jpg
ORGANIZER;CN="Aish Hatorah of St. Louis":MAILTO:cgoldstein@aishstl.com
GEO:38.660486;-90.336856
X-APPLE-STRUCTURED-LOCATION;VALUE=URI;X-ADDRESS=U City Shul 700 North & South Road University City MO 63130 United States;X-APPLE-RADIUS=500;X-TITLE=700 North & South Road:geo:-90.336856,38.660486
END:VEVENT
BEGIN:VEVENT
DTSTART;TZID=America/Chicago:20240629T100000
DTEND;TZID=America/Chicago:20240629T113000
DTSTAMP:20260421T142016
CREATED:20240530T213743Z
LAST-MODIFIED:20240530T220145Z
UID:10003945-1719655200-1719660600@aishstl.com
SUMMARY:Soul Building Series at NHBZ with Rabbi Yosef David
DESCRIPTION:Join our Soul Building Series this week as we continue learning how to integrate the spiritual values of the Torah into our everyday life situations.\nAll the best\,\nYosef David
URL:https://aishstl.com/event/soul-building-series-at-nhbz-with-rabbi-yosef-david-11/2024-06-29/
LOCATION:Nusach Hari Bnai Zion\, 650 North Price Road\, Olivette\, MO\, 63132\, United States
ATTACH;FMTTYPE=image/jpeg:https://aishstl.com/wordpress/wp-content/uploads/2023/01/Nusach-Hari-crop_JoyMarcusphotos-copy.jpg
ORGANIZER;CN="Aish Hatorah of St. Louis":MAILTO:cgoldstein@aishstl.com
GEO:38.6601647;-90.3372244
X-APPLE-STRUCTURED-LOCATION;VALUE=URI;X-ADDRESS=Nusach Hari Bnai Zion 650 North Price Road Olivette MO 63132 United States;X-APPLE-RADIUS=500;X-TITLE=650 North Price Road:geo:-90.3372244,38.6601647
END:VEVENT
BEGIN:VEVENT
DTSTART;TZID=America/Chicago:20240630T100000
DTEND;TZID=America/Chicago:20240630T113000
DTSTAMP:20260421T142016
CREATED:20240621T144401Z
LAST-MODIFIED:20240629T031852Z
UID:10003955-1719741600-1719747000@aishstl.com
SUMMARY:Sunday Schmooze with Rabbi Greenwald -- Breakfast & Ethics of our Fathers class (Pirkei Avot)
DESCRIPTION:Join me Sunday mornings for breakfast and lively discussions exploring 3\,000 years of Jewish wisdom from Ethics of our Fathers (Pirkei Avot).  Breakfast at 10:00 am followed by class from 10:30 am to 11:30 am.  For more information or to RSVP\, email me at sgreenwald@aishstl.com.  Childcare available when requested by the Friday before  each class.  Aish Hatorah\, 457 North Woods Mill Road\, Chesterfield\, MO 63017\nLooking forward\,\nShmuel
URL:https://aishstl.com/event/sunday-schmooze-with-rabbi-greenwald-breakfast-ethics-of-our-fathers-class-pirkei-avot/2024-06-30/
LOCATION:Aish Hatorah\, Aish Hatorah & Your Home\, Chesterfield\, MO\, 63017\, United States
ATTACH;FMTTYPE=image/jpeg:https://aishstl.com/wordpress/wp-content/uploads/2019/09/sgreenwald_a-e1674595706751.jpg
ORGANIZER;CN="Aish Hatorah of St. Louis":MAILTO:cgoldstein@aishstl.com
GEO:38.6630859;-90.503598
X-APPLE-STRUCTURED-LOCATION;VALUE=URI;X-ADDRESS=Aish Hatorah Aish Hatorah & Your Home Chesterfield MO 63017 United States;X-APPLE-RADIUS=500;X-TITLE=Aish Hatorah & Your Home:geo:-90.503598,38.6630859
END:VEVENT
END:VCALENDAR