BEGIN:VCALENDAR
VERSION:2.0
PRODID:-//Aish St. Louis - ECPv6.15.18//NONSGML v1.0//EN
CALSCALE:GREGORIAN
METHOD:PUBLISH
X-ORIGINAL-URL:https://aishstl.com
X-WR-CALDESC:Events for Aish St. Louis
REFRESH-INTERVAL;VALUE=DURATION:PT1H
X-Robots-Tag:noindex
X-PUBLISHED-TTL:PT1H
BEGIN:VTIMEZONE
TZID:America/Chicago
BEGIN:DAYLIGHT
TZOFFSETFROM:-0600
TZOFFSETTO:-0500
TZNAME:CDT
DTSTART:20220313T080000
END:DAYLIGHT
BEGIN:STANDARD
TZOFFSETFROM:-0500
TZOFFSETTO:-0600
TZNAME:CST
DTSTART:20221106T070000
END:STANDARD
BEGIN:DAYLIGHT
TZOFFSETFROM:-0600
TZOFFSETTO:-0500
TZNAME:CDT
DTSTART:20230312T080000
END:DAYLIGHT
BEGIN:STANDARD
TZOFFSETFROM:-0500
TZOFFSETTO:-0600
TZNAME:CST
DTSTART:20231105T070000
END:STANDARD
BEGIN:DAYLIGHT
TZOFFSETFROM:-0600
TZOFFSETTO:-0500
TZNAME:CDT
DTSTART:20240310T080000
END:DAYLIGHT
BEGIN:STANDARD
TZOFFSETFROM:-0500
TZOFFSETTO:-0600
TZNAME:CST
DTSTART:20241103T070000
END:STANDARD
END:VTIMEZONE
BEGIN:VEVENT
DTSTART;TZID=America/Chicago:20230603T100000
DTEND;TZID=America/Chicago:20230603T113000
DTSTAMP:20260420T095651
CREATED:20230527T205327Z
LAST-MODIFIED:20230626T170553Z
UID:10003332-1685786400-1685791800@aishstl.com
SUMMARY:Shabbat Learners' Service at U City Shul with Rabbi Shmuel Greenwald
DESCRIPTION:Enjoy a lively\, inspirational services where all questions are encouraged.  Prayers are in English and explained along the way.  For more information\, please call Aish at 314-862-2474 or email sgreenwald@aish.com\nLooking forward\,\nShmuel
URL:https://aishstl.com/event/shabbat-learners-service-at-u-city-shul-5/2023-06-03/
LOCATION:U City Shul\, 700 North & South Road\, University City\, MO\, 63130\, United States
ATTACH;FMTTYPE=image/jpeg:https://aishstl.com/wordpress/wp-content/uploads/2023/01/UCity_Schul_JoyMarcusphoto-1-scaled.jpg
ORGANIZER;CN="Aish Hatorah of St. Louis":MAILTO:cgoldstein@aishstl.com
GEO:38.660486;-90.336856
X-APPLE-STRUCTURED-LOCATION;VALUE=URI;X-ADDRESS=U City Shul 700 North & South Road University City MO 63130 United States;X-APPLE-RADIUS=500;X-TITLE=700 North & South Road:geo:-90.336856,38.660486
END:VEVENT
BEGIN:VEVENT
DTSTART;TZID=America/Chicago:20230603T100000
DTEND;TZID=America/Chicago:20230603T113000
DTSTAMP:20260420T095651
CREATED:20230527T210320Z
LAST-MODIFIED:20230527T210320Z
UID:10003345-1685786400-1685791800@aishstl.com
SUMMARY:Shabbat Soul Building Series at NHBZ with Rabbi Yosef David
DESCRIPTION:Join us for our Soul-Building Class this Shabbat as we continue to discover new ways to gain insights and wisdom from the lessons of the Torah. For more information\, please contact the Aish office at 314-862-2474 or email cwolff@aish.com.\nAll the best\,  \nYosef David
URL:https://aishstl.com/event/shabbat-soul-building-series-at-nhbz-with-rabbi-yosef-david-7/2023-06-03/
LOCATION:Nusach Hari Bnai Zion\, 650 North Price Road\, Olivette\, MO\, 63132\, United States
ATTACH;FMTTYPE=image/jpeg:https://aishstl.com/wordpress/wp-content/uploads/2023/01/Nusach-Hari-crop_JoyMarcusphotos-copy.jpg
ORGANIZER;CN="Aish Hatorah of St. Louis":MAILTO:cgoldstein@aishstl.com
GEO:38.6601647;-90.3372244
X-APPLE-STRUCTURED-LOCATION;VALUE=URI;X-ADDRESS=Nusach Hari Bnai Zion 650 North Price Road Olivette MO 63132 United States;X-APPLE-RADIUS=500;X-TITLE=650 North Price Road:geo:-90.3372244,38.6601647
END:VEVENT
BEGIN:VEVENT
DTSTART;TZID=America/Chicago:20230604T100000
DTEND;TZID=America/Chicago:20230604T120000
DTSTAMP:20260420T095651
CREATED:20230527T212246Z
LAST-MODIFIED:20230527T212413Z
UID:10003354-1685872800-1685880000@aishstl.com
SUMMARY:Adult Sunday Class with Rabbi Shmuel Greenwald at AISH and on zoom
DESCRIPTION:Join me in person at AISH or on zoom as we continue learning how the lessons of the Torah can help us navigate the week ahead.  Aish\, 457 North Woods Mill Road\, Chesterfield\, MO 63017.  For more information\, please email me at sgreenwald@aish.com\nLooking forward\, \nShmuel Greenwald
URL:https://aishstl.com/event/adult-sunday-class-with-rabbi-shmuel-greenwald-at-aish-and-on-zoom/2023-06-04/
LOCATION:Aish Hatorah and Your Home\, MO\, United States
ATTACH;FMTTYPE=image/jpeg:https://aishstl.com/wordpress/wp-content/uploads/2019/09/sgreenwald_a-e1674595706751.jpg
ORGANIZER;CN="Aish Hatorah of St. Louis":MAILTO:cgoldstein@aishstl.com
GEO:37.9642529;-91.8318334
END:VEVENT
BEGIN:VEVENT
DTSTART;TZID=America/Chicago:20230606T113000
DTEND;TZID=America/Chicago:20230606T123000
DTSTAMP:20260420T095651
CREATED:20230527T210818Z
LAST-MODIFIED:20230527T210818Z
UID:10003350-1686051000-1686054600@aishstl.com
SUMMARY:Jewish Women's Society -- In-Person Lunch & Learn with Mimi David
DESCRIPTION:Join me for another fun and inspiring Lunch and Learn at the Circle@Crown Cafe — Be the Best You! Discover the Torah’s views on ethics and interpersonal relationships.   Timeless wisdom for living!   RSVP to 314-910-8136 or email me at mimidavid@aish.com\nCircle@Crown Cafe\, 8350 Delcrest Drive\, St. Louis\, MO 63124  Please call 314-412-4350 to place your order.\nLooking forward\,\nMimi \n 
URL:https://aishstl.com/event/jewish-womens-society-in-person-lunch-learn-with-mimi-david-4/
LOCATION:Circle@Crown Cafe`\, 8350 Delcrest Drive\, St. Louis\, MO\, 63124\, United States
ATTACH;FMTTYPE=image/jpeg:https://aishstl.com/wordpress/wp-content/uploads/2019/10/Full-house-L-L-at-the-Crown-7-9-19-e1674839505959.jpeg
ORGANIZER;CN="Jewish Women's Society":MAILTO:cwolff@aish.com
GEO:38.6595414;-90.355332
X-APPLE-STRUCTURED-LOCATION;VALUE=URI;X-ADDRESS=Circle@Crown Cafe` 8350 Delcrest Drive St. Louis MO 63124 United States;X-APPLE-RADIUS=500;X-TITLE=8350 Delcrest Drive:geo:-90.355332,38.6595414
END:VEVENT
BEGIN:VEVENT
DTSTART;TZID=America/Chicago:20230607T190000
DTEND;TZID=America/Chicago:20230607T203000
DTSTAMP:20260420T095651
CREATED:20230527T210509Z
LAST-MODIFIED:20230527T210509Z
UID:10003349-1686164400-1686169800@aishstl.com
SUMMARY:Jewish Women's Society -- Challah Club with Mimi David at Aish
DESCRIPTION:Join our fun and yummy Challah Club after Passover to make enough challah for next month.  Please bring your own trays so you can bring home your challah. Reserve your spot now — fee is $15. Aish\, 457 North Woods Mill Road\, Chesterfield\, MO 63017.  For more information\, call 314-862-2474 or by email Mimi David at mimidavid@aish.com\nLooking forward\, \nMimi \n 
URL:https://aishstl.com/event/jewish-womens-society-challah-club-with-mimi-david-at-aish-4/
LOCATION:Aish Hatorah\, Aish Hatorah & Your Home\, Chesterfield\, MO\, 63017\, United States
ATTACH;FMTTYPE=image/jpeg:https://aishstl.com/wordpress/wp-content/uploads/2019/01/JWS-Logo-page0001-e1664552368143.jpg
ORGANIZER;CN="Jewish Women's Society":MAILTO:cwolff@aish.com
GEO:38.6630859;-90.503598
X-APPLE-STRUCTURED-LOCATION;VALUE=URI;X-ADDRESS=Aish Hatorah Aish Hatorah & Your Home Chesterfield MO 63017 United States;X-APPLE-RADIUS=500;X-TITLE=Aish Hatorah & Your Home:geo:-90.503598,38.6630859
END:VEVENT
BEGIN:VEVENT
DTSTART;TZID=America/Chicago:20230610T100000
DTEND;TZID=America/Chicago:20230610T113000
DTSTAMP:20260420T095651
CREATED:20230527T205327Z
LAST-MODIFIED:20230626T170553Z
UID:10003340-1686391200-1686396600@aishstl.com
SUMMARY:Shabbat Learners' Service at U City Shul with Rabbi Shmuel Greenwald
DESCRIPTION:Enjoy a lively\, inspirational services where all questions are encouraged.  Prayers are in English and explained along the way.  For more information\, please call Aish at 314-862-2474 or email sgreenwald@aish.com\nLooking forward\,\nShmuel
URL:https://aishstl.com/event/shabbat-learners-service-at-u-city-shul-5/2023-06-10/
LOCATION:U City Shul\, 700 North & South Road\, University City\, MO\, 63130\, United States
ATTACH;FMTTYPE=image/jpeg:https://aishstl.com/wordpress/wp-content/uploads/2023/01/UCity_Schul_JoyMarcusphoto-1-scaled.jpg
ORGANIZER;CN="Aish Hatorah of St. Louis":MAILTO:cgoldstein@aishstl.com
GEO:38.660486;-90.336856
X-APPLE-STRUCTURED-LOCATION;VALUE=URI;X-ADDRESS=U City Shul 700 North & South Road University City MO 63130 United States;X-APPLE-RADIUS=500;X-TITLE=700 North & South Road:geo:-90.336856,38.660486
END:VEVENT
BEGIN:VEVENT
DTSTART;TZID=America/Chicago:20230610T100000
DTEND;TZID=America/Chicago:20230610T113000
DTSTAMP:20260420T095651
CREATED:20230527T210320Z
LAST-MODIFIED:20230527T210320Z
UID:10003346-1686391200-1686396600@aishstl.com
SUMMARY:Shabbat Soul Building Series at NHBZ with Rabbi Yosef David
DESCRIPTION:Join us for our Soul-Building Class this Shabbat as we continue to discover new ways to gain insights and wisdom from the lessons of the Torah. For more information\, please contact the Aish office at 314-862-2474 or email cwolff@aish.com.\nAll the best\,  \nYosef David
URL:https://aishstl.com/event/shabbat-soul-building-series-at-nhbz-with-rabbi-yosef-david-7/2023-06-10/
LOCATION:Nusach Hari Bnai Zion\, 650 North Price Road\, Olivette\, MO\, 63132\, United States
ATTACH;FMTTYPE=image/jpeg:https://aishstl.com/wordpress/wp-content/uploads/2023/01/Nusach-Hari-crop_JoyMarcusphotos-copy.jpg
ORGANIZER;CN="Aish Hatorah of St. Louis":MAILTO:cgoldstein@aishstl.com
GEO:38.6601647;-90.3372244
X-APPLE-STRUCTURED-LOCATION;VALUE=URI;X-ADDRESS=Nusach Hari Bnai Zion 650 North Price Road Olivette MO 63132 United States;X-APPLE-RADIUS=500;X-TITLE=650 North Price Road:geo:-90.3372244,38.6601647
END:VEVENT
BEGIN:VEVENT
DTSTART;TZID=America/Chicago:20230611T100000
DTEND;TZID=America/Chicago:20230611T120000
DTSTAMP:20260420T095651
CREATED:20230527T212246Z
LAST-MODIFIED:20230527T212413Z
UID:10003355-1686477600-1686484800@aishstl.com
SUMMARY:Adult Sunday Class with Rabbi Shmuel Greenwald at AISH and on zoom
DESCRIPTION:Join me in person at AISH or on zoom as we continue learning how the lessons of the Torah can help us navigate the week ahead.  Aish\, 457 North Woods Mill Road\, Chesterfield\, MO 63017.  For more information\, please email me at sgreenwald@aish.com\nLooking forward\, \nShmuel Greenwald
URL:https://aishstl.com/event/adult-sunday-class-with-rabbi-shmuel-greenwald-at-aish-and-on-zoom/2023-06-11/
LOCATION:Aish Hatorah and Your Home\, MO\, United States
ATTACH;FMTTYPE=image/jpeg:https://aishstl.com/wordpress/wp-content/uploads/2019/09/sgreenwald_a-e1674595706751.jpg
ORGANIZER;CN="Aish Hatorah of St. Louis":MAILTO:cgoldstein@aishstl.com
GEO:37.9642529;-91.8318334
END:VEVENT
BEGIN:VEVENT
DTSTART;TZID=America/Chicago:20230612T203000
DTEND;TZID=America/Chicago:20230612T213000
DTSTAMP:20260420T095651
CREATED:20230527T211802Z
LAST-MODIFIED:20230527T211802Z
UID:10003351-1686601800-1686605400@aishstl.com
SUMMARY:Jewish Women's Society -- zoom only -- Mamas in Pajamas with Mimi David
DESCRIPTION:Join me from the comfort of your own home for inspiration to discover Lessons for Ladies from the weekly Torah Portion.  You can login at zoom.us/j/9699246316  meeting id 9699246316  dial: 1-312-626-6799.  For more information or to RSVP\, call 314-862-2474 or email mimidavid@aish.com\nLooking forward\,\nMimi
URL:https://aishstl.com/event/jewish-womens-society-zoom-only-mamas-in-pajamas-with-mimi-david/
LOCATION:Your home
ATTACH;FMTTYPE=image/jpeg:https://aishstl.com/wordpress/wp-content/uploads/2019/01/JWS-Logo-page0001-e1664552368143.jpg
ORGANIZER;CN="Jewish Women's Society":MAILTO:cwolff@aish.com
END:VEVENT
BEGIN:VEVENT
DTSTART;TZID=America/Chicago:20230617T100000
DTEND;TZID=America/Chicago:20230617T113000
DTSTAMP:20260420T095651
CREATED:20230527T205327Z
LAST-MODIFIED:20230626T170553Z
UID:10003342-1686996000-1687001400@aishstl.com
SUMMARY:Shabbat Learners' Service at U City Shul with Rabbi Shmuel Greenwald
DESCRIPTION:Enjoy a lively\, inspirational services where all questions are encouraged.  Prayers are in English and explained along the way.  For more information\, please call Aish at 314-862-2474 or email sgreenwald@aish.com\nLooking forward\,\nShmuel
URL:https://aishstl.com/event/shabbat-learners-service-at-u-city-shul-5/2023-06-17/
LOCATION:U City Shul\, 700 North & South Road\, University City\, MO\, 63130\, United States
ATTACH;FMTTYPE=image/jpeg:https://aishstl.com/wordpress/wp-content/uploads/2023/01/UCity_Schul_JoyMarcusphoto-1-scaled.jpg
ORGANIZER;CN="Aish Hatorah of St. Louis":MAILTO:cgoldstein@aishstl.com
GEO:38.660486;-90.336856
X-APPLE-STRUCTURED-LOCATION;VALUE=URI;X-ADDRESS=U City Shul 700 North & South Road University City MO 63130 United States;X-APPLE-RADIUS=500;X-TITLE=700 North & South Road:geo:-90.336856,38.660486
END:VEVENT
BEGIN:VEVENT
DTSTART;TZID=America/Chicago:20230617T100000
DTEND;TZID=America/Chicago:20230617T113000
DTSTAMP:20260420T095651
CREATED:20230527T210320Z
LAST-MODIFIED:20230527T210320Z
UID:10003347-1686996000-1687001400@aishstl.com
SUMMARY:Shabbat Soul Building Series at NHBZ with Rabbi Yosef David
DESCRIPTION:Join us for our Soul-Building Class this Shabbat as we continue to discover new ways to gain insights and wisdom from the lessons of the Torah. For more information\, please contact the Aish office at 314-862-2474 or email cwolff@aish.com.\nAll the best\,  \nYosef David
URL:https://aishstl.com/event/shabbat-soul-building-series-at-nhbz-with-rabbi-yosef-david-7/2023-06-17/
LOCATION:Nusach Hari Bnai Zion\, 650 North Price Road\, Olivette\, MO\, 63132\, United States
ATTACH;FMTTYPE=image/jpeg:https://aishstl.com/wordpress/wp-content/uploads/2023/01/Nusach-Hari-crop_JoyMarcusphotos-copy.jpg
ORGANIZER;CN="Aish Hatorah of St. Louis":MAILTO:cgoldstein@aishstl.com
GEO:38.6601647;-90.3372244
X-APPLE-STRUCTURED-LOCATION;VALUE=URI;X-ADDRESS=Nusach Hari Bnai Zion 650 North Price Road Olivette MO 63132 United States;X-APPLE-RADIUS=500;X-TITLE=650 North Price Road:geo:-90.3372244,38.6601647
END:VEVENT
BEGIN:VEVENT
DTSTART;TZID=America/Chicago:20230618T100000
DTEND;TZID=America/Chicago:20230618T120000
DTSTAMP:20260420T095652
CREATED:20230527T212246Z
LAST-MODIFIED:20230527T212413Z
UID:10003356-1687082400-1687089600@aishstl.com
SUMMARY:Adult Sunday Class with Rabbi Shmuel Greenwald at AISH and on zoom
DESCRIPTION:Join me in person at AISH or on zoom as we continue learning how the lessons of the Torah can help us navigate the week ahead.  Aish\, 457 North Woods Mill Road\, Chesterfield\, MO 63017.  For more information\, please email me at sgreenwald@aish.com\nLooking forward\, \nShmuel Greenwald
URL:https://aishstl.com/event/adult-sunday-class-with-rabbi-shmuel-greenwald-at-aish-and-on-zoom/2023-06-18/
LOCATION:Aish Hatorah and Your Home\, MO\, United States
ATTACH;FMTTYPE=image/jpeg:https://aishstl.com/wordpress/wp-content/uploads/2019/09/sgreenwald_a-e1674595706751.jpg
ORGANIZER;CN="Aish Hatorah of St. Louis":MAILTO:cgoldstein@aishstl.com
GEO:37.9642529;-91.8318334
END:VEVENT
BEGIN:VEVENT
DTSTART;TZID=America/Chicago:20230624T100000
DTEND;TZID=America/Chicago:20230624T113000
DTSTAMP:20260420T095652
CREATED:20230527T205327Z
LAST-MODIFIED:20230626T170553Z
UID:10003343-1687600800-1687606200@aishstl.com
SUMMARY:Shabbat Learners' Service at U City Shul with Rabbi Shmuel Greenwald
DESCRIPTION:Enjoy a lively\, inspirational services where all questions are encouraged.  Prayers are in English and explained along the way.  For more information\, please call Aish at 314-862-2474 or email sgreenwald@aish.com\nLooking forward\,\nShmuel
URL:https://aishstl.com/event/shabbat-learners-service-at-u-city-shul-5/2023-06-24/
LOCATION:U City Shul\, 700 North & South Road\, University City\, MO\, 63130\, United States
ATTACH;FMTTYPE=image/jpeg:https://aishstl.com/wordpress/wp-content/uploads/2023/01/UCity_Schul_JoyMarcusphoto-1-scaled.jpg
ORGANIZER;CN="Aish Hatorah of St. Louis":MAILTO:cgoldstein@aishstl.com
GEO:38.660486;-90.336856
X-APPLE-STRUCTURED-LOCATION;VALUE=URI;X-ADDRESS=U City Shul 700 North & South Road University City MO 63130 United States;X-APPLE-RADIUS=500;X-TITLE=700 North & South Road:geo:-90.336856,38.660486
END:VEVENT
BEGIN:VEVENT
DTSTART;TZID=America/Chicago:20230624T100000
DTEND;TZID=America/Chicago:20230624T113000
DTSTAMP:20260420T095652
CREATED:20230527T210320Z
LAST-MODIFIED:20230527T210320Z
UID:10003348-1687600800-1687606200@aishstl.com
SUMMARY:Shabbat Soul Building Series at NHBZ with Rabbi Yosef David
DESCRIPTION:Join us for our Soul-Building Class this Shabbat as we continue to discover new ways to gain insights and wisdom from the lessons of the Torah. For more information\, please contact the Aish office at 314-862-2474 or email cwolff@aish.com.\nAll the best\,  \nYosef David
URL:https://aishstl.com/event/shabbat-soul-building-series-at-nhbz-with-rabbi-yosef-david-7/2023-06-24/
LOCATION:Nusach Hari Bnai Zion\, 650 North Price Road\, Olivette\, MO\, 63132\, United States
ATTACH;FMTTYPE=image/jpeg:https://aishstl.com/wordpress/wp-content/uploads/2023/01/Nusach-Hari-crop_JoyMarcusphotos-copy.jpg
ORGANIZER;CN="Aish Hatorah of St. Louis":MAILTO:cgoldstein@aishstl.com
GEO:38.6601647;-90.3372244
X-APPLE-STRUCTURED-LOCATION;VALUE=URI;X-ADDRESS=Nusach Hari Bnai Zion 650 North Price Road Olivette MO 63132 United States;X-APPLE-RADIUS=500;X-TITLE=650 North Price Road:geo:-90.3372244,38.6601647
END:VEVENT
BEGIN:VEVENT
DTSTART;TZID=America/Chicago:20230625T100000
DTEND;TZID=America/Chicago:20230625T120000
DTSTAMP:20260420T095652
CREATED:20230527T212246Z
LAST-MODIFIED:20230527T212413Z
UID:10003357-1687687200-1687694400@aishstl.com
SUMMARY:Adult Sunday Class with Rabbi Shmuel Greenwald at AISH and on zoom
DESCRIPTION:Join me in person at AISH or on zoom as we continue learning how the lessons of the Torah can help us navigate the week ahead.  Aish\, 457 North Woods Mill Road\, Chesterfield\, MO 63017.  For more information\, please email me at sgreenwald@aish.com\nLooking forward\, \nShmuel Greenwald
URL:https://aishstl.com/event/adult-sunday-class-with-rabbi-shmuel-greenwald-at-aish-and-on-zoom/2023-06-25/
LOCATION:Aish Hatorah and Your Home\, MO\, United States
ATTACH;FMTTYPE=image/jpeg:https://aishstl.com/wordpress/wp-content/uploads/2019/09/sgreenwald_a-e1674595706751.jpg
ORGANIZER;CN="Aish Hatorah of St. Louis":MAILTO:cgoldstein@aishstl.com
GEO:37.9642529;-91.8318334
END:VEVENT
BEGIN:VEVENT
DTSTART;TZID=America/Chicago:20230625T200000
DTEND;TZID=America/Chicago:20230625T213000
DTSTAMP:20260420T095652
CREATED:20230621T183019Z
LAST-MODIFIED:20230621T184039Z
UID:10003361-1687723200-1687728600@aishstl.com
SUMMARY:Informational Meeting for Highly Subsidized MoMENtum's Men's Israel Trip with Rabbi David at a private home
DESCRIPTION:Join me for an Informational Meeting at a private home to discuss my leading another amazing MoMENtum Men’s trip to Israel from Sunday\, Oct 29\, 2023 – Monday\, Nov 6\, 2023 (these dates include travel days). As many of you know\, this is a once-in-a-lifetime opportunity.  To be eligible for the trip\, you need to either:  1) have a child age 18 or younger  or  2) have a wife who’s been on a recent Momentum Women’s trip.  Men who are interested can contact me at ydavid@aish.com or at  314-920-9270 to RSVP and get the address.   View the flier below for more details!
URL:https://aishstl.com/event/informational-meeting-for-highly-subsidized-momentums-mens-israel-trip-with-rabbi-david-sun-june-25th-8-pm-at-a-private-home/
LOCATION:Location to be announced\, 63130\, United States
ATTACH;FMTTYPE=image/jpeg:https://aishstl.com/wordpress/wp-content/uploads/2018/04/Israel_Trip_Illo-e1654874620111.jpg
ORGANIZER;CN="Aish Hatorah of St. Louis":MAILTO:cgoldstein@aishstl.com
GEO:38.6682669;-90.3230807
END:VEVENT
END:VCALENDAR