BEGIN:VCALENDAR
VERSION:2.0
PRODID:-//Aish St. Louis - ECPv6.15.18//NONSGML v1.0//EN
CALSCALE:GREGORIAN
METHOD:PUBLISH
X-ORIGINAL-URL:https://aishstl.com
X-WR-CALDESC:Events for Aish St. Louis
REFRESH-INTERVAL;VALUE=DURATION:PT1H
X-Robots-Tag:noindex
X-PUBLISHED-TTL:PT1H
BEGIN:VTIMEZONE
TZID:America/Chicago
BEGIN:DAYLIGHT
TZOFFSETFROM:-0600
TZOFFSETTO:-0500
TZNAME:CDT
DTSTART:20210314T080000
END:DAYLIGHT
BEGIN:STANDARD
TZOFFSETFROM:-0500
TZOFFSETTO:-0600
TZNAME:CST
DTSTART:20211107T070000
END:STANDARD
BEGIN:DAYLIGHT
TZOFFSETFROM:-0600
TZOFFSETTO:-0500
TZNAME:CDT
DTSTART:20220313T080000
END:DAYLIGHT
BEGIN:STANDARD
TZOFFSETFROM:-0500
TZOFFSETTO:-0600
TZNAME:CST
DTSTART:20221106T070000
END:STANDARD
BEGIN:DAYLIGHT
TZOFFSETFROM:-0600
TZOFFSETTO:-0500
TZNAME:CDT
DTSTART:20230312T080000
END:DAYLIGHT
BEGIN:STANDARD
TZOFFSETFROM:-0500
TZOFFSETTO:-0600
TZNAME:CST
DTSTART:20231105T070000
END:STANDARD
END:VTIMEZONE
BEGIN:VEVENT
DTSTART;TZID=America/Chicago:20220806T100000
DTEND;TZID=America/Chicago:20220806T113000
DTSTAMP:20260420T232817
CREATED:20220630T232255Z
LAST-MODIFIED:20220905T172959Z
UID:10002836-1659780000-1659785400@aishstl.com
SUMMARY:Shabbat Learners' Service at U City Shul with Rabbi Shmuel Greenwald
DESCRIPTION:Enjoy a lively\, inspirational service where all questions are encouraged. Prayers are in English and explained along the way.  For more information\, please call Aish at 314-862-2474 or email sgreenwald@aish.com.  Masks are no longer required.\nLooking forward\, \nShmuel
URL:https://aishstl.com/event/shabbat-learners-service-at-u-city-shul-with-rabbi-shmuel-greenwald/2022-08-06/
LOCATION:Nusach Hari Bnai Zion\, 650 North Price Road\, Olivette\, MO\, 63132\, United States
ATTACH;FMTTYPE=image/jpeg:https://aishstl.com/wordpress/wp-content/uploads/2018/04/UCity_Schul_JoyMarcusphoto.jpg
ORGANIZER;CN="Aish Hatorah of St. Louis":MAILTO:cgoldstein@aishstl.com
GEO:38.6601647;-90.3372244
X-APPLE-STRUCTURED-LOCATION;VALUE=URI;X-ADDRESS=Nusach Hari Bnai Zion 650 North Price Road Olivette MO 63132 United States;X-APPLE-RADIUS=500;X-TITLE=650 North Price Road:geo:-90.3372244,38.6601647
END:VEVENT
BEGIN:VEVENT
DTSTART;TZID=America/Chicago:20220807T140000
DTEND;TZID=America/Chicago:20220807T153000
DTSTAMP:20260420T232817
CREATED:20220719T163618Z
LAST-MODIFIED:20220719T163711Z
UID:10002850-1659880800-1659886200@aishstl.com
SUMMARY:Tisha B'Av -- Video & Discussion with Rabbi Shmuel Greenwald
DESCRIPTION:Tisha B’Av — the saddest day of the year can be one of the most inspiring!  Join Rabbi Greenwald at the Aish Firehouse for an exceptional video and discussion.   For more information\, call 314-862-2474 or email sgreenwald@aish.com.
URL:https://aishstl.com/event/tisha-bav-video-discussion-with-rabbi-shmuel-greenwald/
LOCATION:Aish Hatorah\, Aish Hatorah & Your Home\, Chesterfield\, MO\, 63017\, United States
ATTACH;FMTTYPE=image/jpeg:https://aishstl.com/wordpress/wp-content/uploads/2019/07/LbcQ9706366-e1722482056376.jpg
ORGANIZER;CN="Aish Hatorah of St. Louis":MAILTO:cgoldstein@aishstl.com
GEO:38.6630859;-90.503598
X-APPLE-STRUCTURED-LOCATION;VALUE=URI;X-ADDRESS=Aish Hatorah Aish Hatorah & Your Home Chesterfield MO 63017 United States;X-APPLE-RADIUS=500;X-TITLE=Aish Hatorah & Your Home:geo:-90.503598,38.6630859
END:VEVENT
BEGIN:VEVENT
DTSTART;TZID=America/Chicago:20220813T100000
DTEND;TZID=America/Chicago:20220813T113000
DTSTAMP:20260420T232817
CREATED:20220630T232255Z
LAST-MODIFIED:20220905T172959Z
UID:10002837-1660384800-1660390200@aishstl.com
SUMMARY:Shabbat Learners' Service at U City Shul with Rabbi Shmuel Greenwald
DESCRIPTION:Enjoy a lively\, inspirational service where all questions are encouraged. Prayers are in English and explained along the way.  For more information\, please call Aish at 314-862-2474 or email sgreenwald@aish.com.  Masks are no longer required.\nLooking forward\, \nShmuel
URL:https://aishstl.com/event/shabbat-learners-service-at-u-city-shul-with-rabbi-shmuel-greenwald/2022-08-13/
LOCATION:Nusach Hari Bnai Zion\, 650 North Price Road\, Olivette\, MO\, 63132\, United States
ATTACH;FMTTYPE=image/jpeg:https://aishstl.com/wordpress/wp-content/uploads/2018/04/UCity_Schul_JoyMarcusphoto.jpg
ORGANIZER;CN="Aish Hatorah of St. Louis":MAILTO:cgoldstein@aishstl.com
GEO:38.6601647;-90.3372244
X-APPLE-STRUCTURED-LOCATION;VALUE=URI;X-ADDRESS=Nusach Hari Bnai Zion 650 North Price Road Olivette MO 63132 United States;X-APPLE-RADIUS=500;X-TITLE=650 North Price Road:geo:-90.3372244,38.6601647
END:VEVENT
BEGIN:VEVENT
DTSTART;TZID=America/Chicago:20220820T100000
DTEND;TZID=America/Chicago:20220820T113000
DTSTAMP:20260420T232817
CREATED:20220630T232255Z
LAST-MODIFIED:20220905T172959Z
UID:10002838-1660989600-1660995000@aishstl.com
SUMMARY:Shabbat Learners' Service at U City Shul with Rabbi Shmuel Greenwald
DESCRIPTION:Enjoy a lively\, inspirational service where all questions are encouraged. Prayers are in English and explained along the way.  For more information\, please call Aish at 314-862-2474 or email sgreenwald@aish.com.  Masks are no longer required.\nLooking forward\, \nShmuel
URL:https://aishstl.com/event/shabbat-learners-service-at-u-city-shul-with-rabbi-shmuel-greenwald/2022-08-20/
LOCATION:Nusach Hari Bnai Zion\, 650 North Price Road\, Olivette\, MO\, 63132\, United States
ATTACH;FMTTYPE=image/jpeg:https://aishstl.com/wordpress/wp-content/uploads/2018/04/UCity_Schul_JoyMarcusphoto.jpg
ORGANIZER;CN="Aish Hatorah of St. Louis":MAILTO:cgoldstein@aishstl.com
GEO:38.6601647;-90.3372244
X-APPLE-STRUCTURED-LOCATION;VALUE=URI;X-ADDRESS=Nusach Hari Bnai Zion 650 North Price Road Olivette MO 63132 United States;X-APPLE-RADIUS=500;X-TITLE=650 North Price Road:geo:-90.3372244,38.6601647
END:VEVENT
BEGIN:VEVENT
DTSTART;TZID=America/Chicago:20220827T091500
DTEND;TZID=America/Chicago:20220827T110000
DTSTAMP:20260420T232817
CREATED:20220826T131609Z
LAST-MODIFIED:20220826T131609Z
UID:10002857-1661591700-1661598000@aishstl.com
SUMMARY:Shabbat Learners' Service at NHBZ on hiatus through Saturday\, August 27th
DESCRIPTION:Join me in September for a new Saturday morning class at 10:15 am.  More details to follow.\nAll the best\, \nYosef
URL:https://aishstl.com/event/shabbat-learners-service-at-nhbz-on-hiatus-through-saturday-august-27th/
LOCATION:Nusach Hari Bnai Zion\, 650 North Price Road\, Olivette\, MO\, 63132\, United States
ATTACH;FMTTYPE=image/jpeg:https://aishstl.com/wordpress/wp-content/uploads/2019/01/Nusach-Hari_Front-Exterior.jpg
ORGANIZER;CN="Aish Hatorah of St. Louis":MAILTO:cgoldstein@aishstl.com
GEO:38.6601647;-90.3372244
X-APPLE-STRUCTURED-LOCATION;VALUE=URI;X-ADDRESS=Nusach Hari Bnai Zion 650 North Price Road Olivette MO 63132 United States;X-APPLE-RADIUS=500;X-TITLE=650 North Price Road:geo:-90.3372244,38.6601647
END:VEVENT
BEGIN:VEVENT
DTSTART;TZID=America/Chicago:20220827T100000
DTEND;TZID=America/Chicago:20220827T113000
DTSTAMP:20260420T232817
CREATED:20220630T232255Z
LAST-MODIFIED:20220905T172959Z
UID:10002839-1661594400-1661599800@aishstl.com
SUMMARY:Shabbat Learners' Service at U City Shul with Rabbi Shmuel Greenwald
DESCRIPTION:Enjoy a lively\, inspirational service where all questions are encouraged. Prayers are in English and explained along the way.  For more information\, please call Aish at 314-862-2474 or email sgreenwald@aish.com.  Masks are no longer required.\nLooking forward\, \nShmuel
URL:https://aishstl.com/event/shabbat-learners-service-at-u-city-shul-with-rabbi-shmuel-greenwald/2022-08-27/
LOCATION:Nusach Hari Bnai Zion\, 650 North Price Road\, Olivette\, MO\, 63132\, United States
ATTACH;FMTTYPE=image/jpeg:https://aishstl.com/wordpress/wp-content/uploads/2018/04/UCity_Schul_JoyMarcusphoto.jpg
ORGANIZER;CN="Aish Hatorah of St. Louis":MAILTO:cgoldstein@aishstl.com
GEO:38.6601647;-90.3372244
X-APPLE-STRUCTURED-LOCATION;VALUE=URI;X-ADDRESS=Nusach Hari Bnai Zion 650 North Price Road Olivette MO 63132 United States;X-APPLE-RADIUS=500;X-TITLE=650 North Price Road:geo:-90.3372244,38.6601647
END:VEVENT
END:VCALENDAR