BEGIN:VCALENDAR
VERSION:2.0
PRODID:-//Aish St. Louis - ECPv6.15.18//NONSGML v1.0//EN
CALSCALE:GREGORIAN
METHOD:PUBLISH
X-ORIGINAL-URL:https://aishstl.com
X-WR-CALDESC:Events for Aish St. Louis
REFRESH-INTERVAL;VALUE=DURATION:PT1H
X-Robots-Tag:noindex
X-PUBLISHED-TTL:PT1H
BEGIN:VTIMEZONE
TZID:America/Chicago
BEGIN:DAYLIGHT
TZOFFSETFROM:-0600
TZOFFSETTO:-0500
TZNAME:CDT
DTSTART:20210314T080000
END:DAYLIGHT
BEGIN:STANDARD
TZOFFSETFROM:-0500
TZOFFSETTO:-0600
TZNAME:CST
DTSTART:20211107T070000
END:STANDARD
BEGIN:DAYLIGHT
TZOFFSETFROM:-0600
TZOFFSETTO:-0500
TZNAME:CDT
DTSTART:20220313T080000
END:DAYLIGHT
BEGIN:STANDARD
TZOFFSETFROM:-0500
TZOFFSETTO:-0600
TZNAME:CST
DTSTART:20221106T070000
END:STANDARD
BEGIN:DAYLIGHT
TZOFFSETFROM:-0600
TZOFFSETTO:-0500
TZNAME:CDT
DTSTART:20230312T080000
END:DAYLIGHT
BEGIN:STANDARD
TZOFFSETFROM:-0500
TZOFFSETTO:-0600
TZNAME:CST
DTSTART:20231105T070000
END:STANDARD
END:VTIMEZONE
BEGIN:VEVENT
DTSTART;TZID=America/Chicago:20220702T100000
DTEND;TZID=America/Chicago:20220702T113000
DTSTAMP:20260420T213700
CREATED:20220630T232255Z
LAST-MODIFIED:20220905T172959Z
UID:10002831-1656756000-1656761400@aishstl.com
SUMMARY:Shabbat Learners' Service at U City Shul with Rabbi Shmuel Greenwald
DESCRIPTION:Enjoy a lively\, inspirational service where all questions are encouraged. Prayers are in English and explained along the way.  For more information\, please call Aish at 314-862-2474 or email sgreenwald@aish.com.  Masks are no longer required.\nLooking forward\, \nShmuel
URL:https://aishstl.com/event/shabbat-learners-service-at-u-city-shul-with-rabbi-shmuel-greenwald/2022-07-02/
LOCATION:Nusach Hari Bnai Zion\, 650 North Price Road\, Olivette\, MO\, 63132\, United States
ATTACH;FMTTYPE=image/jpeg:https://aishstl.com/wordpress/wp-content/uploads/2018/04/UCity_Schul_JoyMarcusphoto.jpg
ORGANIZER;CN="Aish Hatorah of St. Louis":MAILTO:cgoldstein@aishstl.com
GEO:38.6601647;-90.3372244
X-APPLE-STRUCTURED-LOCATION;VALUE=URI;X-ADDRESS=Nusach Hari Bnai Zion 650 North Price Road Olivette MO 63132 United States;X-APPLE-RADIUS=500;X-TITLE=650 North Price Road:geo:-90.3372244,38.6601647
END:VEVENT
BEGIN:VEVENT
DTSTART;TZID=America/Chicago:20220706T190000
DTEND;TZID=America/Chicago:20220706T203000
DTSTAMP:20260420T213700
CREATED:20220630T233158Z
LAST-MODIFIED:20220630T233158Z
UID:10002849-1657134000-1657139400@aishstl.com
SUMMARY:Jewish Women's Society -- Challah Club with Mimi David -- In Person at Aish
DESCRIPTION:Join your friends to have fun while making Challah for this last session before our summer break!  Bring your own trays to carry home your challah.  Session fee is $15 unless you already paid for the year.  At the Aish Firehouse\,\n457 North Woods Mill Road\, Chesterfield\, MO 63017.   For more information about The Jewish Women’s Society and to RSVP\, call 314-862-2474 or email cwolff@aish.com. \nLooking forward\,\nMimi
URL:https://aishstl.com/event/jewish-womens-society-challah-club-with-mimi-david-in-person-at-aish-3/
LOCATION:Aish Hatorah\, Aish Hatorah & Your Home\, Chesterfield\, MO\, 63017\, United States
ATTACH;FMTTYPE=image/jpeg:https://aishstl.com/wordpress/wp-content/uploads/2020/04/197394787-M-e1665763962474.jpg
ORGANIZER;CN="Jewish Women's Society":MAILTO:cwolff@aish.com
GEO:38.6630859;-90.503598
X-APPLE-STRUCTURED-LOCATION;VALUE=URI;X-ADDRESS=Aish Hatorah Aish Hatorah & Your Home Chesterfield MO 63017 United States;X-APPLE-RADIUS=500;X-TITLE=Aish Hatorah & Your Home:geo:-90.503598,38.6630859
END:VEVENT
BEGIN:VEVENT
DTSTART;TZID=America/Chicago:20220709T100000
DTEND;TZID=America/Chicago:20220709T113000
DTSTAMP:20260420T213700
CREATED:20220630T232255Z
LAST-MODIFIED:20220905T172959Z
UID:10002832-1657360800-1657366200@aishstl.com
SUMMARY:Shabbat Learners' Service at U City Shul with Rabbi Shmuel Greenwald
DESCRIPTION:Enjoy a lively\, inspirational service where all questions are encouraged. Prayers are in English and explained along the way.  For more information\, please call Aish at 314-862-2474 or email sgreenwald@aish.com.  Masks are no longer required.\nLooking forward\, \nShmuel
URL:https://aishstl.com/event/shabbat-learners-service-at-u-city-shul-with-rabbi-shmuel-greenwald/2022-07-09/
LOCATION:Nusach Hari Bnai Zion\, 650 North Price Road\, Olivette\, MO\, 63132\, United States
ATTACH;FMTTYPE=image/jpeg:https://aishstl.com/wordpress/wp-content/uploads/2018/04/UCity_Schul_JoyMarcusphoto.jpg
ORGANIZER;CN="Aish Hatorah of St. Louis":MAILTO:cgoldstein@aishstl.com
GEO:38.6601647;-90.3372244
X-APPLE-STRUCTURED-LOCATION;VALUE=URI;X-ADDRESS=Nusach Hari Bnai Zion 650 North Price Road Olivette MO 63132 United States;X-APPLE-RADIUS=500;X-TITLE=650 North Price Road:geo:-90.3372244,38.6601647
END:VEVENT
BEGIN:VEVENT
DTSTART;TZID=America/Chicago:20220716T100000
DTEND;TZID=America/Chicago:20220716T113000
DTSTAMP:20260420T213700
CREATED:20220630T232255Z
LAST-MODIFIED:20220905T172959Z
UID:10002833-1657965600-1657971000@aishstl.com
SUMMARY:Shabbat Learners' Service at U City Shul with Rabbi Shmuel Greenwald
DESCRIPTION:Enjoy a lively\, inspirational service where all questions are encouraged. Prayers are in English and explained along the way.  For more information\, please call Aish at 314-862-2474 or email sgreenwald@aish.com.  Masks are no longer required.\nLooking forward\, \nShmuel
URL:https://aishstl.com/event/shabbat-learners-service-at-u-city-shul-with-rabbi-shmuel-greenwald/2022-07-16/
LOCATION:Nusach Hari Bnai Zion\, 650 North Price Road\, Olivette\, MO\, 63132\, United States
ATTACH;FMTTYPE=image/jpeg:https://aishstl.com/wordpress/wp-content/uploads/2018/04/UCity_Schul_JoyMarcusphoto.jpg
ORGANIZER;CN="Aish Hatorah of St. Louis":MAILTO:cgoldstein@aishstl.com
GEO:38.6601647;-90.3372244
X-APPLE-STRUCTURED-LOCATION;VALUE=URI;X-ADDRESS=Nusach Hari Bnai Zion 650 North Price Road Olivette MO 63132 United States;X-APPLE-RADIUS=500;X-TITLE=650 North Price Road:geo:-90.3372244,38.6601647
END:VEVENT
BEGIN:VEVENT
DTSTART;TZID=America/Chicago:20220716T101500
DTEND;TZID=America/Chicago:20220716T121500
DTSTAMP:20260420T213700
CREATED:20220417T165514Z
LAST-MODIFIED:20220715T152101Z
UID:10002777-1657966500-1657973700@aishstl.com
SUMMARY:Shabbat Learners' Service at Nusach Hari Bnai Zion with Rabbi Yosef David
DESCRIPTION:Enjoy a lively\, inspirational service where all questions are encouraged. Prayers are in English and explained along the way.  For more information\, please call Aish at 314-862-2474 or email cwolff@aish.com
URL:https://aishstl.com/event/shabbat-learners-service-at-nusach-hari-bnai-zion-with-rabbi-yosef-david-2022-07-16/
LOCATION:Nusach Hari Bnai Zion\, 650 North Price Road\, Olivette\, MO\, 63132\, United States
ATTACH;FMTTYPE=image/jpeg:https://aishstl.com/wordpress/wp-content/uploads/2019/01/Nusach-Hari_Front-Exterior.jpg
ORGANIZER;CN="Aish Hatorah of St. Louis":MAILTO:cgoldstein@aishstl.com
GEO:38.6601647;-90.3372244
X-APPLE-STRUCTURED-LOCATION;VALUE=URI;X-ADDRESS=Nusach Hari Bnai Zion 650 North Price Road Olivette MO 63132 United States;X-APPLE-RADIUS=500;X-TITLE=650 North Price Road:geo:-90.3372244,38.6601647
END:VEVENT
BEGIN:VEVENT
DTSTART;TZID=America/Chicago:20220723T100000
DTEND;TZID=America/Chicago:20220723T113000
DTSTAMP:20260420T213700
CREATED:20220630T232255Z
LAST-MODIFIED:20220905T172959Z
UID:10002834-1658570400-1658575800@aishstl.com
SUMMARY:Shabbat Learners' Service at U City Shul with Rabbi Shmuel Greenwald
DESCRIPTION:Enjoy a lively\, inspirational service where all questions are encouraged. Prayers are in English and explained along the way.  For more information\, please call Aish at 314-862-2474 or email sgreenwald@aish.com.  Masks are no longer required.\nLooking forward\, \nShmuel
URL:https://aishstl.com/event/shabbat-learners-service-at-u-city-shul-with-rabbi-shmuel-greenwald/2022-07-23/
LOCATION:Nusach Hari Bnai Zion\, 650 North Price Road\, Olivette\, MO\, 63132\, United States
ATTACH;FMTTYPE=image/jpeg:https://aishstl.com/wordpress/wp-content/uploads/2018/04/UCity_Schul_JoyMarcusphoto.jpg
ORGANIZER;CN="Aish Hatorah of St. Louis":MAILTO:cgoldstein@aishstl.com
GEO:38.6601647;-90.3372244
X-APPLE-STRUCTURED-LOCATION;VALUE=URI;X-ADDRESS=Nusach Hari Bnai Zion 650 North Price Road Olivette MO 63132 United States;X-APPLE-RADIUS=500;X-TITLE=650 North Price Road:geo:-90.3372244,38.6601647
END:VEVENT
BEGIN:VEVENT
DTSTART;VALUE=DATE:20220729
DTEND;VALUE=DATE:20220730
DTSTAMP:20260420T213700
CREATED:20220729T135451Z
LAST-MODIFIED:20220729T135451Z
UID:10002853-1659052800-1659139199@aishstl.com
SUMMARY:Rosh Hashana
DESCRIPTION:
URL:https://aishstl.com/event/rosh-hashana/
LOCATION:Aish Hatorah and Your Home\, MO\, United States
ATTACH;FMTTYPE=image/jpeg:https://aishstl.com/wordpress/wp-content/uploads/2019/08/flat-rosh-hashanah-element-vector-e1567105771990.jpg
ORGANIZER;CN="Aish Hatorah of St. Louis":MAILTO:cgoldstein@aishstl.com
GEO:37.9642529;-91.8318334
END:VEVENT
BEGIN:VEVENT
DTSTART;TZID=America/Chicago:20220730T100000
DTEND;TZID=America/Chicago:20220730T113000
DTSTAMP:20260420T213700
CREATED:20220630T232255Z
LAST-MODIFIED:20220905T172959Z
UID:10002835-1659175200-1659180600@aishstl.com
SUMMARY:Shabbat Learners' Service at U City Shul with Rabbi Shmuel Greenwald
DESCRIPTION:Enjoy a lively\, inspirational service where all questions are encouraged. Prayers are in English and explained along the way.  For more information\, please call Aish at 314-862-2474 or email sgreenwald@aish.com.  Masks are no longer required.\nLooking forward\, \nShmuel
URL:https://aishstl.com/event/shabbat-learners-service-at-u-city-shul-with-rabbi-shmuel-greenwald/2022-07-30/
LOCATION:Nusach Hari Bnai Zion\, 650 North Price Road\, Olivette\, MO\, 63132\, United States
ATTACH;FMTTYPE=image/jpeg:https://aishstl.com/wordpress/wp-content/uploads/2018/04/UCity_Schul_JoyMarcusphoto.jpg
ORGANIZER;CN="Aish Hatorah of St. Louis":MAILTO:cgoldstein@aishstl.com
GEO:38.6601647;-90.3372244
X-APPLE-STRUCTURED-LOCATION;VALUE=URI;X-ADDRESS=Nusach Hari Bnai Zion 650 North Price Road Olivette MO 63132 United States;X-APPLE-RADIUS=500;X-TITLE=650 North Price Road:geo:-90.3372244,38.6601647
END:VEVENT
END:VCALENDAR