BEGIN:VCALENDAR
VERSION:2.0
PRODID:-//Aish St. Louis - ECPv6.15.18//NONSGML v1.0//EN
CALSCALE:GREGORIAN
METHOD:PUBLISH
X-ORIGINAL-URL:https://aishstl.com
X-WR-CALDESC:Events for Aish St. Louis
REFRESH-INTERVAL;VALUE=DURATION:PT1H
X-Robots-Tag:noindex
X-PUBLISHED-TTL:PT1H
BEGIN:VTIMEZONE
TZID:America/Chicago
BEGIN:DAYLIGHT
TZOFFSETFROM:-0600
TZOFFSETTO:-0500
TZNAME:CDT
DTSTART:20210314T080000
END:DAYLIGHT
BEGIN:STANDARD
TZOFFSETFROM:-0500
TZOFFSETTO:-0600
TZNAME:CST
DTSTART:20211107T070000
END:STANDARD
BEGIN:DAYLIGHT
TZOFFSETFROM:-0600
TZOFFSETTO:-0500
TZNAME:CDT
DTSTART:20220313T080000
END:DAYLIGHT
BEGIN:STANDARD
TZOFFSETFROM:-0500
TZOFFSETTO:-0600
TZNAME:CST
DTSTART:20221106T070000
END:STANDARD
BEGIN:DAYLIGHT
TZOFFSETFROM:-0600
TZOFFSETTO:-0500
TZNAME:CDT
DTSTART:20230312T080000
END:DAYLIGHT
BEGIN:STANDARD
TZOFFSETFROM:-0500
TZOFFSETTO:-0600
TZNAME:CST
DTSTART:20231105T070000
END:STANDARD
END:VTIMEZONE
BEGIN:VEVENT
DTSTART;VALUE=DATE:20220601
DTEND;VALUE=DATE:20220602
DTSTAMP:20260420T232826
CREATED:20220428T183833Z
LAST-MODIFIED:20220428T183833Z
UID:10002812-1654041600-1654127999@aishstl.com
SUMMARY:Count Omer 47 tonight
DESCRIPTION:
URL:https://aishstl.com/event/count-omer-47-tonight/
LOCATION:MO
ORGANIZER;CN="Aish Hatorah of St. Louis":MAILTO:cgoldstein@aishstl.com
END:VEVENT
BEGIN:VEVENT
DTSTART;VALUE=DATE:20220602
DTEND;VALUE=DATE:20220603
DTSTAMP:20260420T232826
CREATED:20220428T183903Z
LAST-MODIFIED:20220428T183903Z
UID:10002813-1654128000-1654214399@aishstl.com
SUMMARY:Count Omer 48 tonight
DESCRIPTION:
URL:https://aishstl.com/event/count-omer-48-tonight/
LOCATION:MO
ORGANIZER;CN="Aish Hatorah of St. Louis":MAILTO:cgoldstein@aishstl.com
END:VEVENT
BEGIN:VEVENT
DTSTART;VALUE=DATE:20220603
DTEND;VALUE=DATE:20220604
DTSTAMP:20260420T232826
CREATED:20220428T183940Z
LAST-MODIFIED:20220428T183940Z
UID:10002814-1654214400-1654300799@aishstl.com
SUMMARY:Count Omer 49 tonight
DESCRIPTION:
URL:https://aishstl.com/event/count-omer-49-tonight/
LOCATION:MO
ORGANIZER;CN="Aish Hatorah of St. Louis":MAILTO:cgoldstein@aishstl.com
END:VEVENT
BEGIN:VEVENT
DTSTART;VALUE=DATE:20220604
DTEND;VALUE=DATE:20220605
DTSTAMP:20260420T232826
CREATED:20220602T182257Z
LAST-MODIFIED:20220602T182257Z
UID:10002827-1654300800-1654387199@aishstl.com
SUMMARY:No Shabbat Learners' Service at NHBZ this week with Rabbi Yosef David
DESCRIPTION:
URL:https://aishstl.com/event/no-shabbat-learners-service-at-nhbz-this-week-with-rabbi-yosef-david/2022-06-04/
LOCATION:MO
ATTACH;FMTTYPE=image/jpeg:https://aishstl.com/wordpress/wp-content/uploads/2019/01/Nusach-Hari_Front-Exterior.jpg
END:VEVENT
BEGIN:VEVENT
DTSTART;TZID=America/Chicago:20220604T210400
DTEND;TZID=America/Chicago:20220604T233000
DTSTAMP:20260420T232826
CREATED:20220428T184038Z
LAST-MODIFIED:20220428T184601Z
UID:10002815-1654376640-1654385400@aishstl.com
SUMMARY:Erev Shavuot
DESCRIPTION:
URL:https://aishstl.com/event/erev-shavuot-3/
LOCATION:MO
ATTACH;FMTTYPE=image/jpeg:https://aishstl.com/wordpress/wp-content/uploads/2020/04/Shavuot1902937d6d00da0-e1652199163941.jpg
ORGANIZER;CN="Aish Hatorah of St. Louis":MAILTO:cgoldstein@aishstl.com
END:VEVENT
BEGIN:VEVENT
DTSTART;VALUE=DATE:20220605
DTEND;VALUE=DATE:20220606
DTSTAMP:20260420T232826
CREATED:20220428T184135Z
LAST-MODIFIED:20220428T184521Z
UID:10002816-1654387200-1654473599@aishstl.com
SUMMARY:Shavuot -- Day 1
DESCRIPTION:
URL:https://aishstl.com/event/shavuot-day-1/
LOCATION:MO
ATTACH;FMTTYPE=image/jpeg:https://aishstl.com/wordpress/wp-content/uploads/2020/04/Shavuot1902937d6d00da0-e1652199163941.jpg
ORGANIZER;CN="Aish Hatorah of St. Louis":MAILTO:cgoldstein@aishstl.com
END:VEVENT
BEGIN:VEVENT
DTSTART;TZID=America/Chicago:20220605T111500
DTEND;TZID=America/Chicago:20220605T150000
DTSTAMP:20260420T232826
CREATED:20220520T143648Z
LAST-MODIFIED:20220602T181641Z
UID:10002824-1654427700-1654441200@aishstl.com
SUMMARY:Shavuos Day Seminar with Rabbi Yosef & Mimi David\, Rabbi Shmuel Greenwald & Rabbi Shmuel & Dvorah Miller
DESCRIPTION:Join Aish’s Shavuot Seminar and exciting Children’s Program at Torah Prep Girl’s School with Rabbi Yosef & Mrs. Mimi David\, Rabbi Shmuel Greenwald and Special Guest Lecturers Rabbi Shmuel & Mrs. Dvorah Miller of Epstein Hebrew Academy.  Choose a class in the morning from 11:30 am – 12:15 pm and in the afternoon from 2:00 pm – 2:45 pm.  Enjoy a delicious dairy lunch from 12:30 pm – 1:45 pm with cheesecake & ice cream bar for dessert.  Children’s Program (5 -12 years old) in both the morning and afternoon; babysitting available for children 4 and under (free).  Cost: $18/adult\, $12/child (4 and under\, free).  For more information and to RSVP\, call 314-862-2474 or email cwolff@aish.com.
URL:https://aishstl.com/event/shavuos-day-seminar-with-rabbi-yosef-mimi-david-rabbi-shmuel-greenwald-rabbi-shmuel-dvorah-miller/
LOCATION:Torah Prep Schools for Girls\, 8136 Groby Road\, St. Louis\, MO\, 63130\, United States
ATTACH;FMTTYPE=image/jpeg:https://aishstl.com/wordpress/wp-content/uploads/2020/04/Shavuot1902937d6d00da0-e1652199163941.jpg
ORGANIZER;CN="Aish Hatorah of St. Louis":MAILTO:cgoldstein@aishstl.com
GEO:38.6674612;-90.3471117
X-APPLE-STRUCTURED-LOCATION;VALUE=URI;X-ADDRESS=Torah Prep Schools for Girls 8136 Groby Road St. Louis MO 63130 United States;X-APPLE-RADIUS=500;X-TITLE=8136 Groby Road:geo:-90.3471117,38.6674612
END:VEVENT
BEGIN:VEVENT
DTSTART;TZID=America/Chicago:20220606T000000
DTEND;TZID=America/Chicago:20220606T211100
DTSTAMP:20260420T232826
CREATED:20220428T184434Z
LAST-MODIFIED:20220428T184434Z
UID:10002817-1654473600-1654549860@aishstl.com
SUMMARY:Shavuot -- Day 2      Yizkor
DESCRIPTION:
URL:https://aishstl.com/event/shavuot-day-2-yizkor/
LOCATION:MO
ATTACH;FMTTYPE=image/jpeg:https://aishstl.com/wordpress/wp-content/uploads/2020/04/Shavuot1902937d6d00da0-e1652199163941.jpg
ORGANIZER;CN="Aish Hatorah of St. Louis":MAILTO:cgoldstein@aishstl.com
END:VEVENT
BEGIN:VEVENT
DTSTART;TZID=America/Chicago:20220609T190000
DTEND;TZID=America/Chicago:20220609T210000
DTSTAMP:20260420T232826
CREATED:20220520T151254Z
LAST-MODIFIED:20220520T151254Z
UID:10002825-1654801200-1654808400@aishstl.com
SUMMARY:The Mark Raiffie Annual Memorial Lecture presents Rabbi Steven Burg\, CEO\, Aish Jerusalem
DESCRIPTION:Join us for The Mark Raiffie Annual Memorial Lecture as we welcome our guest speaker\, Rabbi Steven Burg\, CEO Aish Jerusalem\, on the powerful topic of Leadership & Responsibility — The Two Most Important Ingredients in the DNA of  Jew.  This lecture is sponsored by his family in loving memory of Mark.  Mark’s life was cut short but his smile\, charm and love will be with us forever. His dedication to his family and friends will live on as an inspiration to us all.  Free and open to the community; stay after for a dessert reception.  For more information and to RSVP\, call 314-862-2474 or email cwolff@aish.com
URL:https://aishstl.com/event/the-mark-raiffie-annual-memorial-lecture-presents-rabbi-steven-burg-ceo-aish-jerusalem/
LOCATION:Aish Hatorah\, Aish Hatorah & Your Home\, Chesterfield\, MO\, 63017\, United States
ATTACH;FMTTYPE=image/jpeg:https://aishstl.com/wordpress/wp-content/uploads/2020/05/Mark-Raiffie-e1652198412438.jpg
ORGANIZER;CN="Aish Hatorah of St. Louis":MAILTO:cgoldstein@aishstl.com
GEO:38.6630859;-90.503598
X-APPLE-STRUCTURED-LOCATION;VALUE=URI;X-ADDRESS=Aish Hatorah Aish Hatorah & Your Home Chesterfield MO 63017 United States;X-APPLE-RADIUS=500;X-TITLE=Aish Hatorah & Your Home:geo:-90.503598,38.6630859
END:VEVENT
BEGIN:VEVENT
DTSTART;VALUE=DATE:20220611
DTEND;VALUE=DATE:20220612
DTSTAMP:20260420T232826
CREATED:20220602T182257Z
LAST-MODIFIED:20220602T182257Z
UID:10002828-1654905600-1654991999@aishstl.com
SUMMARY:No Shabbat Learners' Service at NHBZ this week with Rabbi Yosef David
DESCRIPTION:
URL:https://aishstl.com/event/no-shabbat-learners-service-at-nhbz-this-week-with-rabbi-yosef-david/2022-06-11/
LOCATION:MO
ATTACH;FMTTYPE=image/jpeg:https://aishstl.com/wordpress/wp-content/uploads/2019/01/Nusach-Hari_Front-Exterior.jpg
END:VEVENT
BEGIN:VEVENT
DTSTART;VALUE=DATE:20220618
DTEND;VALUE=DATE:20220619
DTSTAMP:20260420T232826
CREATED:20220602T182257Z
LAST-MODIFIED:20220602T182257Z
UID:10002829-1655510400-1655596799@aishstl.com
SUMMARY:No Shabbat Learners' Service at NHBZ this week with Rabbi Yosef David
DESCRIPTION:
URL:https://aishstl.com/event/no-shabbat-learners-service-at-nhbz-this-week-with-rabbi-yosef-david/2022-06-18/
LOCATION:MO
ATTACH;FMTTYPE=image/jpeg:https://aishstl.com/wordpress/wp-content/uploads/2019/01/Nusach-Hari_Front-Exterior.jpg
END:VEVENT
BEGIN:VEVENT
DTSTART;VALUE=DATE:20220625
DTEND;VALUE=DATE:20220626
DTSTAMP:20260420T232826
CREATED:20220602T182257Z
LAST-MODIFIED:20220602T182257Z
UID:10002830-1656115200-1656201599@aishstl.com
SUMMARY:No Shabbat Learners' Service at NHBZ this week with Rabbi Yosef David
DESCRIPTION:
URL:https://aishstl.com/event/no-shabbat-learners-service-at-nhbz-this-week-with-rabbi-yosef-david/2022-06-25/
LOCATION:MO
ATTACH;FMTTYPE=image/jpeg:https://aishstl.com/wordpress/wp-content/uploads/2019/01/Nusach-Hari_Front-Exterior.jpg
END:VEVENT
END:VCALENDAR