BEGIN:VCALENDAR
VERSION:2.0
PRODID:-//Aish St. Louis - ECPv6.15.18//NONSGML v1.0//EN
CALSCALE:GREGORIAN
METHOD:PUBLISH
X-ORIGINAL-URL:https://aishstl.com
X-WR-CALDESC:Events for Aish St. Louis
REFRESH-INTERVAL;VALUE=DURATION:PT1H
X-Robots-Tag:noindex
X-PUBLISHED-TTL:PT1H
BEGIN:VTIMEZONE
TZID:America/Chicago
BEGIN:DAYLIGHT
TZOFFSETFROM:-0600
TZOFFSETTO:-0500
TZNAME:CDT
DTSTART:20210314T080000
END:DAYLIGHT
BEGIN:STANDARD
TZOFFSETFROM:-0500
TZOFFSETTO:-0600
TZNAME:CST
DTSTART:20211107T070000
END:STANDARD
BEGIN:DAYLIGHT
TZOFFSETFROM:-0600
TZOFFSETTO:-0500
TZNAME:CDT
DTSTART:20220313T080000
END:DAYLIGHT
BEGIN:STANDARD
TZOFFSETFROM:-0500
TZOFFSETTO:-0600
TZNAME:CST
DTSTART:20221106T070000
END:STANDARD
BEGIN:DAYLIGHT
TZOFFSETFROM:-0600
TZOFFSETTO:-0500
TZNAME:CDT
DTSTART:20230312T080000
END:DAYLIGHT
BEGIN:STANDARD
TZOFFSETFROM:-0500
TZOFFSETTO:-0600
TZNAME:CST
DTSTART:20231105T070000
END:STANDARD
END:VTIMEZONE
BEGIN:VEVENT
DTSTART;VALUE=DATE:20220501
DTEND;VALUE=DATE:20220502
DTSTAMP:20260423T053222
CREATED:20220428T174211Z
LAST-MODIFIED:20220429T161013Z
UID:10002781-1651363200-1651449599@aishstl.com
SUMMARY:Count Omer 16 tonight
DESCRIPTION:
URL:https://aishstl.com/event/count-omer-16-tonight/
LOCATION:MO
ORGANIZER;CN="Aish Hatorah of St. Louis":MAILTO:cgoldstein@aishstl.com
END:VEVENT
BEGIN:VEVENT
DTSTART;TZID=America/Chicago:20220501T090000
DTEND;TZID=America/Chicago:20220501T100000
DTSTAMP:20260423T053222
CREATED:20220428T192632Z
LAST-MODIFIED:20220506T152119Z
UID:10002818-1651395600-1651399200@aishstl.com
SUMMARY:Bagels & Breakfast with Rabbi Yosef David at Kohn's
DESCRIPTION:Join me for breakfast and “Wisdom for Living from Pirkei Avot” this Sunday morning!\nLooking forward\,\nYosef
URL:https://aishstl.com/event/bagels-breakfast-with-rabbi-yosef-david-at-kohns/2022-05-01/
LOCATION:Kohn’s Deli\, 10405 Old Olive Street Road\, Creve Coeur\, MO\, 63141\, United States
ATTACH;FMTTYPE=image/jpeg:https://aishstl.com/wordpress/wp-content/uploads/2022/04/pirkeiavotr.d81TVnK4LKNL._AC_UL320_-e1651173803811.jpg
ORGANIZER;CN="Aish Hatorah of St. Louis":MAILTO:cgoldstein@aishstl.com
GEO:38.675859;-90.40869
X-APPLE-STRUCTURED-LOCATION;VALUE=URI;X-ADDRESS=Kohn’s Deli 10405 Old Olive Street Road Creve Coeur MO 63141 United States;X-APPLE-RADIUS=500;X-TITLE=10405 Old Olive Street Road:geo:-90.40869,38.675859
END:VEVENT
BEGIN:VEVENT
DTSTART;TZID=America/Chicago:20220501T100000
DTEND;TZID=America/Chicago:20220501T120000
DTSTAMP:20260423T053222
CREATED:20220303T051805Z
LAST-MODIFIED:20220422T164608Z
UID:10002697-1651399200-1651406400@aishstl.com
SUMMARY:Aish Adult Sunday class with Rabbi Shmuel Greenwald
DESCRIPTION:Join me this Sunday morning in person at TICK or on zoom as we continue our discussions on how the lessons of the Torah can help us prepare for the new week ahead. For more information\, call Aish at 314-862-2474 or email me at sgreenwald@aish.com.  Masks now optional.  Tpheris Israel Chevra Kadisha\, 14550 Ladue Road\, Chesterfield\, MO 63017\nzoom.us/j/3740953378    Dial in:  1-312-626-6799\, 3740953378\nLooking forward\,\nShmuel
URL:https://aishstl.com/event/aish-adult-sunday-class-with-rabbi-shmuel-greenwald-2022-03-20/2022-05-01/
LOCATION:Tpheris Israel Chevra Kadisha (TICK)\, 14550 Ladue Road\, Chesterfield\, 63017
ATTACH;FMTTYPE=image/jpeg:https://aishstl.com/wordpress/wp-content/uploads/2018/09/Rabbi-Greenwald3-1.jpg
ORGANIZER;CN="Aish Hatorah of St. Louis":MAILTO:cgoldstein@aishstl.com
GEO:38.665962;-90.5294009
X-APPLE-STRUCTURED-LOCATION;VALUE=URI;X-ADDRESS=Tpheris Israel Chevra Kadisha (TICK) 14550 Ladue Road Chesterfield 63017;X-APPLE-RADIUS=500;X-TITLE=14550 Ladue Road:geo:-90.5294009,38.665962
END:VEVENT
BEGIN:VEVENT
DTSTART;TZID=America/Chicago:20220501T100000
DTEND;TZID=America/Chicago:20220501T120000
DTSTAMP:20260423T053222
CREATED:20220928T193608Z
LAST-MODIFIED:20220928T193608Z
UID:10002712-1651399200-1651406400@aishstl.com
SUMMARY:Aish Adult Sunday class with Rabbi Shmuel Greenwald
DESCRIPTION:Join me this Sunday morning in person at TICK or on zoom as we continue our discussions on how the lessons of the Torah can help us prepare for the new week ahead. For more information\, call Aish at 314-862-2474 or email me at sgreenwald@aish.com.  Masks now optional.  Tpheris Israel Chevra Kadisha\, 14550 Ladue Road\, Chesterfield\, MO 63017\nzoom.us/j/3740953378    Dial in:  1-312-626-6799\, 3740953378\nLooking forward\,\nShmuel
URL:https://aishstl.com/event/aish-adult-sunday-class-with-rabbi-shmuel-greenwald-2022-03-20/2022-05-01/
LOCATION:Tpheris Israel Chevra Kadisha (TICK)\, 14550 Ladue Road\, Chesterfield\, 63017
ATTACH;FMTTYPE=image/jpeg:https://aishstl.com/wordpress/wp-content/uploads/2018/09/Rabbi-Greenwald3-1.jpg
ORGANIZER;CN="Aish Hatorah of St. Louis":MAILTO:cgoldstein@aishstl.com
GEO:38.665962;-90.5294009
X-APPLE-STRUCTURED-LOCATION;VALUE=URI;X-ADDRESS=Tpheris Israel Chevra Kadisha (TICK) 14550 Ladue Road Chesterfield 63017;X-APPLE-RADIUS=500;X-TITLE=14550 Ladue Road:geo:-90.5294009,38.665962
END:VEVENT
BEGIN:VEVENT
DTSTART;TZID=America/Chicago:20220501T100000
DTEND;TZID=America/Chicago:20220501T120000
DTSTAMP:20260423T053222
CREATED:20220928T193608Z
LAST-MODIFIED:20220928T193608Z
UID:10002718-1651399200-1651406400@aishstl.com
SUMMARY:Aish Adult Sunday class with Rabbi Shmuel Greenwald
DESCRIPTION:Join me this Sunday morning in person at TICK or on zoom as we continue our discussions on how the lessons of the Torah can help us prepare for the new week ahead. For more information\, call Aish at 314-862-2474 or email me at sgreenwald@aish.com.  Masks now optional.  Tpheris Israel Chevra Kadisha\, 14550 Ladue Road\, Chesterfield\, MO 63017\nzoom.us/j/3740953378    Dial in:  1-312-626-6799\, 3740953378\nLooking forward\,\nShmuel
URL:https://aishstl.com/event/aish-adult-sunday-class-with-rabbi-shmuel-greenwald-2022-03-20/2022-05-01/
LOCATION:Tpheris Israel Chevra Kadisha (TICK)\, 14550 Ladue Road\, Chesterfield\, 63017
ATTACH;FMTTYPE=image/jpeg:https://aishstl.com/wordpress/wp-content/uploads/2018/09/Rabbi-Greenwald3-1.jpg
ORGANIZER;CN="Aish Hatorah of St. Louis":MAILTO:cgoldstein@aishstl.com
GEO:38.665962;-90.5294009
X-APPLE-STRUCTURED-LOCATION;VALUE=URI;X-ADDRESS=Tpheris Israel Chevra Kadisha (TICK) 14550 Ladue Road Chesterfield 63017;X-APPLE-RADIUS=500;X-TITLE=14550 Ladue Road:geo:-90.5294009,38.665962
END:VEVENT
BEGIN:VEVENT
DTSTART;TZID=America/Chicago:20220501T100000
DTEND;TZID=America/Chicago:20220501T120000
DTSTAMP:20260423T053222
CREATED:20220928T193608Z
LAST-MODIFIED:20220928T193608Z
UID:10002705-1651399200-1651406400@aishstl.com
SUMMARY:Aish Adult Sunday class with Rabbi Shmuel Greenwald
DESCRIPTION:Join me this Sunday morning in person at TICK or on zoom as we continue our discussions on how the lessons of the Torah can help us prepare for the new week ahead. For more information\, call Aish at 314-862-2474 or email me at sgreenwald@aish.com.  Masks now optional.  Tpheris Israel Chevra Kadisha\, 14550 Ladue Road\, Chesterfield\, MO 63017\nzoom.us/j/3740953378    Dial in:  1-312-626-6799\, 3740953378\nLooking forward\,\nShmuel
URL:https://aishstl.com/event/aish-adult-sunday-class-with-rabbi-shmuel-greenwald-2022-03-20/2022-05-01/
LOCATION:Tpheris Israel Chevra Kadisha (TICK)\, 14550 Ladue Road\, Chesterfield\, 63017
ATTACH;FMTTYPE=image/jpeg:https://aishstl.com/wordpress/wp-content/uploads/2018/09/Rabbi-Greenwald3-1.jpg
ORGANIZER;CN="Aish Hatorah of St. Louis":MAILTO:cgoldstein@aishstl.com
GEO:38.665962;-90.5294009
X-APPLE-STRUCTURED-LOCATION;VALUE=URI;X-ADDRESS=Tpheris Israel Chevra Kadisha (TICK) 14550 Ladue Road Chesterfield 63017;X-APPLE-RADIUS=500;X-TITLE=14550 Ladue Road:geo:-90.5294009,38.665962
END:VEVENT
BEGIN:VEVENT
DTSTART;VALUE=DATE:20220502
DTEND;VALUE=DATE:20220503
DTSTAMP:20260423T053222
CREATED:20220428T174257Z
LAST-MODIFIED:20220428T174257Z
UID:10002782-1651449600-1651535999@aishstl.com
SUMMARY:Count Omer 17 tonight
DESCRIPTION:
URL:https://aishstl.com/event/count-omer-17-tonight/
LOCATION:MO
ORGANIZER;CN="Aish Hatorah of St. Louis":MAILTO:cgoldstein@aishstl.com
END:VEVENT
BEGIN:VEVENT
DTSTART;TZID=America/Chicago:20220503T080000
DTEND;TZID=America/Chicago:20220503T170000
DTSTAMP:20260423T053222
CREATED:20220428T174332Z
LAST-MODIFIED:20220428T174332Z
UID:10002783-1651564800-1651597200@aishstl.com
SUMMARY:Count Omer 18 tonight
DESCRIPTION:
URL:https://aishstl.com/event/count-omer-18-tonight/
LOCATION:MO
ORGANIZER;CN="Aish Hatorah of St. Louis":MAILTO:cgoldstein@aishstl.com
END:VEVENT
BEGIN:VEVENT
DTSTART;TZID=America/Chicago:20220504T080000
DTEND;TZID=America/Chicago:20220504T170000
DTSTAMP:20260423T053222
CREATED:20220428T174420Z
LAST-MODIFIED:20220428T174448Z
UID:10002784-1651651200-1651683600@aishstl.com
SUMMARY:Count Omer 19 tonight    Yom Hazikaron
DESCRIPTION:
URL:https://aishstl.com/event/count-omer-19-tonight/
LOCATION:MO
ORGANIZER;CN="Aish Hatorah of St. Louis":MAILTO:cgoldstein@aishstl.com
END:VEVENT
BEGIN:VEVENT
DTSTART;TZID=America/Chicago:20220504T190000
DTEND;TZID=America/Chicago:20220504T203000
DTSTAMP:20260423T053222
CREATED:20210921T155923Z
LAST-MODIFIED:20220330T181023Z
UID:10002639-1651690800-1651696200@aishstl.com
SUMMARY:Jewish Women's Society -- Challah Club with Mimi David -- In Person at Aish
DESCRIPTION:Join your friends to make Challah and have a blast!  Bring your own trays to carry home your challah.  Fee is $136 for the year (which can be pro-rated if you join this month).\nAish Firehouse\, 457 North Woods Mill Road\, Chesterfield\, MO 63017.   For more information about The Jewish Women’s Society and to RSVP\, call 314-862-2474 or email cwolff@aish.com.\nWe follow St. Louis County covid guidelines.\nLooking forward\,\nMimi
URL:https://aishstl.com/event/jewish-womens-society-challah-club-with-mimi-david-in-person-at-aish-2022-05-04/
LOCATION:Aish Hatorah\, Aish Hatorah & Your Home\, Chesterfield\, MO\, 63017\, United States
ATTACH;FMTTYPE=image/jpeg:https://aishstl.com/wordpress/wp-content/uploads/2020/04/197394787-M-e1665763962474.jpg
ORGANIZER;CN="Aish Hatorah of St. Louis":MAILTO:cgoldstein@aishstl.com
GEO:38.6630859;-90.503598
X-APPLE-STRUCTURED-LOCATION;VALUE=URI;X-ADDRESS=Aish Hatorah Aish Hatorah & Your Home Chesterfield MO 63017 United States;X-APPLE-RADIUS=500;X-TITLE=Aish Hatorah & Your Home:geo:-90.503598,38.6630859
END:VEVENT
BEGIN:VEVENT
DTSTART;VALUE=DATE:20220505
DTEND;VALUE=DATE:20220506
DTSTAMP:20260423T053222
CREATED:20220428T174544Z
LAST-MODIFIED:20220428T174544Z
UID:10002785-1651708800-1651795199@aishstl.com
SUMMARY:Count Omer 20 tonight   -- Israel's 74th Independence Day (Yom Ha'atzmaut)
DESCRIPTION:
URL:https://aishstl.com/event/count-omer-20-tonight-israels-74th-independence-day-yom-haatzmaut/
LOCATION:MO
ORGANIZER;CN="Aish Hatorah of St. Louis":MAILTO:cgoldstein@aishstl.com
END:VEVENT
BEGIN:VEVENT
DTSTART;TZID=America/Chicago:20220506T080000
DTEND;TZID=America/Chicago:20220506T170000
DTSTAMP:20260423T053222
CREATED:20220428T174617Z
LAST-MODIFIED:20220428T174617Z
UID:10002786-1651824000-1651856400@aishstl.com
SUMMARY:Count Omer 21 tonight
DESCRIPTION:
URL:https://aishstl.com/event/count-omer-21-tonight/
LOCATION:MO
ORGANIZER;CN="Aish Hatorah of St. Louis":MAILTO:cgoldstein@aishstl.com
END:VEVENT
BEGIN:VEVENT
DTSTART;TZID=America/Chicago:20220507T080000
DTEND;TZID=America/Chicago:20220507T170000
DTSTAMP:20260423T053222
CREATED:20220428T174709Z
LAST-MODIFIED:20220428T174709Z
UID:10002787-1651910400-1651942800@aishstl.com
SUMMARY:Count Omer 22 tonight
DESCRIPTION:
URL:https://aishstl.com/event/count-omer-22-tonight/
LOCATION:MO
ORGANIZER;CN="Aish Hatorah of St. Louis":MAILTO:cgoldstein@aishstl.com
END:VEVENT
BEGIN:VEVENT
DTSTART;VALUE=DATE:20220508
DTEND;VALUE=DATE:20220509
DTSTAMP:20260423T053222
CREATED:20220428T174755Z
LAST-MODIFIED:20220506T151825Z
UID:10002788-1651968000-1652054399@aishstl.com
SUMMARY:Count Omer 23 tonight
DESCRIPTION:
URL:https://aishstl.com/event/count-omer-23-tonight/
LOCATION:MO
ORGANIZER;CN="Aish Hatorah of St. Louis":MAILTO:cgoldstein@aishstl.com
END:VEVENT
BEGIN:VEVENT
DTSTART;TZID=America/Chicago:20220508T090000
DTEND;TZID=America/Chicago:20220508T100000
DTSTAMP:20260423T053222
CREATED:20220428T192632Z
LAST-MODIFIED:20220506T152119Z
UID:10002819-1652000400-1652004000@aishstl.com
SUMMARY:Bagels & Breakfast with Rabbi Yosef David at Kohn's
DESCRIPTION:Join me for breakfast and “Wisdom for Living from Pirkei Avot” this Sunday morning!\nLooking forward\,\nYosef
URL:https://aishstl.com/event/bagels-breakfast-with-rabbi-yosef-david-at-kohns/2022-05-08/
LOCATION:Kohn’s Deli\, 10405 Old Olive Street Road\, Creve Coeur\, MO\, 63141\, United States
ATTACH;FMTTYPE=image/jpeg:https://aishstl.com/wordpress/wp-content/uploads/2022/04/pirkeiavotr.d81TVnK4LKNL._AC_UL320_-e1651173803811.jpg
ORGANIZER;CN="Aish Hatorah of St. Louis":MAILTO:cgoldstein@aishstl.com
GEO:38.675859;-90.40869
X-APPLE-STRUCTURED-LOCATION;VALUE=URI;X-ADDRESS=Kohn’s Deli 10405 Old Olive Street Road Creve Coeur MO 63141 United States;X-APPLE-RADIUS=500;X-TITLE=10405 Old Olive Street Road:geo:-90.40869,38.675859
END:VEVENT
BEGIN:VEVENT
DTSTART;TZID=America/Chicago:20220508T100000
DTEND;TZID=America/Chicago:20220508T120000
DTSTAMP:20260423T053222
CREATED:20220303T051805Z
LAST-MODIFIED:20220422T164608Z
UID:10002698-1652004000-1652011200@aishstl.com
SUMMARY:Aish Adult Sunday class with Rabbi Shmuel Greenwald
DESCRIPTION:Join me this Sunday morning in person at TICK or on zoom as we continue our discussions on how the lessons of the Torah can help us prepare for the new week ahead. For more information\, call Aish at 314-862-2474 or email me at sgreenwald@aish.com.  Masks now optional.  Tpheris Israel Chevra Kadisha\, 14550 Ladue Road\, Chesterfield\, MO 63017\nzoom.us/j/3740953378    Dial in:  1-312-626-6799\, 3740953378\nLooking forward\,\nShmuel
URL:https://aishstl.com/event/aish-adult-sunday-class-with-rabbi-shmuel-greenwald-2022-03-20/2022-05-08/
LOCATION:Tpheris Israel Chevra Kadisha (TICK)\, 14550 Ladue Road\, Chesterfield\, 63017
ATTACH;FMTTYPE=image/jpeg:https://aishstl.com/wordpress/wp-content/uploads/2018/09/Rabbi-Greenwald3-1.jpg
ORGANIZER;CN="Aish Hatorah of St. Louis":MAILTO:cgoldstein@aishstl.com
GEO:38.665962;-90.5294009
X-APPLE-STRUCTURED-LOCATION;VALUE=URI;X-ADDRESS=Tpheris Israel Chevra Kadisha (TICK) 14550 Ladue Road Chesterfield 63017;X-APPLE-RADIUS=500;X-TITLE=14550 Ladue Road:geo:-90.5294009,38.665962
END:VEVENT
BEGIN:VEVENT
DTSTART;TZID=America/Chicago:20220508T100000
DTEND;TZID=America/Chicago:20220508T120000
DTSTAMP:20260423T053222
CREATED:20220928T193608Z
LAST-MODIFIED:20220928T193608Z
UID:10002713-1652004000-1652011200@aishstl.com
SUMMARY:Aish Adult Sunday class with Rabbi Shmuel Greenwald
DESCRIPTION:Join me this Sunday morning in person at TICK or on zoom as we continue our discussions on how the lessons of the Torah can help us prepare for the new week ahead. For more information\, call Aish at 314-862-2474 or email me at sgreenwald@aish.com.  Masks now optional.  Tpheris Israel Chevra Kadisha\, 14550 Ladue Road\, Chesterfield\, MO 63017\nzoom.us/j/3740953378    Dial in:  1-312-626-6799\, 3740953378\nLooking forward\,\nShmuel
URL:https://aishstl.com/event/aish-adult-sunday-class-with-rabbi-shmuel-greenwald-2022-03-20/2022-05-08/
LOCATION:Tpheris Israel Chevra Kadisha (TICK)\, 14550 Ladue Road\, Chesterfield\, 63017
ATTACH;FMTTYPE=image/jpeg:https://aishstl.com/wordpress/wp-content/uploads/2018/09/Rabbi-Greenwald3-1.jpg
ORGANIZER;CN="Aish Hatorah of St. Louis":MAILTO:cgoldstein@aishstl.com
GEO:38.665962;-90.5294009
X-APPLE-STRUCTURED-LOCATION;VALUE=URI;X-ADDRESS=Tpheris Israel Chevra Kadisha (TICK) 14550 Ladue Road Chesterfield 63017;X-APPLE-RADIUS=500;X-TITLE=14550 Ladue Road:geo:-90.5294009,38.665962
END:VEVENT
BEGIN:VEVENT
DTSTART;TZID=America/Chicago:20220508T100000
DTEND;TZID=America/Chicago:20220508T120000
DTSTAMP:20260423T053222
CREATED:20220928T193608Z
LAST-MODIFIED:20220928T193608Z
UID:10002706-1652004000-1652011200@aishstl.com
SUMMARY:Aish Adult Sunday class with Rabbi Shmuel Greenwald
DESCRIPTION:Join me this Sunday morning in person at TICK or on zoom as we continue our discussions on how the lessons of the Torah can help us prepare for the new week ahead. For more information\, call Aish at 314-862-2474 or email me at sgreenwald@aish.com.  Masks now optional.  Tpheris Israel Chevra Kadisha\, 14550 Ladue Road\, Chesterfield\, MO 63017\nzoom.us/j/3740953378    Dial in:  1-312-626-6799\, 3740953378\nLooking forward\,\nShmuel
URL:https://aishstl.com/event/aish-adult-sunday-class-with-rabbi-shmuel-greenwald-2022-03-20/2022-05-08/
LOCATION:Tpheris Israel Chevra Kadisha (TICK)\, 14550 Ladue Road\, Chesterfield\, 63017
ATTACH;FMTTYPE=image/jpeg:https://aishstl.com/wordpress/wp-content/uploads/2018/09/Rabbi-Greenwald3-1.jpg
ORGANIZER;CN="Aish Hatorah of St. Louis":MAILTO:cgoldstein@aishstl.com
GEO:38.665962;-90.5294009
X-APPLE-STRUCTURED-LOCATION;VALUE=URI;X-ADDRESS=Tpheris Israel Chevra Kadisha (TICK) 14550 Ladue Road Chesterfield 63017;X-APPLE-RADIUS=500;X-TITLE=14550 Ladue Road:geo:-90.5294009,38.665962
END:VEVENT
BEGIN:VEVENT
DTSTART;VALUE=DATE:20220509
DTEND;VALUE=DATE:20220510
DTSTAMP:20260423T053222
CREATED:20220428T174840Z
LAST-MODIFIED:20220428T174840Z
UID:10002789-1652054400-1652140799@aishstl.com
SUMMARY:Count Omer 24 tonight
DESCRIPTION:
URL:https://aishstl.com/event/count-omer-24-tonight/
LOCATION:MO
ORGANIZER;CN="Aish Hatorah of St. Louis":MAILTO:cgoldstein@aishstl.com
END:VEVENT
BEGIN:VEVENT
DTSTART;VALUE=DATE:20220510
DTEND;VALUE=DATE:20220511
DTSTAMP:20260423T053222
CREATED:20220428T174915Z
LAST-MODIFIED:20220428T174915Z
UID:10002790-1652140800-1652227199@aishstl.com
SUMMARY:Count Omer 25 tonight
DESCRIPTION:
URL:https://aishstl.com/event/count-omer-25-tonight/
LOCATION:MO
ORGANIZER;CN="Aish Hatorah of St. Louis":MAILTO:cgoldstein@aishstl.com
END:VEVENT
BEGIN:VEVENT
DTSTART;VALUE=DATE:20220511
DTEND;VALUE=DATE:20220512
DTSTAMP:20260423T053222
CREATED:20220428T175013Z
LAST-MODIFIED:20220428T175133Z
UID:10002791-1652227200-1652313599@aishstl.com
SUMMARY:Count Omer 26 tonight
DESCRIPTION:
URL:https://aishstl.com/event/count-omer-26-tonight/
LOCATION:MO
ORGANIZER;CN="Aish Hatorah of St. Louis":MAILTO:cgoldstein@aishstl.com
END:VEVENT
BEGIN:VEVENT
DTSTART;VALUE=DATE:20220512
DTEND;VALUE=DATE:20220513
DTSTAMP:20260423T053222
CREATED:20220428T175353Z
LAST-MODIFIED:20220428T175353Z
UID:10002792-1652313600-1652399999@aishstl.com
SUMMARY:Count Omer 27 tonight
DESCRIPTION:
URL:https://aishstl.com/event/count-omer-27-tonight/
LOCATION:MO
ORGANIZER;CN="Aish Hatorah of St. Louis":MAILTO:cgoldstein@aishstl.com
END:VEVENT
BEGIN:VEVENT
DTSTART;VALUE=DATE:20220513
DTEND;VALUE=DATE:20220514
DTSTAMP:20260423T053223
CREATED:20220428T175441Z
LAST-MODIFIED:20220428T175441Z
UID:10002793-1652400000-1652486399@aishstl.com
SUMMARY:Count Omer 28 tonight
DESCRIPTION:
URL:https://aishstl.com/event/count-omer-28-tonight/
LOCATION:MO
ORGANIZER;CN="Aish Hatorah of St. Louis":MAILTO:cgoldstein@aishstl.com
END:VEVENT
BEGIN:VEVENT
DTSTART;VALUE=DATE:20220514
DTEND;VALUE=DATE:20220515
DTSTAMP:20260423T053223
CREATED:20220428T175526Z
LAST-MODIFIED:20220428T175526Z
UID:10002794-1652486400-1652572799@aishstl.com
SUMMARY:Count Omer 29 tonight
DESCRIPTION:
URL:https://aishstl.com/event/count-omer-29-tonight/
LOCATION:MO
ORGANIZER;CN="Aish Hatorah of St. Louis":MAILTO:cgoldstein@aishstl.com
END:VEVENT
BEGIN:VEVENT
DTSTART;VALUE=DATE:20220515
DTEND;VALUE=DATE:20220516
DTSTAMP:20260423T053223
CREATED:20220428T175613Z
LAST-MODIFIED:20220428T175613Z
UID:10002795-1652572800-1652659199@aishstl.com
SUMMARY:Count Omer 30 tonight
DESCRIPTION:
URL:https://aishstl.com/event/count-omer-30-tonight/
LOCATION:MO
ORGANIZER;CN="Aish Hatorah of St. Louis":MAILTO:cgoldstein@aishstl.com
END:VEVENT
BEGIN:VEVENT
DTSTART;TZID=America/Chicago:20220515T090000
DTEND;TZID=America/Chicago:20220515T100000
DTSTAMP:20260423T053223
CREATED:20220428T192632Z
LAST-MODIFIED:20220506T152119Z
UID:10002820-1652605200-1652608800@aishstl.com
SUMMARY:Bagels & Breakfast with Rabbi Yosef David at Kohn's
DESCRIPTION:Join me for breakfast and “Wisdom for Living from Pirkei Avot” this Sunday morning!\nLooking forward\,\nYosef
URL:https://aishstl.com/event/bagels-breakfast-with-rabbi-yosef-david-at-kohns/2022-05-15/
LOCATION:Kohn’s Deli\, 10405 Old Olive Street Road\, Creve Coeur\, MO\, 63141\, United States
ATTACH;FMTTYPE=image/jpeg:https://aishstl.com/wordpress/wp-content/uploads/2022/04/pirkeiavotr.d81TVnK4LKNL._AC_UL320_-e1651173803811.jpg
ORGANIZER;CN="Aish Hatorah of St. Louis":MAILTO:cgoldstein@aishstl.com
GEO:38.675859;-90.40869
X-APPLE-STRUCTURED-LOCATION;VALUE=URI;X-ADDRESS=Kohn’s Deli 10405 Old Olive Street Road Creve Coeur MO 63141 United States;X-APPLE-RADIUS=500;X-TITLE=10405 Old Olive Street Road:geo:-90.40869,38.675859
END:VEVENT
BEGIN:VEVENT
DTSTART;TZID=America/Chicago:20220515T100000
DTEND;TZID=America/Chicago:20220515T120000
DTSTAMP:20260423T053223
CREATED:20220303T051805Z
LAST-MODIFIED:20220422T164608Z
UID:10002699-1652608800-1652616000@aishstl.com
SUMMARY:Aish Adult Sunday class with Rabbi Shmuel Greenwald
DESCRIPTION:Join me this Sunday morning in person at TICK or on zoom as we continue our discussions on how the lessons of the Torah can help us prepare for the new week ahead. For more information\, call Aish at 314-862-2474 or email me at sgreenwald@aish.com.  Masks now optional.  Tpheris Israel Chevra Kadisha\, 14550 Ladue Road\, Chesterfield\, MO 63017\nzoom.us/j/3740953378    Dial in:  1-312-626-6799\, 3740953378\nLooking forward\,\nShmuel
URL:https://aishstl.com/event/aish-adult-sunday-class-with-rabbi-shmuel-greenwald-2022-03-20/2022-05-15/
LOCATION:Tpheris Israel Chevra Kadisha (TICK)\, 14550 Ladue Road\, Chesterfield\, 63017
ATTACH;FMTTYPE=image/jpeg:https://aishstl.com/wordpress/wp-content/uploads/2018/09/Rabbi-Greenwald3-1.jpg
ORGANIZER;CN="Aish Hatorah of St. Louis":MAILTO:cgoldstein@aishstl.com
GEO:38.665962;-90.5294009
X-APPLE-STRUCTURED-LOCATION;VALUE=URI;X-ADDRESS=Tpheris Israel Chevra Kadisha (TICK) 14550 Ladue Road Chesterfield 63017;X-APPLE-RADIUS=500;X-TITLE=14550 Ladue Road:geo:-90.5294009,38.665962
END:VEVENT
BEGIN:VEVENT
DTSTART;TZID=America/Chicago:20220515T100000
DTEND;TZID=America/Chicago:20220515T120000
DTSTAMP:20260423T053223
CREATED:20220928T193608Z
LAST-MODIFIED:20220928T193608Z
UID:10002707-1652608800-1652616000@aishstl.com
SUMMARY:Aish Adult Sunday class with Rabbi Shmuel Greenwald
DESCRIPTION:Join me this Sunday morning in person at TICK or on zoom as we continue our discussions on how the lessons of the Torah can help us prepare for the new week ahead. For more information\, call Aish at 314-862-2474 or email me at sgreenwald@aish.com.  Masks now optional.  Tpheris Israel Chevra Kadisha\, 14550 Ladue Road\, Chesterfield\, MO 63017\nzoom.us/j/3740953378    Dial in:  1-312-626-6799\, 3740953378\nLooking forward\,\nShmuel
URL:https://aishstl.com/event/aish-adult-sunday-class-with-rabbi-shmuel-greenwald-2022-03-20/2022-05-15/
LOCATION:Tpheris Israel Chevra Kadisha (TICK)\, 14550 Ladue Road\, Chesterfield\, 63017
ATTACH;FMTTYPE=image/jpeg:https://aishstl.com/wordpress/wp-content/uploads/2018/09/Rabbi-Greenwald3-1.jpg
ORGANIZER;CN="Aish Hatorah of St. Louis":MAILTO:cgoldstein@aishstl.com
GEO:38.665962;-90.5294009
X-APPLE-STRUCTURED-LOCATION;VALUE=URI;X-ADDRESS=Tpheris Israel Chevra Kadisha (TICK) 14550 Ladue Road Chesterfield 63017;X-APPLE-RADIUS=500;X-TITLE=14550 Ladue Road:geo:-90.5294009,38.665962
END:VEVENT
BEGIN:VEVENT
DTSTART;VALUE=DATE:20220516
DTEND;VALUE=DATE:20220517
DTSTAMP:20260423T053223
CREATED:20220428T180337Z
LAST-MODIFIED:20220428T193047Z
UID:10002796-1652659200-1652745599@aishstl.com
SUMMARY:Count Omer 31 tonight
DESCRIPTION:
URL:https://aishstl.com/event/count-omer-31-tonight/
LOCATION:MO
ORGANIZER;CN="Aish Hatorah of St. Louis":MAILTO:cgoldstein@aishstl.com
END:VEVENT
BEGIN:VEVENT
DTSTART;VALUE=DATE:20220517
DTEND;VALUE=DATE:20220518
DTSTAMP:20260423T053223
CREATED:20220428T180420Z
LAST-MODIFIED:20220428T180420Z
UID:10002797-1652745600-1652831999@aishstl.com
SUMMARY:Count Omer 32 tonight
DESCRIPTION:
URL:https://aishstl.com/event/count-omer-32-tonight/
LOCATION:MO
ORGANIZER;CN="Aish Hatorah of St. Louis":MAILTO:cgoldstein@aishstl.com
END:VEVENT
END:VCALENDAR