BEGIN:VCALENDAR
VERSION:2.0
PRODID:-//Aish St. Louis - ECPv6.15.18//NONSGML v1.0//EN
CALSCALE:GREGORIAN
METHOD:PUBLISH
X-ORIGINAL-URL:https://aishstl.com
X-WR-CALDESC:Events for Aish St. Louis
REFRESH-INTERVAL;VALUE=DURATION:PT1H
X-Robots-Tag:noindex
X-PUBLISHED-TTL:PT1H
BEGIN:VTIMEZONE
TZID:America/Chicago
BEGIN:DAYLIGHT
TZOFFSETFROM:-0600
TZOFFSETTO:-0500
TZNAME:CDT
DTSTART:20200308T080000
END:DAYLIGHT
BEGIN:STANDARD
TZOFFSETFROM:-0500
TZOFFSETTO:-0600
TZNAME:CST
DTSTART:20201101T070000
END:STANDARD
BEGIN:DAYLIGHT
TZOFFSETFROM:-0600
TZOFFSETTO:-0500
TZNAME:CDT
DTSTART:20210314T080000
END:DAYLIGHT
BEGIN:STANDARD
TZOFFSETFROM:-0500
TZOFFSETTO:-0600
TZNAME:CST
DTSTART:20211107T070000
END:STANDARD
BEGIN:DAYLIGHT
TZOFFSETFROM:-0600
TZOFFSETTO:-0500
TZNAME:CDT
DTSTART:20220313T080000
END:DAYLIGHT
BEGIN:STANDARD
TZOFFSETFROM:-0500
TZOFFSETTO:-0600
TZNAME:CST
DTSTART:20221106T070000
END:STANDARD
END:VTIMEZONE
BEGIN:VEVENT
DTSTART;TZID=America/Chicago:20210303T200000
DTEND;TZID=America/Chicago:20210303T210000
DTSTAMP:20260423T145456
CREATED:20210101T162811Z
LAST-MODIFIED:20210226T162402Z
UID:10002256-1614801600-1614805200@aishstl.com
SUMMARY:Virtual Journey through Emunah with Mimi David -- (presented by Eishes Chayil\, women's division of the St. Louis Kollel)
DESCRIPTION:Join Mimi David on an informative and empowering Journey through Emunah Series — a 12-step program that meets on the first Monday of each month throughout 2021.  Cost is $10 per class. To sign up and get zoom login\, please contact Mrs. Gabrielle Solomon by emailing gsolomon@stlkollel.com. \n 
URL:https://aishstl.com/event/journey-through-emunah-a-new-virtual-12-step-series-with-mimi-david-presented-by-eishes-chayil-womens-division-of-the-st-louis-kollel-2021-03-01/
LOCATION:Your home
ATTACH;FMTTYPE=image/jpeg:https://aishstl.com/wordpress/wp-content/uploads/2021/01/Mimi-pic-Emunah-series-2021.jpeg
ORGANIZER;CN="Mimi David/Eishes Chayil (Women's Division of St. Louis Kollel)":MAILTO:gsolomon@stlkollel.com
END:VEVENT
BEGIN:VEVENT
DTSTART;TZID=America/Chicago:20210307T100000
DTEND;TZID=America/Chicago:20210307T110000
DTSTAMP:20260423T145456
CREATED:20210113T181413Z
LAST-MODIFIED:20210312T034248Z
UID:10002265-1615111200-1615114800@aishstl.com
SUMMARY:Passover -- The Secrets of the Haggadah 3-Part Series -- Aish Virtual Sunday class with Rabbi Shmuel Greenwald
DESCRIPTION:I invite you to join me for three engaging discussions about The Secrets of the Haggadah.  Hidden in Passover is the key to spiritual freedom.  Every word of the Haggadah was chosen and every paragraph follows the next.  Let’s understand its secrets.\nzoom.us/j/3740953378  Dial in:  1-312-626-6799 \nVideo for Part 1 (March 7th) in case you missed it!
URL:https://aishstl.com/event/passover-the-secrets-of-the-haggadah-aish-virtual-sunday-class-with-rabbi-shmuel-greenwald/2021-03-07/
LOCATION:Your home
ORGANIZER;CN="Aish Hatorah of St. Louis":MAILTO:cgoldstein@aishstl.com
END:VEVENT
BEGIN:VEVENT
DTSTART;TZID=America/Chicago:20210310T193000
DTEND;TZID=America/Chicago:20210310T203000
DTSTAMP:20260423T145456
CREATED:20210113T183517Z
LAST-MODIFIED:20210305T155356Z
UID:10002268-1615404600-1615408200@aishstl.com
SUMMARY:Introduction to Mussar -- Virtual 3-Part Series with Rabbi Shmuel Greenwald
DESCRIPTION:I invite you to join me for this fascinating Introduction to Mussar Series that delves into this ancient Jewish practice of character development and refinement.\nMussar isn’t just something you learn\, it’s something you do!   Topics discussed:  Hello\, Mr. Soul; Your Curriculum; Practically Speaking. \nzoom.us/j/3740953378  Dial in:  1-312-626-6799   meeting ID:  3740953378
URL:https://aishstl.com/event/introduction-to-mussar-3-part-series-virtual-class-with-rabbi-shmuel-greenwald/2021-03-10/
LOCATION:Your home
ATTACH;FMTTYPE=image/jpeg:https://aishstl.com/wordpress/wp-content/uploads/2019/09/sgreenwald_c-1.jpg
ORGANIZER;CN="Aish Hatorah of St. Louis":MAILTO:cgoldstein@aishstl.com
END:VEVENT
BEGIN:VEVENT
DTSTART;TZID=America/Chicago:20210314T093000
DTEND;TZID=America/Chicago:20210314T113000
DTSTAMP:20260423T145456
CREATED:20201124T185917Z
LAST-MODIFIED:20210312T032336Z
UID:10002232-1615714200-1615721400@aishstl.com
SUMMARY:Virtual Aish Hebrew School
DESCRIPTION:Spring forward this Sunday morning\, 3/14/2021!  Just a reminder that we lose an hour this weekend and change our clocks to an hour later this Sunday morning.  Hebrew School will still meet at our regular time and we don’t want anyone to miss it! \nLooking ahead to the next few weeks: \nMarch 14 – Regular session \nMarch 21 – Regular session \nMarch 28 – NO AISH\, Passover break \nApril 4 – NO AISH\, Passover break \nPlease email or call me if you have any questions. \nThanks again for sending your children to Aish! \nRachael Kornblum\nAish Hebrew School Director
URL:https://aishstl.com/event/virtual-aish-hebrew-school-winter-break-dec-27th-jan-3-2021-2021-03-14/
LOCATION:Your home
ATTACH;FMTTYPE=image/jpeg:https://aishstl.com/wordpress/wp-content/uploads/2018/04/Photo-Oct-08-11-58-00-AM-1.jpg
ORGANIZER;CN="Aish Hatorah of St. Louis":MAILTO:cgoldstein@aishstl.com
END:VEVENT
BEGIN:VEVENT
DTSTART;TZID=America/Chicago:20210314T100000
DTEND;TZID=America/Chicago:20210314T110000
DTSTAMP:20260423T145456
CREATED:20210113T181413Z
LAST-MODIFIED:20210312T034248Z
UID:10002266-1615716000-1615719600@aishstl.com
SUMMARY:Passover -- The Secrets of the Haggadah 3-Part Series -- Aish Virtual Sunday class with Rabbi Shmuel Greenwald
DESCRIPTION:I invite you to join me for three engaging discussions about The Secrets of the Haggadah.  Hidden in Passover is the key to spiritual freedom.  Every word of the Haggadah was chosen and every paragraph follows the next.  Let’s understand its secrets.\nzoom.us/j/3740953378  Dial in:  1-312-626-6799 \nVideo for Part 1 (March 7th) in case you missed it!
URL:https://aishstl.com/event/passover-the-secrets-of-the-haggadah-aish-virtual-sunday-class-with-rabbi-shmuel-greenwald/2021-03-14/
LOCATION:Your home
ORGANIZER;CN="Aish Hatorah of St. Louis":MAILTO:cgoldstein@aishstl.com
END:VEVENT
BEGIN:VEVENT
DTSTART;TZID=America/Chicago:20210317T193000
DTEND;TZID=America/Chicago:20210317T203000
DTSTAMP:20260423T145456
CREATED:20210113T183517Z
LAST-MODIFIED:20210305T155356Z
UID:10002269-1616009400-1616013000@aishstl.com
SUMMARY:Introduction to Mussar -- Virtual 3-Part Series with Rabbi Shmuel Greenwald
DESCRIPTION:I invite you to join me for this fascinating Introduction to Mussar Series that delves into this ancient Jewish practice of character development and refinement.\nMussar isn’t just something you learn\, it’s something you do!   Topics discussed:  Hello\, Mr. Soul; Your Curriculum; Practically Speaking. \nzoom.us/j/3740953378  Dial in:  1-312-626-6799   meeting ID:  3740953378
URL:https://aishstl.com/event/introduction-to-mussar-3-part-series-virtual-class-with-rabbi-shmuel-greenwald/2021-03-17/
LOCATION:Your home
ATTACH;FMTTYPE=image/jpeg:https://aishstl.com/wordpress/wp-content/uploads/2019/09/sgreenwald_c-1.jpg
ORGANIZER;CN="Aish Hatorah of St. Louis":MAILTO:cgoldstein@aishstl.com
END:VEVENT
BEGIN:VEVENT
DTSTART;TZID=America/Chicago:20210321T100000
DTEND;TZID=America/Chicago:20210321T110000
DTSTAMP:20260423T145456
CREATED:20210113T181413Z
LAST-MODIFIED:20210312T034248Z
UID:10002267-1616320800-1616324400@aishstl.com
SUMMARY:Passover -- The Secrets of the Haggadah 3-Part Series -- Aish Virtual Sunday class with Rabbi Shmuel Greenwald
DESCRIPTION:I invite you to join me for three engaging discussions about The Secrets of the Haggadah.  Hidden in Passover is the key to spiritual freedom.  Every word of the Haggadah was chosen and every paragraph follows the next.  Let’s understand its secrets.\nzoom.us/j/3740953378  Dial in:  1-312-626-6799 \nVideo for Part 1 (March 7th) in case you missed it!
URL:https://aishstl.com/event/passover-the-secrets-of-the-haggadah-aish-virtual-sunday-class-with-rabbi-shmuel-greenwald/2021-03-21/
LOCATION:Your home
ORGANIZER;CN="Aish Hatorah of St. Louis":MAILTO:cgoldstein@aishstl.com
END:VEVENT
BEGIN:VEVENT
DTSTART;TZID=America/Chicago:20210323T200000
DTEND;TZID=America/Chicago:20210323T210000
DTSTAMP:20260423T145456
CREATED:20210318T153137Z
LAST-MODIFIED:20210318T181456Z
UID:10002286-1616529600-1616533200@aishstl.com
SUMMARY:Aish "Bring-Passover-to-Life-Box" Unpacking with Rabbi David & Rabbi Greenwald
DESCRIPTION:Join us for an “Unpacking” of  the Seder Box you ordered to help you lead an interactive\, meaningful and inspiring Seder. Items included in your box:\nBedikat Chametz Kit (Searching for the Chametz)\nMake Your Own Charoses Kit\nKiddush Cup\nSeder on a Card\nPassover table/menu checklists\nPassover Recipes\nDiscussion questions\nGames and lots more!!\n\nJoin zoom.us/j/9699246316\nDial in:  1-312-626-6799\, meeting ID 9699246316\n\n\n\nFrom our families to yours\, we wish you a Happy Passover filled with peace\, joy and many blessings!\n\n\n \n\nAll the best\,\nRabbi Yosef & Mimi David & Rabbi Shmuel & Chana Greenwald\n\nThere’s still time to order your “Bring-Passover-to-Life Box” by tomorrow\, Friday\, March 19th\, by contacting the Aish office at 314-862-2474 or by emailing cwolff@aish.com.\nSuggestion donation: $25 a box\nBox pickup at Aish from 4 pm – 6 pm Monday\, March 22nd through Thursday\, March 25th
URL:https://aishstl.com/event/aish-bring-passover-to-life-box-unpacking-with-rabbi-david-rabbi-greenwald/
LOCATION:Your home
ATTACH;FMTTYPE=image/jpeg:https://aishstl.com/wordpress/wp-content/uploads/2021/03/Seder.jpg
ORGANIZER;CN="Aish Hatorah of St. Louis":MAILTO:cgoldstein@aishstl.com
END:VEVENT
BEGIN:VEVENT
DTSTART;TZID=America/Chicago:20210324T193000
DTEND;TZID=America/Chicago:20210324T203000
DTSTAMP:20260423T145456
CREATED:20210113T183517Z
LAST-MODIFIED:20210305T155356Z
UID:10002270-1616614200-1616617800@aishstl.com
SUMMARY:Introduction to Mussar -- Virtual 3-Part Series with Rabbi Shmuel Greenwald
DESCRIPTION:I invite you to join me for this fascinating Introduction to Mussar Series that delves into this ancient Jewish practice of character development and refinement.\nMussar isn’t just something you learn\, it’s something you do!   Topics discussed:  Hello\, Mr. Soul; Your Curriculum; Practically Speaking. \nzoom.us/j/3740953378  Dial in:  1-312-626-6799   meeting ID:  3740953378
URL:https://aishstl.com/event/introduction-to-mussar-3-part-series-virtual-class-with-rabbi-shmuel-greenwald/2021-03-24/
LOCATION:Your home
ATTACH;FMTTYPE=image/jpeg:https://aishstl.com/wordpress/wp-content/uploads/2019/09/sgreenwald_c-1.jpg
ORGANIZER;CN="Aish Hatorah of St. Louis":MAILTO:cgoldstein@aishstl.com
END:VEVENT
BEGIN:VEVENT
DTSTART;TZID=America/Chicago:20210327T203000
DTEND;TZID=America/Chicago:20210327T233000
DTSTAMP:20260423T145456
CREATED:20210316T200912Z
LAST-MODIFIED:20210316T200912Z
UID:10002276-1616877000-1616887800@aishstl.com
SUMMARY:Passover -- Seder 1
DESCRIPTION:
URL:https://aishstl.com/event/passover-seder-1/
LOCATION:Your home
ATTACH;FMTTYPE=image/jpeg:https://aishstl.com/wordpress/wp-content/uploads/2021/03/passover1001620058.thb_.jpg
END:VEVENT
BEGIN:VEVENT
DTSTART;VALUE=DATE:20210328
DTEND;VALUE=DATE:20210329
DTSTAMP:20260423T145456
CREATED:20201019T195050Z
LAST-MODIFIED:20210226T162135Z
UID:10002210-1616889600-1616975999@aishstl.com
SUMMARY:Aish Virtual Adult Sunday Class with Rabbi Shmuel Greenwald  -- Passover Break -- March 28th - April 4th
DESCRIPTION:I wish you and your families a wonderful Passover and look forward to seeing you on April 11th. \nBe well\, \nRabbi Greenwald
URL:https://aishstl.com/event/aish-virtual-adult-sunday-class-with-rabbi-shmuel-greenwald-3-2021-03-28/
LOCATION:Your home
ATTACH;FMTTYPE=image/jpeg:https://aishstl.com/wordpress/wp-content/uploads/2019/09/sgreenwald_a-e1674595706751.jpg
ORGANIZER;CN="Aish Hatorah of St. Louis":MAILTO:cgoldstein@aishstl.com
END:VEVENT
BEGIN:VEVENT
DTSTART;VALUE=DATE:20210328
DTEND;VALUE=DATE:20210329
DTSTAMP:20260423T145456
CREATED:20210316T201016Z
LAST-MODIFIED:20210316T201016Z
UID:10002277-1616889600-1616975999@aishstl.com
SUMMARY:Passover -- Seder 2
DESCRIPTION:
URL:https://aishstl.com/event/passover-seder-2/
LOCATION:Your home
ATTACH;FMTTYPE=image/jpeg:https://aishstl.com/wordpress/wp-content/uploads/2021/03/passover1001620058.thb_.jpg
END:VEVENT
BEGIN:VEVENT
DTSTART;TZID=America/Chicago:20210328T093000
DTEND;TZID=America/Chicago:20210328T113000
DTSTAMP:20260423T145456
CREATED:20201124T185917Z
LAST-MODIFIED:20210106T163555Z
UID:10002233-1616923800-1616931000@aishstl.com
SUMMARY:Virtual Aish Hebrew School -- Passover Break -- Sun.\, March 28th - Sun.\, April 4th
DESCRIPTION:We wish you and your family a wonderful Passover and look forward to seeing you again on Sunday\, April 11th for both our virtual HSA session and meeting with your local teachers.  I’ll send you the logins before class begins. \nPlease email or call me if you have any questions. \nRachael Kornblum\nAish Hebrew School Director
URL:https://aishstl.com/event/virtual-aish-hebrew-school-winter-break-dec-27th-jan-3-2021-2021-03-28/
LOCATION:Your home
ATTACH;FMTTYPE=image/jpeg:https://aishstl.com/wordpress/wp-content/uploads/2018/04/Photo-Oct-01-11-52-52-AM-2.jpg
ORGANIZER;CN="Aish Hatorah of St. Louis":MAILTO:cgoldstein@aishstl.com
END:VEVENT
BEGIN:VEVENT
DTSTART;TZID=America/Chicago:20210328T200000
DTEND;TZID=America/Chicago:20210328T233000
DTSTAMP:20260423T145456
CREATED:20210316T201204Z
LAST-MODIFIED:20210402T035135Z
UID:10002278-1616961600-1616974200@aishstl.com
SUMMARY:Passover -- 2nd day of Passover -- Count the Omer 1
DESCRIPTION:
URL:https://aishstl.com/event/passover-2nd-day-of-passover-count-the-omer-1/
LOCATION:MO
END:VEVENT
BEGIN:VEVENT
DTSTART;VALUE=DATE:20210329
DTEND;VALUE=DATE:20210330
DTSTAMP:20260423T145456
CREATED:20210316T201354Z
LAST-MODIFIED:20210402T035022Z
UID:10002279-1616976000-1617062399@aishstl.com
SUMMARY:Passover - 2nd day -- Count Omer 2
DESCRIPTION:
URL:https://aishstl.com/event/passover-2nd-day-count-omer-2/
LOCATION:MO
END:VEVENT
BEGIN:VEVENT
DTSTART;VALUE=DATE:20210330
DTEND;VALUE=DATE:20210331
DTSTAMP:20260423T145456
CREATED:20210316T201516Z
LAST-MODIFIED:20210402T035244Z
UID:10002280-1617062400-1617148799@aishstl.com
SUMMARY:Passover -- Count Omer 3
DESCRIPTION:
URL:https://aishstl.com/event/passover-count-omer-3/
LOCATION:MO
END:VEVENT
BEGIN:VEVENT
DTSTART;VALUE=DATE:20210331
DTEND;VALUE=DATE:20210401
DTSTAMP:20260423T145456
CREATED:20210316T201551Z
LAST-MODIFIED:20210402T035315Z
UID:10002281-1617148800-1617235199@aishstl.com
SUMMARY:Passover -- Count Omer 4
DESCRIPTION:
URL:https://aishstl.com/event/passover-count-omer-4/
LOCATION:MO
END:VEVENT
END:VCALENDAR