BEGIN:VCALENDAR
VERSION:2.0
PRODID:-//Aish St. Louis - ECPv6.15.18//NONSGML v1.0//EN
CALSCALE:GREGORIAN
METHOD:PUBLISH
X-ORIGINAL-URL:https://aishstl.com
X-WR-CALDESC:Events for Aish St. Louis
REFRESH-INTERVAL;VALUE=DURATION:PT1H
X-Robots-Tag:noindex
X-PUBLISHED-TTL:PT1H
BEGIN:VTIMEZONE
TZID:America/Chicago
BEGIN:DAYLIGHT
TZOFFSETFROM:-0600
TZOFFSETTO:-0500
TZNAME:CDT
DTSTART:20200308T080000
END:DAYLIGHT
BEGIN:STANDARD
TZOFFSETFROM:-0500
TZOFFSETTO:-0600
TZNAME:CST
DTSTART:20201101T070000
END:STANDARD
BEGIN:DAYLIGHT
TZOFFSETFROM:-0600
TZOFFSETTO:-0500
TZNAME:CDT
DTSTART:20210314T080000
END:DAYLIGHT
BEGIN:STANDARD
TZOFFSETFROM:-0500
TZOFFSETTO:-0600
TZNAME:CST
DTSTART:20211107T070000
END:STANDARD
BEGIN:DAYLIGHT
TZOFFSETFROM:-0600
TZOFFSETTO:-0500
TZNAME:CDT
DTSTART:20220313T080000
END:DAYLIGHT
BEGIN:STANDARD
TZOFFSETFROM:-0500
TZOFFSETTO:-0600
TZNAME:CST
DTSTART:20221106T070000
END:STANDARD
END:VTIMEZONE
BEGIN:VEVENT
DTSTART;TZID=America/Chicago:20210103T100000
DTEND;TZID=America/Chicago:20210103T110000
DTSTAMP:20260423T185629
CREATED:20201019T195050Z
LAST-MODIFIED:20210412T162952Z
UID:10002197-1609668000-1609671600@aishstl.com
SUMMARY:Aish Virtual Adult Sunday Class with Rabbi Shmuel Greenwald
DESCRIPTION:I look forward to connecting with you during my Sunday class for inspirational and educational discussions to help you navigate through these continuing challenging times. \nBe well\, \nRabbi Greenwald \nzoom.us/j/3740953378  Meeting ID: 374 095 3378\nDial in:  1+312-626-6799\, 3740953378#
URL:https://aishstl.com/event/aish-virtual-adult-sunday-class-with-rabbi-shmuel-greenwald-3/2021-01-03/
LOCATION:Your home
ATTACH;FMTTYPE=image/jpeg:https://aishstl.com/wordpress/wp-content/uploads/2019/09/sgreenwald_a-e1674595706751.jpg
ORGANIZER;CN="Aish Hatorah of St. Louis":MAILTO:cgoldstein@aishstl.com
END:VEVENT
BEGIN:VEVENT
DTSTART;TZID=America/Chicago:20210110T100000
DTEND;TZID=America/Chicago:20210110T110000
DTSTAMP:20260423T185629
CREATED:20201019T195050Z
LAST-MODIFIED:20210412T162952Z
UID:10002198-1610272800-1610276400@aishstl.com
SUMMARY:Aish Virtual Adult Sunday Class with Rabbi Shmuel Greenwald
DESCRIPTION:I look forward to connecting with you during my Sunday class for inspirational and educational discussions to help you navigate through these continuing challenging times. \nBe well\, \nRabbi Greenwald \nzoom.us/j/3740953378  Meeting ID: 374 095 3378\nDial in:  1+312-626-6799\, 3740953378#
URL:https://aishstl.com/event/aish-virtual-adult-sunday-class-with-rabbi-shmuel-greenwald-3/2021-01-10/
LOCATION:Your home
ATTACH;FMTTYPE=image/jpeg:https://aishstl.com/wordpress/wp-content/uploads/2019/09/sgreenwald_a-e1674595706751.jpg
ORGANIZER;CN="Aish Hatorah of St. Louis":MAILTO:cgoldstein@aishstl.com
END:VEVENT
BEGIN:VEVENT
DTSTART;TZID=America/Chicago:20210117T093000
DTEND;TZID=America/Chicago:20210117T113000
DTSTAMP:20260423T185629
CREATED:20201124T185917Z
LAST-MODIFIED:20210106T164529Z
UID:10002231-1610875800-1610883000@aishstl.com
SUMMARY:Virtual Aish Hebrew School -- No Session
DESCRIPTION:We will not meet this Sunday and look forward to seeing you next Sunday\, January 24th for our virtual HSA and then classes with your teachers.  I’ll send you the logins before class begins. \nPlease email or call me if you have any questions. \nRachael Kornblum\nAish Hebrew School Director
URL:https://aishstl.com/event/virtual-aish-hebrew-school-winter-break-dec-27th-jan-3-2021-2021-01-17/
LOCATION:Your home
ATTACH;FMTTYPE=image/jpeg:https://aishstl.com/wordpress/wp-content/uploads/2018/04/Photo-Oct-08-11-58-00-AM-1.jpg
ORGANIZER;CN="Aish Hatorah of St. Louis":MAILTO:cgoldstein@aishstl.com
END:VEVENT
BEGIN:VEVENT
DTSTART;TZID=America/Chicago:20210117T100000
DTEND;TZID=America/Chicago:20210117T110000
DTSTAMP:20260423T185629
CREATED:20201019T195050Z
LAST-MODIFIED:20210412T162952Z
UID:10002199-1610877600-1610881200@aishstl.com
SUMMARY:Aish Virtual Adult Sunday Class with Rabbi Shmuel Greenwald
DESCRIPTION:I look forward to connecting with you during my Sunday class for inspirational and educational discussions to help you navigate through these continuing challenging times. \nBe well\, \nRabbi Greenwald \nzoom.us/j/3740953378  Meeting ID: 374 095 3378\nDial in:  1+312-626-6799\, 3740953378#
URL:https://aishstl.com/event/aish-virtual-adult-sunday-class-with-rabbi-shmuel-greenwald-3/2021-01-17/
LOCATION:Your home
ATTACH;FMTTYPE=image/jpeg:https://aishstl.com/wordpress/wp-content/uploads/2019/09/sgreenwald_a-e1674595706751.jpg
ORGANIZER;CN="Aish Hatorah of St. Louis":MAILTO:cgoldstein@aishstl.com
END:VEVENT
BEGIN:VEVENT
DTSTART;TZID=America/Chicago:20210124T100000
DTEND;TZID=America/Chicago:20210124T110000
DTSTAMP:20260423T185629
CREATED:20201019T195050Z
LAST-MODIFIED:20210412T162952Z
UID:10002200-1611482400-1611486000@aishstl.com
SUMMARY:Aish Virtual Adult Sunday Class with Rabbi Shmuel Greenwald
DESCRIPTION:I look forward to connecting with you during my Sunday class for inspirational and educational discussions to help you navigate through these continuing challenging times. \nBe well\, \nRabbi Greenwald \nzoom.us/j/3740953378  Meeting ID: 374 095 3378\nDial in:  1+312-626-6799\, 3740953378#
URL:https://aishstl.com/event/aish-virtual-adult-sunday-class-with-rabbi-shmuel-greenwald-3/2021-01-24/
LOCATION:Your home
ATTACH;FMTTYPE=image/jpeg:https://aishstl.com/wordpress/wp-content/uploads/2019/09/sgreenwald_a-e1674595706751.jpg
ORGANIZER;CN="Aish Hatorah of St. Louis":MAILTO:cgoldstein@aishstl.com
END:VEVENT
BEGIN:VEVENT
DTSTART;TZID=America/Chicago:20210127T190000
DTEND;TZID=America/Chicago:20210127T200000
DTSTAMP:20260423T185629
CREATED:20210113T171139Z
LAST-MODIFIED:20210122T164624Z
UID:10002261-1611774000-1611777600@aishstl.com
SUMMARY:Counting Our Blessings! for Men & Women -- Virtual Tu B'Shevat class with Rabbi Shmuel Greenwald
DESCRIPTION:Join Rabbi Greenwald for this enlightening class about Tu B’Shevat — the New Year for the Fruit of the Trees with a plethora of fruits of different shapes\, sizes\, colors and smells.  Part of spirituality is learning to appreciate.\nI look forward\,\nShmuel\nZoom.us/j/3740953378  Dial in: 1-312-626-6799\, meeting ID 3740953378
URL:https://aishstl.com/event/count-your-blessings-virtual-tu-bshevat-class-with-rabbi-shmuel-greenwald/
LOCATION:Your home
ATTACH;FMTTYPE=image/jpeg:https://aishstl.com/wordpress/wp-content/uploads/2018/09/Rabbi-Greenwald3-1.jpg
ORGANIZER;CN="Aish Hatorah of St. Louis":MAILTO:cgoldstein@aishstl.com
END:VEVENT
BEGIN:VEVENT
DTSTART;TZID=America/Chicago:20210127T200000
DTEND;TZID=America/Chicago:20210127T210000
DTSTAMP:20260423T185629
CREATED:20210113T180208Z
LAST-MODIFIED:20210122T181022Z
UID:10002264-1611777600-1611781200@aishstl.com
SUMMARY:Jewish Women's Society -- Virtual Tu B'Shevat Brachos Party for Women
DESCRIPTION:Join Mimi David for a fun Brachos Party to celebrate several different fruits at a Tu B’Shevat Seder.  Discover the power of brachos (blessings) and amen to bring blessing into the world.\nPlease try to have one of these food items for each of the blessings.\nMEZONOT: wheat cracker\, cookie\, pretzel\, rice cake   HAGAFEN: wine or grape juice\nHA’EITZ: any tree fruit (not banana) or nut (not peanuts)\nHA’ADAMA: any veggie or banana or peanuts  SHEHAKOL: chocolate\, candy\, water\, juice\nWe will then all take turns saying the blessing for each food item and responding amen to each other’s blessings.\nI look forward to seeing you on zoom\, \nMimi\nzoom.us/j/9699216346   Dial in:  1-312-626-6799\, meeting ID 9699246316
URL:https://aishstl.com/event/jewish-womens-society-virtual-brachot-party-for-tu-bshevat-with-mimi-david/
LOCATION:Your home
ATTACH;FMTTYPE=image/jpeg:https://aishstl.com/wordpress/wp-content/uploads/2020/03/Mimi-David4ec179ecb3d6323fc26931e600faf4e0738452.jpg
ORGANIZER;CN="Jewish Women's Society":MAILTO:cwolff@aish.com
END:VEVENT
BEGIN:VEVENT
DTSTART;TZID=America/Chicago:20210131T100000
DTEND;TZID=America/Chicago:20210131T110000
DTSTAMP:20260423T185629
CREATED:20201019T195050Z
LAST-MODIFIED:20210131T165208Z
UID:10002212-1612087200-1612090800@aishstl.com
SUMMARY:Aish Virtual Adult Sunday Class with Rabbi Shmuel Greenwald
DESCRIPTION:Cancelled — I’m in New York for the funeral of my wife\, Chana’s\, mother\, Mrs. Penina Gourdji\, (z”l) who passed away this past Thursday.  I look forward to connecting with you next Sunday for inspirational and educational discussions to help you navigate through these continuing challenging times. \nBe well\, \nRabbi Greenwald \nzoom.us/j/3740953378  Meeting ID: 374 095 3378\nDial in:  1+312-626-6799\, 3740953378#
URL:https://aishstl.com/event/aish-virtual-adult-sunday-class-with-rabbi-shmuel-greenwald-3-2021-01-31/
LOCATION:Your home
ATTACH;FMTTYPE=image/jpeg:https://aishstl.com/wordpress/wp-content/uploads/2019/09/sgreenwald_a-e1674595706751.jpg
ORGANIZER;CN="Aish Hatorah of St. Louis":MAILTO:cgoldstein@aishstl.com
END:VEVENT
END:VCALENDAR