BEGIN:VCALENDAR
VERSION:2.0
PRODID:-//Aish St. Louis - ECPv6.15.18//NONSGML v1.0//EN
CALSCALE:GREGORIAN
METHOD:PUBLISH
X-ORIGINAL-URL:https://aishstl.com
X-WR-CALDESC:Events for Aish St. Louis
REFRESH-INTERVAL;VALUE=DURATION:PT1H
X-Robots-Tag:noindex
X-PUBLISHED-TTL:PT1H
BEGIN:VTIMEZONE
TZID:UTC
BEGIN:STANDARD
TZOFFSETFROM:+0000
TZOFFSETTO:+0000
TZNAME:UTC
DTSTART:20170101T000000
END:STANDARD
END:VTIMEZONE
BEGIN:VTIMEZONE
TZID:America/Chicago
BEGIN:DAYLIGHT
TZOFFSETFROM:-0600
TZOFFSETTO:-0500
TZNAME:CDT
DTSTART:20180311T080000
END:DAYLIGHT
BEGIN:STANDARD
TZOFFSETFROM:-0500
TZOFFSETTO:-0600
TZNAME:CST
DTSTART:20181104T070000
END:STANDARD
BEGIN:DAYLIGHT
TZOFFSETFROM:-0600
TZOFFSETTO:-0500
TZNAME:CDT
DTSTART:20190310T080000
END:DAYLIGHT
BEGIN:STANDARD
TZOFFSETFROM:-0500
TZOFFSETTO:-0600
TZNAME:CST
DTSTART:20191103T070000
END:STANDARD
BEGIN:DAYLIGHT
TZOFFSETFROM:-0600
TZOFFSETTO:-0500
TZNAME:CDT
DTSTART:20200308T080000
END:DAYLIGHT
BEGIN:STANDARD
TZOFFSETFROM:-0500
TZOFFSETTO:-0600
TZNAME:CST
DTSTART:20201101T070000
END:STANDARD
END:VTIMEZONE
BEGIN:VEVENT
DTSTART;TZID=UTC:20200216T090000
DTEND;TZID=UTC:20200216T100000
DTSTAMP:20260421T145006
CREATED:20200124T013033Z
LAST-MODIFIED:20200124T015018Z
UID:10001827-1581843600-1581847200@aishstl.com
SUMMARY:Bagels & Breakfast for Men
DESCRIPTION:Join Rabbi Yosef David for breakfast and a lively Torah discussion relevant to everyday life at Kohn’s Deli\,\n10405 Old Olive Street Road\, Creve Coeur 63141
URL:https://aishstl.com/event/bagels-breakfast-for-men/2020-02-16/
LOCATION:Kohn’s Deli\, 10405 Old Olive Street Road\, Creve Coeur\, MO\, 63141\, United States
CATEGORIES:Adult Learning,Community,Men Only
ATTACH;FMTTYPE=image/jpeg:https://aishstl.com/wordpress/wp-content/uploads/2018/04/IMG_0475_crop.jpg
ORGANIZER;CN="Aish Hatorah of St. Louis":MAILTO:cgoldstein@aishstl.com
GEO:38.675859;-90.40869
X-APPLE-STRUCTURED-LOCATION;VALUE=URI;X-ADDRESS=Kohn’s Deli 10405 Old Olive Street Road Creve Coeur MO 63141 United States;X-APPLE-RADIUS=500;X-TITLE=10405 Old Olive Street Road:geo:-90.40869,38.675859
END:VEVENT
BEGIN:VEVENT
DTSTART;TZID=UTC:20200209T090000
DTEND;TZID=UTC:20200209T100000
DTSTAMP:20260421T145006
CREATED:20200124T013033Z
LAST-MODIFIED:20200124T015018Z
UID:10001826-1581238800-1581242400@aishstl.com
SUMMARY:Bagels & Breakfast for Men
DESCRIPTION:Join Rabbi Yosef David for breakfast and a lively Torah discussion relevant to everyday life at Kohn’s Deli\,\n10405 Old Olive Street Road\, Creve Coeur 63141
URL:https://aishstl.com/event/bagels-breakfast-for-men/2020-02-09/
LOCATION:Kohn’s Deli\, 10405 Old Olive Street Road\, Creve Coeur\, MO\, 63141\, United States
CATEGORIES:Adult Learning,Community,Men Only
ATTACH;FMTTYPE=image/jpeg:https://aishstl.com/wordpress/wp-content/uploads/2018/04/IMG_0475_crop.jpg
ORGANIZER;CN="Aish Hatorah of St. Louis":MAILTO:cgoldstein@aishstl.com
GEO:38.675859;-90.40869
X-APPLE-STRUCTURED-LOCATION;VALUE=URI;X-ADDRESS=Kohn’s Deli 10405 Old Olive Street Road Creve Coeur MO 63141 United States;X-APPLE-RADIUS=500;X-TITLE=10405 Old Olive Street Road:geo:-90.40869,38.675859
END:VEVENT
BEGIN:VEVENT
DTSTART;TZID=UTC:20200202T090000
DTEND;TZID=UTC:20200202T100000
DTSTAMP:20260421T145006
CREATED:20200124T013033Z
LAST-MODIFIED:20200124T015018Z
UID:10001825-1580634000-1580637600@aishstl.com
SUMMARY:Bagels & Breakfast for Men
DESCRIPTION:Join Rabbi Yosef David for breakfast and a lively Torah discussion relevant to everyday life at Kohn’s Deli\,\n10405 Old Olive Street Road\, Creve Coeur 63141
URL:https://aishstl.com/event/bagels-breakfast-for-men/2020-02-02/
LOCATION:Kohn’s Deli\, 10405 Old Olive Street Road\, Creve Coeur\, MO\, 63141\, United States
CATEGORIES:Adult Learning,Community,Men Only
ATTACH;FMTTYPE=image/jpeg:https://aishstl.com/wordpress/wp-content/uploads/2018/04/IMG_0475_crop.jpg
ORGANIZER;CN="Aish Hatorah of St. Louis":MAILTO:cgoldstein@aishstl.com
GEO:38.675859;-90.40869
X-APPLE-STRUCTURED-LOCATION;VALUE=URI;X-ADDRESS=Kohn’s Deli 10405 Old Olive Street Road Creve Coeur MO 63141 United States;X-APPLE-RADIUS=500;X-TITLE=10405 Old Olive Street Road:geo:-90.40869,38.675859
END:VEVENT
BEGIN:VEVENT
DTSTART;TZID=America/Chicago:20190411T120000
DTEND;TZID=America/Chicago:20190411T130000
DTSTAMP:20260421T145006
CREATED:20190326T181621Z
LAST-MODIFIED:20190326T181621Z
UID:10001730-1554984000-1554987600@aishstl.com
SUMMARY:Lunchtime Learning with Rabbi Shmuel Greenwald
DESCRIPTION:Join Rabbi Shmuel Greenwald in Creve Coeur for a discussion of the Torah’s perspective on the relevant topics of the day.  Hosted by Mel Weinberg at 12747 Olive Blvd.\, Suite 210.
URL:https://aishstl.com/event/lunchtime-learning-with-rabbi-shmuel-greenwald/
LOCATION:Hosted by Mel Weinberg\, 12747 Olive Blvd.\, Suite 210\, Creve Coeur\, MO\, 63141\, United States
CATEGORIES:Adult Learning,Community,Men Only
ORGANIZER;CN="Aish Hatorah of St. Louis":MAILTO:cgoldstein@aishstl.com
GEO:38.6806214;-90.4716907
X-APPLE-STRUCTURED-LOCATION;VALUE=URI;X-ADDRESS=Hosted by Mel Weinberg 12747 Olive Blvd. Suite 210 Creve Coeur MO 63141 United States;X-APPLE-RADIUS=500;X-TITLE=12747 Olive Blvd.\, Suite 210:geo:-90.4716907,38.6806214
END:VEVENT
BEGIN:VEVENT
DTSTART;TZID=UTC:20190407T090000
DTEND;TZID=UTC:20190407T100000
DTSTAMP:20260421T145006
CREATED:20190228T191341Z
LAST-MODIFIED:20190314T152952Z
UID:10001717-1554627600-1554631200@aishstl.com
SUMMARY:Bagels & Breakfast for Men
DESCRIPTION:Join Rabbi Yosef David at 9 a.m. for inspirational discussions on the Torah at Kohn’s Deli\, 10405 Old Olive Street Road\, Creve Coeur 63141
URL:https://aishstl.com/event/bagels-breakfast-for-men-with-rabbi-yosef-david-2-3-2-2-2-2-2-2/
LOCATION:Kohn’s Deli\, 10405 Old Olive Street Road\, Creve Coeur\, MO\, 63141\, United States
CATEGORIES:Adult Learning,Community,Men Only
ORGANIZER;CN="Aish Hatorah of St. Louis":MAILTO:cgoldstein@aishstl.com
GEO:38.675859;-90.40869
X-APPLE-STRUCTURED-LOCATION;VALUE=URI;X-ADDRESS=Kohn’s Deli 10405 Old Olive Street Road Creve Coeur MO 63141 United States;X-APPLE-RADIUS=500;X-TITLE=10405 Old Olive Street Road:geo:-90.40869,38.675859
END:VEVENT
BEGIN:VEVENT
DTSTART;TZID=UTC:20190331T090000
DTEND;TZID=UTC:20190331T100000
DTSTAMP:20260421T145006
CREATED:20190228T191549Z
LAST-MODIFIED:20190228T191549Z
UID:10001719-1554022800-1554026400@aishstl.com
SUMMARY:Bagels & Breakfast for Men
DESCRIPTION:Join Rabbi Yosef David at 9 a.m. for inspirational discussions on the Torah at Kohn’s Deli\, 10405 Old Olive Street Road\, Creve Coeur 63141
URL:https://aishstl.com/event/bagels-breakfast-for-men-with-rabbi-yosef-david-2-3-2-2-2-2-2-2-2-2/
LOCATION:Kohn’s Deli\, 10405 Old Olive Street Road\, Creve Coeur\, MO\, 63141\, United States
CATEGORIES:Adult Learning,Community,Men Only
ORGANIZER;CN="Aish Hatorah of St. Louis":MAILTO:cgoldstein@aishstl.com
GEO:38.675859;-90.40869
X-APPLE-STRUCTURED-LOCATION;VALUE=URI;X-ADDRESS=Kohn’s Deli 10405 Old Olive Street Road Creve Coeur MO 63141 United States;X-APPLE-RADIUS=500;X-TITLE=10405 Old Olive Street Road:geo:-90.40869,38.675859
END:VEVENT
BEGIN:VEVENT
DTSTART;TZID=UTC:20190324T090000
DTEND;TZID=UTC:20190324T100000
DTSTAMP:20260421T145006
CREATED:20190228T191438Z
LAST-MODIFIED:20190228T191501Z
UID:10001718-1553418000-1553421600@aishstl.com
SUMMARY:Bagels & Breakfast for Men
DESCRIPTION:Join Rabbi Yosef David at 9 a.m. for inspirational discussions on the Torah at Kohn’s Deli\, 10405 Old Olive Street Road\, Creve Coeur 63141
URL:https://aishstl.com/event/bagels-breakfast-for-men-with-rabbi-yosef-david-2-3-2-2-2-2-2-2-2/
LOCATION:Kohn’s Deli\, 10405 Old Olive Street Road\, Creve Coeur\, MO\, 63141\, United States
CATEGORIES:Adult Learning,Community,Men Only
ORGANIZER;CN="Aish Hatorah of St. Louis":MAILTO:cgoldstein@aishstl.com
GEO:38.675859;-90.40869
X-APPLE-STRUCTURED-LOCATION;VALUE=URI;X-ADDRESS=Kohn’s Deli 10405 Old Olive Street Road Creve Coeur MO 63141 United States;X-APPLE-RADIUS=500;X-TITLE=10405 Old Olive Street Road:geo:-90.40869,38.675859
END:VEVENT
BEGIN:VEVENT
DTSTART;TZID=UTC:20190224T090000
DTEND;TZID=UTC:20190224T100000
DTSTAMP:20260421T145006
CREATED:20190102T030909Z
LAST-MODIFIED:20190102T031008Z
UID:10001592-1550998800-1551002400@aishstl.com
SUMMARY:Bagels & Breakfast for Men
DESCRIPTION:Join Rabbi Yosef David at 9 a.m. for inspirational discussions on the Torah at Kohn’s Deli\, 10405 Old Olive Street Road\, Creve Coeur 63141
URL:https://aishstl.com/event/bagels-breakfast-for-men-with-rabbi-yosef-david-2-3-2-2-2-2-2/
LOCATION:Kohn’s Deli\, 10405 Old Olive Street Road\, Creve Coeur\, MO\, 63141\, United States
CATEGORIES:Adult Learning,Community,Men Only
ORGANIZER;CN="Aish Hatorah of St. Louis":MAILTO:cgoldstein@aishstl.com
GEO:38.675859;-90.40869
X-APPLE-STRUCTURED-LOCATION;VALUE=URI;X-ADDRESS=Kohn’s Deli 10405 Old Olive Street Road Creve Coeur MO 63141 United States;X-APPLE-RADIUS=500;X-TITLE=10405 Old Olive Street Road:geo:-90.40869,38.675859
END:VEVENT
BEGIN:VEVENT
DTSTART;TZID=UTC:20190217T090000
DTEND;TZID=UTC:20190217T100000
DTSTAMP:20260421T145006
CREATED:20190102T031343Z
LAST-MODIFIED:20190102T031343Z
UID:10001593-1550394000-1550397600@aishstl.com
SUMMARY:Bagels & Breakfast for Men
DESCRIPTION:Join Rabbi Yosef David at 9 a.m. for inspirational discussions on the Torah at Kohn’s Deli\, 10405 Old Olive Street Road\, Creve Coeur 63141
URL:https://aishstl.com/event/bagels-breakfast-for-men-with-rabbi-yosef-david-2-3-2-2-2-2-3/
LOCATION:Kohn’s Deli\, 10405 Old Olive Street Road\, Creve Coeur\, MO\, 63141\, United States
CATEGORIES:Adult Learning,Community,Men Only
ORGANIZER;CN="Aish Hatorah of St. Louis":MAILTO:cgoldstein@aishstl.com
GEO:38.675859;-90.40869
X-APPLE-STRUCTURED-LOCATION;VALUE=URI;X-ADDRESS=Kohn’s Deli 10405 Old Olive Street Road Creve Coeur MO 63141 United States;X-APPLE-RADIUS=500;X-TITLE=10405 Old Olive Street Road:geo:-90.40869,38.675859
END:VEVENT
BEGIN:VEVENT
DTSTART;TZID=UTC:20190210T090000
DTEND;TZID=UTC:20190210T100000
DTSTAMP:20260421T145006
CREATED:20190102T030423Z
LAST-MODIFIED:20190102T030732Z
UID:10001591-1549789200-1549792800@aishstl.com
SUMMARY:Bagels & Breakfast for Men
DESCRIPTION:Join Rabbi Yosef David at 9 a.m. for inspirational discussions on the Torah at Kohn’s Deli\, 10405 Old Olive Street Road\, Creve Coeur 63141
URL:https://aishstl.com/event/bagels-breakfast-for-men-with-rabbi-yosef-david-2-3-2-2-2-2/
LOCATION:Kohn’s Deli\, 10405 Old Olive Street Road\, Creve Coeur\, MO\, 63141\, United States
CATEGORIES:Adult Learning,Community,Men Only
ORGANIZER;CN="Aish Hatorah of St. Louis":MAILTO:cgoldstein@aishstl.com
GEO:38.675859;-90.40869
X-APPLE-STRUCTURED-LOCATION;VALUE=URI;X-ADDRESS=Kohn’s Deli 10405 Old Olive Street Road Creve Coeur MO 63141 United States;X-APPLE-RADIUS=500;X-TITLE=10405 Old Olive Street Road:geo:-90.40869,38.675859
END:VEVENT
BEGIN:VEVENT
DTSTART;TZID=UTC:20190203T090000
DTEND;TZID=UTC:20190203T100000
DTSTAMP:20260421T145006
CREATED:20190102T031505Z
LAST-MODIFIED:20190102T031505Z
UID:10001594-1549184400-1549188000@aishstl.com
SUMMARY:Bagels & Breakfast for Men
DESCRIPTION:Join Rabbi Yosef David at 9 a.m. for inspirational discussions on the Torah at Kohn’s Deli\, 10405 Old Olive Street Road\, Creve Coeur 63141
URL:https://aishstl.com/event/bagels-breakfast-for-men-with-rabbi-yosef-david-2-3-2-2-2/
LOCATION:Kohn’s Deli\, 10405 Old Olive Street Road\, Creve Coeur\, MO\, 63141\, United States
CATEGORIES:Adult Learning,Community,Men Only
ORGANIZER;CN="Aish Hatorah of St. Louis":MAILTO:cgoldstein@aishstl.com
GEO:38.675859;-90.40869
X-APPLE-STRUCTURED-LOCATION;VALUE=URI;X-ADDRESS=Kohn’s Deli 10405 Old Olive Street Road Creve Coeur MO 63141 United States;X-APPLE-RADIUS=500;X-TITLE=10405 Old Olive Street Road:geo:-90.40869,38.675859
END:VEVENT
BEGIN:VEVENT
DTSTART;TZID=America/Chicago:20190130T153000
DTEND;TZID=America/Chicago:20190130T163000
DTSTAMP:20260421T145006
CREATED:20190128T195154Z
LAST-MODIFIED:20190128T195154Z
UID:10001699-1548862200-1548865800@aishstl.com
SUMMARY:The Men's Over 55 Club with Rabbi Shmuel Greenwald
DESCRIPTION:Join Rabbi Shmuel Greenwald for these classes that delve\, through the Torah’s perspective\, into the current events that are having a profound effect on our lives: \nWednesday\, January 30th — Fake News!  What does the Torah say about spreading rumors and the obligation to tell the truth? \nWednesday\, February 6th — The Elderly.  What does the Torah teach us about senior citizens’ contributions to daily life and how they should be treated? \nCome to one or all of classes; each class stands on its own.  Suggested donation: $10 per class \n 
URL:https://aishstl.com/event/the-mens-over-55-club-with-rabbi-shmuel-greenwald-2/
LOCATION:Aish Firehouse\, 457 N. Woods MIll Rd.\, Chesterfield\, MO\, 63107\, United States
CATEGORIES:Adult Learning,Men Only
ORGANIZER;CN="Aish Hatorah of St. Louis":MAILTO:cgoldstein@aishstl.com
GEO:38.6630859;-90.503598
X-APPLE-STRUCTURED-LOCATION;VALUE=URI;X-ADDRESS=Aish Firehouse 457 N. Woods MIll Rd. Chesterfield MO 63107 United States;X-APPLE-RADIUS=500;X-TITLE=457 N. Woods MIll Rd.:geo:-90.503598,38.6630859
END:VEVENT
BEGIN:VEVENT
DTSTART;TZID=America/Chicago:20190116T153000
DTEND;TZID=America/Chicago:20190116T163000
DTSTAMP:20260421T145006
CREATED:20190116T004746Z
LAST-MODIFIED:20190116T004746Z
UID:10001691-1547652600-1547656200@aishstl.com
SUMMARY:The Men's Over 55 Club with Rabbi Shmuel Greenwald
DESCRIPTION:Join Rabbi Shmuel Greenwald for these classes that delve\, through the Torah’s perspective\, into the current events that are having a profound effect on our lives: \nWednesday\, January 16th — The Death Penalty.  After the horrible shooting in Pittsburgh\, there has been talk of the shooter getting the death penalty.  What does the Torah say about this? \nWednesday\, January 30th — Fake News!  What does the Torah say about spreading rumors and the obligation to tell the truth? \nWednesday\, February 6th — The Elderly.  What does the Torah teach us about senior citizens’ contributions to daily life and how they should be treated? \nCome to one or all of classes; each class stands on its own.  Suggested donation: $10 per class \n 
URL:https://aishstl.com/event/the-mens-over-55-club-with-rabbi-shmuel-greenwald/
LOCATION:Aish Firehouse\, 457 N. Woods MIll Rd.\, Chesterfield\, MO\, 63107\, United States
CATEGORIES:Adult Learning,Men Only
ORGANIZER;CN="Aish Hatorah of St. Louis":MAILTO:cgoldstein@aishstl.com
GEO:38.6630859;-90.503598
X-APPLE-STRUCTURED-LOCATION;VALUE=URI;X-ADDRESS=Aish Firehouse 457 N. Woods MIll Rd. Chesterfield MO 63107 United States;X-APPLE-RADIUS=500;X-TITLE=457 N. Woods MIll Rd.:geo:-90.503598,38.6630859
END:VEVENT
BEGIN:VEVENT
DTSTART;TZID=UTC:20190113T090000
DTEND;TZID=UTC:20190113T100000
DTSTAMP:20260421T145006
CREATED:20190102T025729Z
LAST-MODIFIED:20190102T025849Z
UID:10001589-1547370000-1547373600@aishstl.com
SUMMARY:Bagels & Breakfast for Men
DESCRIPTION:Join Rabbi Yosef David at 9 a.m. for inspirational discussions on the Torah at Kohn’s Deli\, 10405 Old Olive Stree Road\, Creve Coeur 63141
URL:https://aishstl.com/event/bagels-breakfast-for-men-with-rabbi-yosef-david-2-3-2-2/
LOCATION:Kohn’s Deli\, 10405 Old Olive Street Road\, Creve Coeur\, MO\, 63141\, United States
CATEGORIES:Adult Learning,Community,Men Only
ORGANIZER;CN="Aish Hatorah of St. Louis":MAILTO:cgoldstein@aishstl.com
GEO:38.675859;-90.40869
X-APPLE-STRUCTURED-LOCATION;VALUE=URI;X-ADDRESS=Kohn’s Deli 10405 Old Olive Street Road Creve Coeur MO 63141 United States;X-APPLE-RADIUS=500;X-TITLE=10405 Old Olive Street Road:geo:-90.40869,38.675859
END:VEVENT
BEGIN:VEVENT
DTSTART;TZID=UTC:20190106T090000
DTEND;TZID=UTC:20190106T100000
DTSTAMP:20260421T145007
CREATED:20190102T030053Z
LAST-MODIFIED:20190102T030053Z
UID:10001590-1546765200-1546768800@aishstl.com
SUMMARY:Bagels & Breakfast for Men
DESCRIPTION:Join Rabbi Yosef David at 9 a.m. for inspirational discussions on the Torah at Kohn’s Deli\, 10405 Old Olive Stree Road\, Creve Coeur 63141
URL:https://aishstl.com/event/bagels-breakfast-for-men-with-rabbi-yosef-david-2-3-2/
LOCATION:Kohn’s Deli\, 10405 Old Olive Street Road\, Creve Coeur\, MO\, 63141\, United States
CATEGORIES:Adult Learning,Community,Men Only
ORGANIZER;CN="Aish Hatorah of St. Louis":MAILTO:cgoldstein@aishstl.com
GEO:38.675859;-90.40869
X-APPLE-STRUCTURED-LOCATION;VALUE=URI;X-ADDRESS=Kohn’s Deli 10405 Old Olive Street Road Creve Coeur MO 63141 United States;X-APPLE-RADIUS=500;X-TITLE=10405 Old Olive Street Road:geo:-90.40869,38.675859
END:VEVENT
BEGIN:VEVENT
DTSTART;TZID=UTC:20181209T090000
DTEND;TZID=UTC:20181209T100000
DTSTAMP:20260421T145007
CREATED:20181102T211518Z
LAST-MODIFIED:20181102T211518Z
UID:10001567-1544346000-1544349600@aishstl.com
SUMMARY:Bagels & Breakfast for Men
DESCRIPTION:Join Rabbi Yosef David at 9 a.m. for inspirational discussions on the Torah at Kohn’s Deli\, 10405 Old Olive Stree Road\, Creve Coeur 63141
URL:https://aishstl.com/event/bagels-breakfast-for-men-with-rabbi-yosef-david-2-3/
LOCATION:Kohn’s Deli\, 10405 Old Olive Street Road\, Creve Coeur\, MO\, 63141\, United States
CATEGORIES:Adult Learning,Community,Men Only
ORGANIZER;CN="Aish Hatorah of St. Louis":MAILTO:cgoldstein@aishstl.com
GEO:38.675859;-90.40869
X-APPLE-STRUCTURED-LOCATION;VALUE=URI;X-ADDRESS=Kohn’s Deli 10405 Old Olive Street Road Creve Coeur MO 63141 United States;X-APPLE-RADIUS=500;X-TITLE=10405 Old Olive Street Road:geo:-90.40869,38.675859
END:VEVENT
BEGIN:VEVENT
DTSTART;TZID=UTC:20181202T090000
DTEND;TZID=UTC:20181202T100000
DTSTAMP:20260421T145007
CREATED:20181102T211133Z
LAST-MODIFIED:20181102T211436Z
UID:10001566-1543741200-1543744800@aishstl.com
SUMMARY:Bagels & Breakfast for Men
DESCRIPTION:Join Rabbi Yosef David at 9 a.m. for inspirational discussions on the Torah at Kohn’s Deli\, 10405 Old Olive Stree Road\, Creve Coeur 63141
URL:https://aishstl.com/event/bagels-breakfast-for-men-with-rabbi-yosef-david-2/
LOCATION:Kohn’s Deli\, 10405 Old Olive Street Road\, Creve Coeur\, MO\, 63141\, United States
CATEGORIES:Adult Learning,Community,Men Only
ORGANIZER;CN="Aish Hatorah of St. Louis":MAILTO:cgoldstein@aishstl.com
GEO:38.675859;-90.40869
X-APPLE-STRUCTURED-LOCATION;VALUE=URI;X-ADDRESS=Kohn’s Deli 10405 Old Olive Street Road Creve Coeur MO 63141 United States;X-APPLE-RADIUS=500;X-TITLE=10405 Old Olive Street Road:geo:-90.40869,38.675859
END:VEVENT
BEGIN:VEVENT
DTSTART;TZID=UTC:20181125T090000
DTEND;TZID=UTC:20181125T100000
DTSTAMP:20260421T145007
CREATED:20181102T210603Z
LAST-MODIFIED:20181102T211347Z
UID:10001564-1543136400-1543140000@aishstl.com
SUMMARY:Bagels & Breakfast for Men
DESCRIPTION:Join Rabbi Yosef David at 9 a.m. for inspirational discussions on the Torah at Kohn’s Deli\, 10405 Old Olive Stree Road\, Creve Coeur 63141
URL:https://aishstl.com/event/bagels-breakfast-for-men-with-rabbi-yosef-david/
LOCATION:Kohn’s Deli\, 10405 Old Olive Street Road\, Creve Coeur\, MO\, 63141\, United States
CATEGORIES:Adult Learning,Community,Men Only
ORGANIZER;CN="Aish Hatorah of St. Louis":MAILTO:cgoldstein@aishstl.com
GEO:38.675859;-90.40869
X-APPLE-STRUCTURED-LOCATION;VALUE=URI;X-ADDRESS=Kohn’s Deli 10405 Old Olive Street Road Creve Coeur MO 63141 United States;X-APPLE-RADIUS=500;X-TITLE=10405 Old Olive Street Road:geo:-90.40869,38.675859
END:VEVENT
BEGIN:VEVENT
DTSTART;TZID=UTC:20181118T090000
DTEND;TZID=UTC:20181118T100000
DTSTAMP:20260421T145007
CREATED:20181102T210658Z
LAST-MODIFIED:20181102T211311Z
UID:10001565-1542531600-1542535200@aishstl.com
SUMMARY:Bagels & Breakfast for Men
DESCRIPTION:Join Rabbi Yosef David at 9 a.m. for inspirational discussions on the Torah at Kohn’s Deli\, 10405 Old Olive Stree Road\, Creve Coeur 63141
URL:https://aishstl.com/event/bagels-breakfast-for-men-with-rabbi-yosef-david-2-2/
LOCATION:Kohn’s Deli\, 10405 Old Olive Street Road\, Creve Coeur\, MO\, 63141\, United States
CATEGORIES:Adult Learning,Community,Men Only
ORGANIZER;CN="Aish Hatorah of St. Louis":MAILTO:cgoldstein@aishstl.com
GEO:38.675859;-90.40869
X-APPLE-STRUCTURED-LOCATION;VALUE=URI;X-ADDRESS=Kohn’s Deli 10405 Old Olive Street Road Creve Coeur MO 63141 United States;X-APPLE-RADIUS=500;X-TITLE=10405 Old Olive Street Road:geo:-90.40869,38.675859
END:VEVENT
END:VCALENDAR