BEGIN:VCALENDAR
VERSION:2.0
PRODID:-//Aish St. Louis - ECPv6.15.18//NONSGML v1.0//EN
CALSCALE:GREGORIAN
METHOD:PUBLISH
X-ORIGINAL-URL:https://aishstl.com
X-WR-CALDESC:Events for Aish St. Louis
REFRESH-INTERVAL;VALUE=DURATION:PT1H
X-Robots-Tag:noindex
X-PUBLISHED-TTL:PT1H
BEGIN:VTIMEZONE
TZID:UTC
BEGIN:STANDARD
TZOFFSETFROM:+0000
TZOFFSETTO:+0000
TZNAME:UTC
DTSTART:20170101T000000
END:STANDARD
END:VTIMEZONE
BEGIN:VTIMEZONE
TZID:America/Chicago
BEGIN:DAYLIGHT
TZOFFSETFROM:-0600
TZOFFSETTO:-0500
TZNAME:CDT
DTSTART:20180311T080000
END:DAYLIGHT
BEGIN:STANDARD
TZOFFSETFROM:-0500
TZOFFSETTO:-0600
TZNAME:CST
DTSTART:20181104T070000
END:STANDARD
BEGIN:DAYLIGHT
TZOFFSETFROM:-0600
TZOFFSETTO:-0500
TZNAME:CDT
DTSTART:20190310T080000
END:DAYLIGHT
BEGIN:STANDARD
TZOFFSETFROM:-0500
TZOFFSETTO:-0600
TZNAME:CST
DTSTART:20191103T070000
END:STANDARD
BEGIN:DAYLIGHT
TZOFFSETFROM:-0600
TZOFFSETTO:-0500
TZNAME:CDT
DTSTART:20200308T080000
END:DAYLIGHT
BEGIN:STANDARD
TZOFFSETFROM:-0500
TZOFFSETTO:-0600
TZNAME:CST
DTSTART:20201101T070000
END:STANDARD
END:VTIMEZONE
BEGIN:VEVENT
DTSTART;TZID=UTC:20190715T203000
DTEND;TZID=UTC:20190715T213000
DTSTAMP:20260422T093825
CREATED:20190618T153901Z
LAST-MODIFIED:20190618T153959Z
UID:10001763-1563222600-1563226200@aishstl.com
SUMMARY:Jewish Women's Society -- Live Conference Call
DESCRIPTION:Live Conference Call — “Mama’s in Pajamas” with Mimi David \nDial in:  605-472-5814    Then enter Access Code: 126-753-373
URL:https://aishstl.com/event/jewish-womens-society-5-2-2-2-2-2-3/2019-07-15/
LOCATION:Your home
CATEGORIES:Adult Learning,Community,Jewish Women's Society (JWS),Women Only
ORGANIZER;CN="Aish Hatorah of St. Louis":MAILTO:cgoldstein@aishstl.com
END:VEVENT
BEGIN:VEVENT
DTSTART;TZID=UTC:20190701T203000
DTEND;TZID=UTC:20190701T213000
DTSTAMP:20260422T093825
CREATED:20190618T153901Z
LAST-MODIFIED:20190618T153959Z
UID:10001762-1562013000-1562016600@aishstl.com
SUMMARY:Jewish Women's Society -- Live Conference Call
DESCRIPTION:Live Conference Call — “Mama’s in Pajamas” with Mimi David \nDial in:  605-472-5814    Then enter Access Code: 126-753-373
URL:https://aishstl.com/event/jewish-womens-society-5-2-2-2-2-2-3/2019-07-01/
LOCATION:Your home
CATEGORIES:Adult Learning,Community,Jewish Women's Society (JWS),Women Only
ORGANIZER;CN="Aish Hatorah of St. Louis":MAILTO:cgoldstein@aishstl.com
END:VEVENT
BEGIN:VEVENT
DTSTART;TZID=UTC:20190513T190000
DTEND;TZID=UTC:20190513T200000
DTSTAMP:20260422T093825
CREATED:20190405T154804Z
LAST-MODIFIED:20190501T185908Z
UID:10001753-1557774000-1557777600@aishstl.com
SUMMARY:Jewish Women's Society -- Tehillim/Psalms from Moses to David
DESCRIPTION:Salon Series:  Tehillim/Psalms from Moses to David with Mimi David.  Hosted by Alana Minoff. \nFor address or more information\, please call 314-862-2474 or email mimidavid@aish.com
URL:https://aishstl.com/event/jewish-womens-society-4-2-2-2/
LOCATION:To be announced\, MO\, United States
CATEGORIES:Jewish Women's Society (JWS),Women Only
ORGANIZER;CN="Aish Hatorah of St. Louis":MAILTO:cgoldstein@aishstl.com
GEO:37.9642529;-91.8318334
END:VEVENT
BEGIN:VEVENT
DTSTART;TZID=UTC:20190328T090000
DTEND;TZID=UTC:20190328T100000
DTSTAMP:20260422T093825
CREATED:20190228T195039Z
LAST-MODIFIED:20190228T195039Z
UID:10001721-1553763600-1553767200@aishstl.com
SUMMARY:Jewish Women's Society Coffee & Schmooze
DESCRIPTION:COFFEE & SHMOOZE with Mimi David\nKohn’s Deli\, 10405 Old Olive Street Rd.\, Creve Coeur 63141 \n 
URL:https://aishstl.com/event/jewish-womens-society-coffee-schmooze-2-3-3-2-2-2-2/
LOCATION:Kohn’s Deli\, 10405 Old Olive Street Road\, Creve Coeur\, MO\, 63141\, United States
CATEGORIES:Jewish Women's Society (JWS),Women Only
ORGANIZER;CN="Aish Hatorah of St. Louis":MAILTO:cgoldstein@aishstl.com
GEO:38.675859;-90.40869
X-APPLE-STRUCTURED-LOCATION;VALUE=URI;X-ADDRESS=Kohn’s Deli 10405 Old Olive Street Road Creve Coeur MO 63141 United States;X-APPLE-RADIUS=500;X-TITLE=10405 Old Olive Street Road:geo:-90.40869,38.675859
END:VEVENT
BEGIN:VEVENT
DTSTART;TZID=UTC:20190325T190000
DTEND;TZID=UTC:20190325T200000
DTSTAMP:20260422T093825
CREATED:20190128T171426Z
LAST-MODIFIED:20190314T154027Z
UID:10001697-1553540400-1553544000@aishstl.com
SUMMARY:Jewish Women's Society -- Tehillim/Psalms from Moses to David
DESCRIPTION:Salon Series:  Tehillim/Psalms from Moses to David with Mimi David.  Hosted by Lisa Weiss. \nFor more information and Lisa’s address\, please call 314-862-2474 or email mimidavid@aish.com
URL:https://aishstl.com/event/jewish-womens-society-4-2-2/
LOCATION:To be announced\, MO\, United States
CATEGORIES:Jewish Women's Society (JWS),Women Only
ORGANIZER;CN="Aish Hatorah of St. Louis":MAILTO:cgoldstein@aishstl.com
GEO:37.9642529;-91.8318334
END:VEVENT
BEGIN:VEVENT
DTSTART;TZID=America/Chicago:20190318T193000
DTEND;TZID=America/Chicago:20190318T203000
DTSTAMP:20260422T093825
CREATED:20190228T190204Z
LAST-MODIFIED:20190228T194336Z
UID:10001716-1552937400-1552941000@aishstl.com
SUMMARY:Jewish Women's Society of St. Louis Celebrates Purim
DESCRIPTION:Come join Mimi David at her home as she presents a Pre-Purim class for women only.
URL:https://aishstl.com/event/jewish-womens-society-of-st-louis-4/
LOCATION:Home of Yosef and Mimi David\, 827 Swarthmore Lane\, University City\, MO\, 63130\, United States
CATEGORIES:Jewish Women's Society (JWS),Women Only
GEO:38.663758;-90.349739
X-APPLE-STRUCTURED-LOCATION;VALUE=URI;X-ADDRESS=Home of Yosef and Mimi David 827 Swarthmore Lane University City MO 63130 United States;X-APPLE-RADIUS=500;X-TITLE=827 Swarthmore Lane:geo:-90.349739,38.663758
END:VEVENT
BEGIN:VEVENT
DTSTART;TZID=UTC:20190228T090000
DTEND;TZID=UTC:20190228T100000
DTSTAMP:20260422T093825
CREATED:20190228T194636Z
LAST-MODIFIED:20190228T194636Z
UID:10001720-1551344400-1551348000@aishstl.com
SUMMARY:Jewish Women's Society Coffee & Schmooze
DESCRIPTION:COFFEE & SHMOOZE with Mimi David\nKohn’s Deli\, 10405 Old Olive Street Rd.\, Creve Coeur 63141 \n 
URL:https://aishstl.com/event/jewish-womens-society-coffee-schmooze-2-3-3-2-2-2/
LOCATION:Kohn’s Deli\, 10405 Old Olive Street Road\, Creve Coeur\, MO\, 63141\, United States
CATEGORIES:Jewish Women's Society (JWS),Women Only
ORGANIZER;CN="Aish Hatorah of St. Louis":MAILTO:cgoldstein@aishstl.com
GEO:38.675859;-90.40869
X-APPLE-STRUCTURED-LOCATION;VALUE=URI;X-ADDRESS=Kohn’s Deli 10405 Old Olive Street Road Creve Coeur MO 63141 United States;X-APPLE-RADIUS=500;X-TITLE=10405 Old Olive Street Road:geo:-90.40869,38.675859
END:VEVENT
BEGIN:VEVENT
DTSTART;TZID=UTC:20190221T090000
DTEND;TZID=UTC:20190221T100000
DTSTAMP:20260422T093825
CREATED:20190128T171029Z
LAST-MODIFIED:20190128T171029Z
UID:10001696-1550739600-1550743200@aishstl.com
SUMMARY:Jewish Women's Society Coffee & Schmooze
DESCRIPTION:COFFEE & SHMOOZE with Mimi David\nKohn’s Deli\, 10405 Old Olive Street Rd.\, Creve Coeur 63141 \n 
URL:https://aishstl.com/event/jewish-womens-society-coffee-schmooze-2-3-3-2-2/
LOCATION:Kohn’s Deli\, 10405 Old Olive Street Road\, Creve Coeur\, MO\, 63141\, United States
CATEGORIES:Jewish Women's Society (JWS),Women Only
ORGANIZER;CN="Aish Hatorah of St. Louis":MAILTO:cgoldstein@aishstl.com
GEO:38.675859;-90.40869
X-APPLE-STRUCTURED-LOCATION;VALUE=URI;X-ADDRESS=Kohn’s Deli 10405 Old Olive Street Road Creve Coeur MO 63141 United States;X-APPLE-RADIUS=500;X-TITLE=10405 Old Olive Street Road:geo:-90.40869,38.675859
END:VEVENT
BEGIN:VEVENT
DTSTART;TZID=UTC:20190218T203000
DTEND;TZID=UTC:20190218T213000
DTSTAMP:20260422T093825
CREATED:20190201T183419Z
LAST-MODIFIED:20190201T183419Z
UID:10001702-1550521800-1550525400@aishstl.com
SUMMARY:Jewish Women's Society -- Live Conference Call
DESCRIPTION:Live Conference Call — “Mama’s in Pajamas” with Mimi David \nDial in:  605-472-5814    Access Code: 126-753-373
URL:https://aishstl.com/event/jewish-womens-society-5-2-2-2-2-2-2/
LOCATION:Your home
CATEGORIES:Adult Learning,Community,Jewish Women's Society (JWS),Women Only
ORGANIZER;CN="Aish Hatorah of St. Louis":MAILTO:cgoldstein@aishstl.com
END:VEVENT
BEGIN:VEVENT
DTSTART;TZID=UTC:20190206T090000
DTEND;TZID=UTC:20190206T100000
DTSTAMP:20260422T093825
CREATED:20190102T024150Z
LAST-MODIFIED:20190116T004312Z
UID:10001586-1549443600-1549447200@aishstl.com
SUMMARY:Jewish Women's Society Coffee & Schmooze
DESCRIPTION:COFFEE & SHMOOZE with Mimi David\nKohn’s Deli\, 10405 Old Olive Street Rd.\, Creve Coeur 63141 \n 
URL:https://aishstl.com/event/jewish-womens-society-coffee-schmooze-2-3-3-2/
LOCATION:Kohn’s Deli\, 10405 Old Olive Street Road\, Creve Coeur\, MO\, 63141\, United States
CATEGORIES:Adult Learning,Jewish Women's Society (JWS),Women Only
ORGANIZER;CN="Aish Hatorah of St. Louis":MAILTO:cgoldstein@aishstl.com
GEO:38.675859;-90.40869
X-APPLE-STRUCTURED-LOCATION;VALUE=URI;X-ADDRESS=Kohn’s Deli 10405 Old Olive Street Road Creve Coeur MO 63141 United States;X-APPLE-RADIUS=500;X-TITLE=10405 Old Olive Street Road:geo:-90.40869,38.675859
END:VEVENT
BEGIN:VEVENT
DTSTART;TZID=UTC:20190205T113000
DTEND;TZID=UTC:20190205T123000
DTSTAMP:20260422T093825
CREATED:20190128T171701Z
LAST-MODIFIED:20190128T171701Z
UID:10001698-1549366200-1549369800@aishstl.com
SUMMARY:Jewish Women Society's Lunch & Learn
DESCRIPTION:LUNCH & LEARN with Mimi David\nPirkei Avot “Be the Best You”\nCircle@Crown Cafe’\, 8350 Delcrest Drive\, University City 63124 \n 
URL:https://aishstl.com/event/jewish-women-societys-lunch-learn-with-mimi-david-2-2-2-2-2/
LOCATION:Circle@Crown Cafe`\, 8350 Delcrest Drive\, St. Louis\, MO\, 63124\, United States
CATEGORIES:Jewish Women's Society (JWS),Women Only
ORGANIZER;CN="Aish Hatorah of St. Louis":MAILTO:cgoldstein@aishstl.com
GEO:38.6595414;-90.355332
X-APPLE-STRUCTURED-LOCATION;VALUE=URI;X-ADDRESS=Circle@Crown Cafe` 8350 Delcrest Drive St. Louis MO 63124 United States;X-APPLE-RADIUS=500;X-TITLE=8350 Delcrest Drive:geo:-90.355332,38.6595414
END:VEVENT
BEGIN:VEVENT
DTSTART;TZID=UTC:20190204T203000
DTEND;TZID=UTC:20190204T213000
DTSTAMP:20260422T093825
CREATED:20190201T183133Z
LAST-MODIFIED:20190201T183133Z
UID:10001701-1549312200-1549315800@aishstl.com
SUMMARY:Jewish Women's Society -- Live Conference Call
DESCRIPTION:Live Conference Call — “Mama’s in Pajamas” with Mimi David \nDial in:  605-472-5814    Access Code: 126-753-373
URL:https://aishstl.com/event/jewish-womens-society-5-2-2-2-2-2/
LOCATION:Your home
CATEGORIES:Adult Learning,Community,Jewish Women's Society (JWS),Women Only
ORGANIZER;CN="Aish Hatorah of St. Louis":MAILTO:cgoldstein@aishstl.com
END:VEVENT
BEGIN:VEVENT
DTSTART;TZID=UTC:20190108T113000
DTEND;TZID=UTC:20190108T123000
DTSTAMP:20260422T093825
CREATED:20190102T024620Z
LAST-MODIFIED:20190102T024620Z
UID:10001588-1546947000-1546950600@aishstl.com
SUMMARY:Jewish Women Society's Lunch & Learn
DESCRIPTION:LUNCH & LEARN with Mimi David\nPirkei Avot “Be the Best You”\nCircle@Crown Cafe’\, 8350 Delcrest Drive\, University City 63124 \n 
URL:https://aishstl.com/event/jewish-women-societys-lunch-learn-with-mimi-david-2-2-2-2/
LOCATION:Circle@Crown Cafe`\, 8350 Delcrest Drive\, St. Louis\, MO\, 63124\, United States
CATEGORIES:Adult Learning,Jewish Women's Society (JWS),Women Only
ORGANIZER;CN="Aish Hatorah of St. Louis":MAILTO:cgoldstein@aishstl.com
GEO:38.6595414;-90.355332
X-APPLE-STRUCTURED-LOCATION;VALUE=URI;X-ADDRESS=Circle@Crown Cafe` 8350 Delcrest Drive St. Louis MO 63124 United States;X-APPLE-RADIUS=500;X-TITLE=8350 Delcrest Drive:geo:-90.355332,38.6595414
END:VEVENT
BEGIN:VEVENT
DTSTART;TZID=UTC:20190107T203000
DTEND;TZID=UTC:20190107T213000
DTSTAMP:20260422T093825
CREATED:20190102T024415Z
LAST-MODIFIED:20190102T024415Z
UID:10001587-1546893000-1546896600@aishstl.com
SUMMARY:Jewish Women's Society -- Live Conference Call
DESCRIPTION:Live Conference Call — “Mama’s in Pajamas” with Mimi David \nDial in:  605-472-5814    Access Code: 126-753-373
URL:https://aishstl.com/event/jewish-womens-society-5-2-2-2-2/
LOCATION:Your home
CATEGORIES:Adult Learning,Community,Jewish Women's Society (JWS),Women Only
ORGANIZER;CN="Aish Hatorah of St. Louis":MAILTO:cgoldstein@aishstl.com
END:VEVENT
BEGIN:VEVENT
DTSTART;TZID=UTC:20181220T090000
DTEND;TZID=UTC:20181220T100000
DTSTAMP:20260422T093825
CREATED:20181207T224131Z
LAST-MODIFIED:20181207T224131Z
UID:10001573-1545296400-1545300000@aishstl.com
SUMMARY:Jewish Women's Society Coffee & Schmooze
DESCRIPTION:COFFEE & SHMOOZE with Mimi David\nKohn’s Deli\, 10405 Old Olive Street Rd.\, Creve Coeur 63141 \n 
URL:https://aishstl.com/event/jewish-womens-society-coffee-schmooze-2-3-3/
LOCATION:Kohn’s Deli\, 10405 Old Olive Street Road\, Creve Coeur\, MO\, 63141\, United States
CATEGORIES:Adult Learning,Jewish Women's Society (JWS),Women Only
ORGANIZER;CN="Aish Hatorah of St. Louis":MAILTO:cgoldstein@aishstl.com
GEO:38.675859;-90.40869
X-APPLE-STRUCTURED-LOCATION;VALUE=URI;X-ADDRESS=Kohn’s Deli 10405 Old Olive Street Road Creve Coeur MO 63141 United States;X-APPLE-RADIUS=500;X-TITLE=10405 Old Olive Street Road:geo:-90.40869,38.675859
END:VEVENT
BEGIN:VEVENT
DTSTART;TZID=UTC:20181210T203000
DTEND;TZID=UTC:20181210T213000
DTSTAMP:20260422T093825
CREATED:20181207T223752Z
LAST-MODIFIED:20181207T223752Z
UID:10001572-1544473800-1544477400@aishstl.com
SUMMARY:Jewish Women's Society -- Live Conference Call
DESCRIPTION:LIVE Conference Call — “Mama’s in Pajamas” with Mimi David \nDial in:  605-472-5814    Access Code: 126-753-373
URL:https://aishstl.com/event/jewish-womens-society-5-2-2-2/
LOCATION:Your home
CATEGORIES:Adult Learning,Community,Jewish Women's Society (JWS),Women Only
ORGANIZER;CN="Aish Hatorah of St. Louis":MAILTO:cgoldstein@aishstl.com
END:VEVENT
BEGIN:VEVENT
DTSTART;TZID=UTC:20181204T180000
DTEND;TZID=UTC:20181204T200000
DTSTAMP:20260422T093825
CREATED:20181102T215902Z
LAST-MODIFIED:20181102T215902Z
UID:10001570-1543946400-1543953600@aishstl.com
SUMMARY:Jewish Women's Society of St. Louis
DESCRIPTION:Latke Fest with Mimi David at the Aish Firehouse at 6 pm.\nWe’ll make several kinds of latkes:  spinach feta\, savory cheese\,\nYukon parsnip\, sweet potato & traditional potato\n$18 suggested donation
URL:https://aishstl.com/event/jewish-womens-society-of-st-louis-3/
LOCATION:Aish Firehouse\, 457 N. Woods MIll Rd.\, Chesterfield\, MO\, 63107\, United States
CATEGORIES:Community,Holidays,Jewish Women's Society (JWS),Women Only
ORGANIZER;CN="Jewish Women's Society":MAILTO:cwolff@aish.com
GEO:38.6630859;-90.503598
X-APPLE-STRUCTURED-LOCATION;VALUE=URI;X-ADDRESS=Aish Firehouse 457 N. Woods MIll Rd. Chesterfield MO 63107 United States;X-APPLE-RADIUS=500;X-TITLE=457 N. Woods MIll Rd.:geo:-90.503598,38.6630859
END:VEVENT
BEGIN:VEVENT
DTSTART;TZID=UTC:20181204T113000
DTEND;TZID=UTC:20181204T123000
DTSTAMP:20260422T093825
CREATED:20181201T025744Z
LAST-MODIFIED:20181201T025744Z
UID:10001571-1543923000-1543926600@aishstl.com
SUMMARY:Jewish Women Society's Lunch & Learn
DESCRIPTION:LUNCH & LEARN with Mimi David\nPirkei Avot “Be the Best You”\nCircle@Crown Cafe’\, 8350 Delcrest Drive\, University City 63124 \n 
URL:https://aishstl.com/event/jewish-women-societys-lunch-learn-with-mimi-david-2-2-2/
LOCATION:Circle@Crown Cafe`\, 8350 Delcrest Drive\, St. Louis\, MO\, 63124\, United States
CATEGORIES:Adult Learning,Jewish Women's Society (JWS),Women Only
ORGANIZER;CN="Aish Hatorah of St. Louis":MAILTO:cgoldstein@aishstl.com
GEO:38.6595414;-90.355332
X-APPLE-STRUCTURED-LOCATION;VALUE=URI;X-ADDRESS=Circle@Crown Cafe` 8350 Delcrest Drive St. Louis MO 63124 United States;X-APPLE-RADIUS=500;X-TITLE=8350 Delcrest Drive:geo:-90.355332,38.6595414
END:VEVENT
BEGIN:VEVENT
DTSTART;TZID=UTC:20181129T090000
DTEND;TZID=UTC:20181129T100000
DTSTAMP:20260422T093825
CREATED:20181102T205047Z
LAST-MODIFIED:20181102T205842Z
UID:10001562-1543482000-1543485600@aishstl.com
SUMMARY:Jewish Women's Society Coffee & Schmooze
DESCRIPTION:COFFEE & SHMOOZE with Mimi David\nKohn’s Deli\, 10405 Old Olive Street Rd.\, Creve Coeur 63141 \n 
URL:https://aishstl.com/event/jewish-womens-society-coffee-schmooze-2-3-2/
LOCATION:Kohn’s Deli\, 10405 Old Olive Street Road\, Creve Coeur\, MO\, 63141\, United States
CATEGORIES:Adult Learning,Jewish Women's Society (JWS),Women Only
ORGANIZER;CN="Aish Hatorah of St. Louis":MAILTO:cgoldstein@aishstl.com
GEO:38.675859;-90.40869
X-APPLE-STRUCTURED-LOCATION;VALUE=URI;X-ADDRESS=Kohn’s Deli 10405 Old Olive Street Road Creve Coeur MO 63141 United States;X-APPLE-RADIUS=500;X-TITLE=10405 Old Olive Street Road:geo:-90.40869,38.675859
END:VEVENT
BEGIN:VEVENT
DTSTART;TZID=UTC:20181128T190000
DTEND;TZID=UTC:20181128T210000
DTSTAMP:20260422T093825
CREATED:20181102T212630Z
LAST-MODIFIED:20181123T231509Z
UID:10001569-1543431600-1543438800@aishstl.com
SUMMARY:Jewish Women's Society of St. Louis
DESCRIPTION:Come join Mimi David for Part 2 of “Lessons for Chanukah based on the writings of Chassidic Masters” at the Aish Firehouse 7 pm.  Suggested donation:  $10
URL:https://aishstl.com/event/jewish-womens-society-of-st-louis-2/
LOCATION:Aish Firehouse\, 457 N. Woods MIll Rd.\, Chesterfield\, MO\, 63107\, United States
CATEGORIES:Adult Learning,Community,Jewish Women's Society (JWS),Women Only
ORGANIZER;CN="Jewish Women's Society":MAILTO:cwolff@aish.com
GEO:38.6630859;-90.503598
X-APPLE-STRUCTURED-LOCATION;VALUE=URI;X-ADDRESS=Aish Firehouse 457 N. Woods MIll Rd. Chesterfield MO 63107 United States;X-APPLE-RADIUS=500;X-TITLE=457 N. Woods MIll Rd.:geo:-90.503598,38.6630859
END:VEVENT
BEGIN:VEVENT
DTSTART;TZID=UTC:20181126T203000
DTEND;TZID=UTC:20181126T213000
DTSTAMP:20260422T093825
CREATED:20181102T204619Z
LAST-MODIFIED:20181102T204619Z
UID:10001560-1543264200-1543267800@aishstl.com
SUMMARY:Jewish Women's Society -- Live Conference Call
DESCRIPTION:LIVE Conference Call — “Mama’s in Pajamas” with Mimi David \nDial in:  605-472-5814    Access Code: 126-753-373
URL:https://aishstl.com/event/jewish-womens-society-5-2-2/
LOCATION:Your home
CATEGORIES:Adult Learning,Community,Jewish Women's Society (JWS),Women Only
ORGANIZER;CN="Aish Hatorah of St. Louis":MAILTO:cgoldstein@aishstl.com
END:VEVENT
BEGIN:VEVENT
DTSTART;TZID=UTC:20181119T190000
DTEND;TZID=UTC:20181119T210000
DTSTAMP:20260422T093825
CREATED:20181102T212500Z
LAST-MODIFIED:20181117T011002Z
UID:10001568-1542654000-1542661200@aishstl.com
SUMMARY:Jewish Women's Society of St. Louis
DESCRIPTION:Come join Mimi David for a 2-part series — “Lessons for Chanukah based on the writings of Chassidic Masters” at the Aish Firehouse on Monday\, November 19th\, and Wednesday\, November 28th at 7 pm.  Cost:  $18 for 2 parts; $10 for 1 part
URL:https://aishstl.com/event/jewish-womens-society-of-st-louis/
LOCATION:Aish Firehouse\, 457 N. Woods MIll Rd.\, Chesterfield\, MO\, 63107\, United States
CATEGORIES:Adult Learning,Community,Jewish Women's Society (JWS),Women Only
ORGANIZER;CN="Jewish Women's Society":MAILTO:cwolff@aish.com
GEO:38.6630859;-90.503598
X-APPLE-STRUCTURED-LOCATION;VALUE=URI;X-ADDRESS=Aish Firehouse 457 N. Woods MIll Rd. Chesterfield MO 63107 United States;X-APPLE-RADIUS=500;X-TITLE=457 N. Woods MIll Rd.:geo:-90.503598,38.6630859
END:VEVENT
BEGIN:VEVENT
DTSTART;TZID=UTC:20181107T090000
DTEND;TZID=UTC:20181107T100000
DTSTAMP:20260422T093825
CREATED:20181102T204958Z
LAST-MODIFIED:20181102T204958Z
UID:10001561-1541581200-1541584800@aishstl.com
SUMMARY:Jewish Women's Society Coffee & Schmooze
DESCRIPTION:COFFEE & SHMOOZE with Mimi David\nKohn’s Deli\, 10405 Old Olive Street Rd.\, Creve Coeur 63141 \n 
URL:https://aishstl.com/event/jewish-womens-society-coffee-schmooze-2-3/
LOCATION:Kohn’s Deli\, 10405 Old Olive Street Road\, Creve Coeur\, MO\, 63141\, United States
CATEGORIES:Adult Learning,Jewish Women's Society (JWS),Women Only
ORGANIZER;CN="Aish Hatorah of St. Louis":MAILTO:cgoldstein@aishstl.com
GEO:38.675859;-90.40869
X-APPLE-STRUCTURED-LOCATION;VALUE=URI;X-ADDRESS=Kohn’s Deli 10405 Old Olive Street Road Creve Coeur MO 63141 United States;X-APPLE-RADIUS=500;X-TITLE=10405 Old Olive Street Road:geo:-90.40869,38.675859
END:VEVENT
BEGIN:VEVENT
DTSTART;TZID=UTC:20181106T113000
DTEND;TZID=UTC:20181106T123000
DTSTAMP:20260422T093825
CREATED:20181102T210133Z
LAST-MODIFIED:20181102T210133Z
UID:10001563-1541503800-1541507400@aishstl.com
SUMMARY:Jewish Women Society's Lunch & Learn
DESCRIPTION:LUNCH & LEARN with Mimi David\nPirkei Avot “Be the Best You”\nCircle@Crown Cafe’\, 8350 Delcrest Drive\, University City 63124 \n 
URL:https://aishstl.com/event/jewish-women-societys-lunch-learn-with-mimi-david-2-2/
LOCATION:Circle@Crown Cafe`\, 8350 Delcrest Drive\, St. Louis\, MO\, 63124\, United States
CATEGORIES:Adult Learning,Jewish Women's Society (JWS),Women Only
ORGANIZER;CN="Aish Hatorah of St. Louis":MAILTO:cgoldstein@aishstl.com
GEO:38.6595414;-90.355332
X-APPLE-STRUCTURED-LOCATION;VALUE=URI;X-ADDRESS=Circle@Crown Cafe` 8350 Delcrest Drive St. Louis MO 63124 United States;X-APPLE-RADIUS=500;X-TITLE=8350 Delcrest Drive:geo:-90.355332,38.6595414
END:VEVENT
BEGIN:VEVENT
DTSTART;TZID=UTC:20181029T203000
DTEND;TZID=UTC:20181029T213000
DTSTAMP:20260422T093825
CREATED:20181005T225514Z
LAST-MODIFIED:20181025T213702Z
UID:10001553-1540845000-1540848600@aishstl.com
SUMMARY:Jewish Women's Society -- Live Conference Call
DESCRIPTION:LIVE Conference Call — “Mama’s in Pajamas” with Mimi David \nDial in:  605-472-5814    Access Code: 126-753-373
URL:https://aishstl.com/event/jewish-womens-society-5-2/
LOCATION:Your home
CATEGORIES:Adult Learning,Community,Jewish Women's Society (JWS),Women Only
ORGANIZER;CN="Aish Hatorah of St. Louis":MAILTO:cgoldstein@aishstl.com
END:VEVENT
BEGIN:VEVENT
DTSTART;TZID=UTC:20181025T090000
DTEND;TZID=UTC:20181025T100000
DTSTAMP:20260422T093825
CREATED:20181005T231020Z
LAST-MODIFIED:20181005T231020Z
UID:10001555-1540458000-1540461600@aishstl.com
SUMMARY:Jewish Women's Society Coffee & Schmooze
DESCRIPTION:COFFEE & SHMOOZE with Mimi David\nKohn’s Deli\, 10405 Old Olive Street Rd.\, Creve Coeur 63141 \n 
URL:https://aishstl.com/event/jewish-womens-society-coffee-schmooze-2-2/
LOCATION:Kohn’s Deli\, 10405 Old Olive Street Road\, Creve Coeur\, MO\, 63141\, United States
CATEGORIES:Adult Learning,Jewish Women's Society (JWS),Women Only
ORGANIZER;CN="Aish Hatorah of St. Louis":MAILTO:cgoldstein@aishstl.com
GEO:38.675859;-90.40869
X-APPLE-STRUCTURED-LOCATION;VALUE=URI;X-ADDRESS=Kohn’s Deli 10405 Old Olive Street Road Creve Coeur MO 63141 United States;X-APPLE-RADIUS=500;X-TITLE=10405 Old Olive Street Road:geo:-90.40869,38.675859
END:VEVENT
BEGIN:VEVENT
DTSTART;TZID=UTC:20181015T203000
DTEND;TZID=UTC:20181015T213000
DTSTAMP:20260422T093825
CREATED:20181005T225359Z
LAST-MODIFIED:20181005T230618Z
UID:10001552-1539635400-1539639000@aishstl.com
SUMMARY:Jewish Women's Society -- Live Conference Call
DESCRIPTION:Monday\, October 15th\, at 8:30 p.m.    \nLIVE Conference Call — “Mama’s in Pajamas” \nDial in:  605-472-5814    Access Code: 126-753-373
URL:https://aishstl.com/event/jewish-womens-society-5/
LOCATION:Your home
CATEGORIES:Adult Learning,Community,Jewish Women's Society (JWS),Women Only
ORGANIZER;CN="Aish Hatorah of St. Louis":MAILTO:cgoldstein@aishstl.com
END:VEVENT
BEGIN:VEVENT
DTSTART;TZID=UTC:20181010T190000
DTEND;TZID=UTC:20181010T210000
DTSTAMP:20260422T093825
CREATED:20181005T225041Z
LAST-MODIFIED:20181005T225041Z
UID:10001551-1539198000-1539205200@aishstl.com
SUMMARY:Jewish Women's Society -- Informational meeting for 2019 Women's Israel Trip
DESCRIPTION:Join Mimi David for a Women’s Israel Trip informational meeting.  Trip dates are from March 4 – 10\, 2019.  Ideal for alumni and those who don’t qualify for the JWRP trip.
URL:https://aishstl.com/event/jewish-womens-society-informational-meeting-for-2019-womens-israel-trip/
LOCATION:Aish Firehouse\, 457 N. Woods MIll Rd.\, Chesterfield\, MO\, 63107\, United States
CATEGORIES:Community,Israel trips,Jewish Women's Society (JWS),Women Only
ORGANIZER;CN="Aish Hatorah of St. Louis":MAILTO:cgoldstein@aishstl.com
GEO:38.6630859;-90.503598
X-APPLE-STRUCTURED-LOCATION;VALUE=URI;X-ADDRESS=Aish Firehouse 457 N. Woods MIll Rd. Chesterfield MO 63107 United States;X-APPLE-RADIUS=500;X-TITLE=457 N. Woods MIll Rd.:geo:-90.503598,38.6630859
END:VEVENT
BEGIN:VEVENT
DTSTART;TZID=UTC:20181010T090000
DTEND;TZID=UTC:20181010T100000
DTSTAMP:20260422T093825
CREATED:20181005T224515Z
LAST-MODIFIED:20181005T224515Z
UID:10001550-1539162000-1539165600@aishstl.com
SUMMARY:Jewish Women's Society Coffee & Schmooze
DESCRIPTION:COFFEE & SHMOOZE with Mimi David\nKohn’s Deli\, 10405 Old Olive Street Rd.\, Creve Coeur 63141 \n 
URL:https://aishstl.com/event/jewish-womens-society-coffee-schmooze-2/
LOCATION:Kohn’s Deli\, 10405 Old Olive Street Road\, Creve Coeur\, MO\, 63141\, United States
CATEGORIES:Adult Learning,Jewish Women's Society (JWS),Women Only
ORGANIZER;CN="Aish Hatorah of St. Louis":MAILTO:cgoldstein@aishstl.com
GEO:38.675859;-90.40869
X-APPLE-STRUCTURED-LOCATION;VALUE=URI;X-ADDRESS=Kohn’s Deli 10405 Old Olive Street Road Creve Coeur MO 63141 United States;X-APPLE-RADIUS=500;X-TITLE=10405 Old Olive Street Road:geo:-90.40869,38.675859
END:VEVENT
BEGIN:VEVENT
DTSTART;TZID=UTC:20181009T113000
DTEND;TZID=UTC:20181009T123000
DTSTAMP:20260422T093825
CREATED:20181005T224415Z
LAST-MODIFIED:20181005T224415Z
UID:10001549-1539084600-1539088200@aishstl.com
SUMMARY:Jewish Women Society's Lunch & Learn
DESCRIPTION:LUNCH & LEARN with Mimi David\nPirkei Avot “Be the Best You”\nCircle@Crown Cafe’\, 8350 Delcrest Drive\, University City 63124 \n 
URL:https://aishstl.com/event/jewish-women-societys-lunch-learn-with-mimi-david-2/
LOCATION:Circle@Crown Cafe`\, 8350 Delcrest Drive\, St. Louis\, MO\, 63124\, United States
CATEGORIES:Adult Learning,Jewish Women's Society (JWS),Women Only
ORGANIZER;CN="Aish Hatorah of St. Louis":MAILTO:cgoldstein@aishstl.com
GEO:38.6595414;-90.355332
X-APPLE-STRUCTURED-LOCATION;VALUE=URI;X-ADDRESS=Circle@Crown Cafe` 8350 Delcrest Drive St. Louis MO 63124 United States;X-APPLE-RADIUS=500;X-TITLE=8350 Delcrest Drive:geo:-90.355332,38.6595414
END:VEVENT
END:VCALENDAR